BEGIN:VCALENDAR
VERSION:2.0
PRODID:-//Cento incroci - ECPv6.8.3//NONSGML v1.0//EN
CALSCALE:GREGORIAN
METHOD:PUBLISH
X-WR-CALNAME:Cento incroci
X-ORIGINAL-URL:https://centoincroci.regione.lazio.it
X-WR-CALDESC:Eventi per Cento incroci
REFRESH-INTERVAL;VALUE=DURATION:PT1H
X-Robots-Tag:noindex
X-PUBLISHED-TTL:PT1H
BEGIN:VTIMEZONE
TZID:Europe/Rome
BEGIN:DAYLIGHT
TZOFFSETFROM:+0100
TZOFFSETTO:+0200
TZNAME:CEST
DTSTART:20260329T010000
END:DAYLIGHT
BEGIN:STANDARD
TZOFFSETFROM:+0200
TZOFFSETTO:+0100
TZNAME:CET
DTSTART:20261025T010000
END:STANDARD
BEGIN:DAYLIGHT
TZOFFSETFROM:+0100
TZOFFSETTO:+0200
TZNAME:CEST
DTSTART:20270328T010000
END:DAYLIGHT
BEGIN:STANDARD
TZOFFSETFROM:+0200
TZOFFSETTO:+0100
TZNAME:CET
DTSTART:20271031T010000
END:STANDARD
END:VTIMEZONE
BEGIN:VEVENT
DTSTART;TZID=Europe/Rome:20261005T180000
DTEND;TZID=Europe/Rome:20261005T200000
DTSTAMP:20260419T180043
CREATED:20260130T124512Z
LAST-MODIFIED:20260130T124618Z
UID:10002593-1791223200-1791230400@centoincroci.regione.lazio.it
SUMMARY:Laboratorio di lettura poetica
DESCRIPTION:Ogni lunedì dalle ore 18.30 alle ore 20 Cento Incroci ospita un Laboratorio di lettura poetica. Uno spazio creativo\, dove i partecipanti possono esplorare la poesia\, condividendo la loro passione\nLaboratorio gratuito\, previa prenotazione. \nPrenotazioni tramite telefono al numero 3665616955
URL:https://centoincroci.regione.lazio.it/evento/laboratorio-di-lettura-poetica-51-2/2026-10-05/
CATEGORIES:I Laboratori
ATTACH;FMTTYPE=image/jpeg:https://centoincroci.regione.lazio.it/app/uploads/2024/07/5ba7b5ed7357e236133832524f8fc5.jpg
END:VEVENT
BEGIN:VEVENT
DTSTART;TZID=Europe/Rome:20261012T180000
DTEND;TZID=Europe/Rome:20261012T200000
DTSTAMP:20260419T180043
CREATED:20260130T124512Z
LAST-MODIFIED:20260130T124618Z
UID:10002594-1791828000-1791835200@centoincroci.regione.lazio.it
SUMMARY:Laboratorio di lettura poetica
DESCRIPTION:Ogni lunedì dalle ore 18.30 alle ore 20 Cento Incroci ospita un Laboratorio di lettura poetica. Uno spazio creativo\, dove i partecipanti possono esplorare la poesia\, condividendo la loro passione\nLaboratorio gratuito\, previa prenotazione. \nPrenotazioni tramite telefono al numero 3665616955
URL:https://centoincroci.regione.lazio.it/evento/laboratorio-di-lettura-poetica-51-2/2026-10-12/
CATEGORIES:I Laboratori
ATTACH;FMTTYPE=image/jpeg:https://centoincroci.regione.lazio.it/app/uploads/2024/07/5ba7b5ed7357e236133832524f8fc5.jpg
END:VEVENT
BEGIN:VEVENT
DTSTART;TZID=Europe/Rome:20261019T180000
DTEND;TZID=Europe/Rome:20261019T200000
DTSTAMP:20260419T180043
CREATED:20260130T124512Z
LAST-MODIFIED:20260130T124618Z
UID:10002595-1792432800-1792440000@centoincroci.regione.lazio.it
SUMMARY:Laboratorio di lettura poetica
DESCRIPTION:Ogni lunedì dalle ore 18.30 alle ore 20 Cento Incroci ospita un Laboratorio di lettura poetica. Uno spazio creativo\, dove i partecipanti possono esplorare la poesia\, condividendo la loro passione\nLaboratorio gratuito\, previa prenotazione. \nPrenotazioni tramite telefono al numero 3665616955
URL:https://centoincroci.regione.lazio.it/evento/laboratorio-di-lettura-poetica-51-2/2026-10-19/
CATEGORIES:I Laboratori
ATTACH;FMTTYPE=image/jpeg:https://centoincroci.regione.lazio.it/app/uploads/2024/07/5ba7b5ed7357e236133832524f8fc5.jpg
END:VEVENT
BEGIN:VEVENT
DTSTART;TZID=Europe/Rome:20261026T180000
DTEND;TZID=Europe/Rome:20261026T200000
DTSTAMP:20260419T180043
CREATED:20260130T124512Z
LAST-MODIFIED:20260130T124618Z
UID:10002596-1793037600-1793044800@centoincroci.regione.lazio.it
SUMMARY:Laboratorio di lettura poetica
DESCRIPTION:Ogni lunedì dalle ore 18.30 alle ore 20 Cento Incroci ospita un Laboratorio di lettura poetica. Uno spazio creativo\, dove i partecipanti possono esplorare la poesia\, condividendo la loro passione\nLaboratorio gratuito\, previa prenotazione. \nPrenotazioni tramite telefono al numero 3665616955
URL:https://centoincroci.regione.lazio.it/evento/laboratorio-di-lettura-poetica-51-2/2026-10-26/
CATEGORIES:I Laboratori
ATTACH;FMTTYPE=image/jpeg:https://centoincroci.regione.lazio.it/app/uploads/2024/07/5ba7b5ed7357e236133832524f8fc5.jpg
END:VEVENT
BEGIN:VEVENT
DTSTART;TZID=Europe/Rome:20261102T180000
DTEND;TZID=Europe/Rome:20261102T200000
DTSTAMP:20260419T180043
CREATED:20260130T124512Z
LAST-MODIFIED:20260130T124618Z
UID:10002597-1793642400-1793649600@centoincroci.regione.lazio.it
SUMMARY:Laboratorio di lettura poetica
DESCRIPTION:Ogni lunedì dalle ore 18.30 alle ore 20 Cento Incroci ospita un Laboratorio di lettura poetica. Uno spazio creativo\, dove i partecipanti possono esplorare la poesia\, condividendo la loro passione\nLaboratorio gratuito\, previa prenotazione. \nPrenotazioni tramite telefono al numero 3665616955
URL:https://centoincroci.regione.lazio.it/evento/laboratorio-di-lettura-poetica-51-2/2026-11-02/
CATEGORIES:I Laboratori
ATTACH;FMTTYPE=image/jpeg:https://centoincroci.regione.lazio.it/app/uploads/2024/07/5ba7b5ed7357e236133832524f8fc5.jpg
END:VEVENT
BEGIN:VEVENT
DTSTART;TZID=Europe/Rome:20261109T180000
DTEND;TZID=Europe/Rome:20261109T200000
DTSTAMP:20260419T180043
CREATED:20260130T124512Z
LAST-MODIFIED:20260130T124618Z
UID:10002598-1794247200-1794254400@centoincroci.regione.lazio.it
SUMMARY:Laboratorio di lettura poetica
DESCRIPTION:Ogni lunedì dalle ore 18.30 alle ore 20 Cento Incroci ospita un Laboratorio di lettura poetica. Uno spazio creativo\, dove i partecipanti possono esplorare la poesia\, condividendo la loro passione\nLaboratorio gratuito\, previa prenotazione. \nPrenotazioni tramite telefono al numero 3665616955
URL:https://centoincroci.regione.lazio.it/evento/laboratorio-di-lettura-poetica-51-2/2026-11-09/
CATEGORIES:I Laboratori
ATTACH;FMTTYPE=image/jpeg:https://centoincroci.regione.lazio.it/app/uploads/2024/07/5ba7b5ed7357e236133832524f8fc5.jpg
END:VEVENT
BEGIN:VEVENT
DTSTART;TZID=Europe/Rome:20261116T180000
DTEND;TZID=Europe/Rome:20261116T200000
DTSTAMP:20260419T180043
CREATED:20260130T124512Z
LAST-MODIFIED:20260130T124618Z
UID:10002599-1794852000-1794859200@centoincroci.regione.lazio.it
SUMMARY:Laboratorio di lettura poetica
DESCRIPTION:Ogni lunedì dalle ore 18.30 alle ore 20 Cento Incroci ospita un Laboratorio di lettura poetica. Uno spazio creativo\, dove i partecipanti possono esplorare la poesia\, condividendo la loro passione\nLaboratorio gratuito\, previa prenotazione. \nPrenotazioni tramite telefono al numero 3665616955
URL:https://centoincroci.regione.lazio.it/evento/laboratorio-di-lettura-poetica-51-2/2026-11-16/
CATEGORIES:I Laboratori
ATTACH;FMTTYPE=image/jpeg:https://centoincroci.regione.lazio.it/app/uploads/2024/07/5ba7b5ed7357e236133832524f8fc5.jpg
END:VEVENT
BEGIN:VEVENT
DTSTART;TZID=Europe/Rome:20261123T180000
DTEND;TZID=Europe/Rome:20261123T200000
DTSTAMP:20260419T180043
CREATED:20260130T124512Z
LAST-MODIFIED:20260130T124618Z
UID:10002600-1795456800-1795464000@centoincroci.regione.lazio.it
SUMMARY:Laboratorio di lettura poetica
DESCRIPTION:Ogni lunedì dalle ore 18.30 alle ore 20 Cento Incroci ospita un Laboratorio di lettura poetica. Uno spazio creativo\, dove i partecipanti possono esplorare la poesia\, condividendo la loro passione\nLaboratorio gratuito\, previa prenotazione. \nPrenotazioni tramite telefono al numero 3665616955
URL:https://centoincroci.regione.lazio.it/evento/laboratorio-di-lettura-poetica-51-2/2026-11-23/
CATEGORIES:I Laboratori
ATTACH;FMTTYPE=image/jpeg:https://centoincroci.regione.lazio.it/app/uploads/2024/07/5ba7b5ed7357e236133832524f8fc5.jpg
END:VEVENT
BEGIN:VEVENT
DTSTART;TZID=Europe/Rome:20261130T180000
DTEND;TZID=Europe/Rome:20261130T200000
DTSTAMP:20260419T180043
CREATED:20260130T124512Z
LAST-MODIFIED:20260130T124618Z
UID:10002601-1796061600-1796068800@centoincroci.regione.lazio.it
SUMMARY:Laboratorio di lettura poetica
DESCRIPTION:Ogni lunedì dalle ore 18.30 alle ore 20 Cento Incroci ospita un Laboratorio di lettura poetica. Uno spazio creativo\, dove i partecipanti possono esplorare la poesia\, condividendo la loro passione\nLaboratorio gratuito\, previa prenotazione. \nPrenotazioni tramite telefono al numero 3665616955
URL:https://centoincroci.regione.lazio.it/evento/laboratorio-di-lettura-poetica-51-2/2026-11-30/
CATEGORIES:I Laboratori
ATTACH;FMTTYPE=image/jpeg:https://centoincroci.regione.lazio.it/app/uploads/2024/07/5ba7b5ed7357e236133832524f8fc5.jpg
END:VEVENT
BEGIN:VEVENT
DTSTART;TZID=Europe/Rome:20261207T180000
DTEND;TZID=Europe/Rome:20261207T200000
DTSTAMP:20260419T180043
CREATED:20260130T124512Z
LAST-MODIFIED:20260130T124618Z
UID:10002602-1796666400-1796673600@centoincroci.regione.lazio.it
SUMMARY:Laboratorio di lettura poetica
DESCRIPTION:Ogni lunedì dalle ore 18.30 alle ore 20 Cento Incroci ospita un Laboratorio di lettura poetica. Uno spazio creativo\, dove i partecipanti possono esplorare la poesia\, condividendo la loro passione\nLaboratorio gratuito\, previa prenotazione. \nPrenotazioni tramite telefono al numero 3665616955
URL:https://centoincroci.regione.lazio.it/evento/laboratorio-di-lettura-poetica-51-2/2026-12-07/
CATEGORIES:I Laboratori
ATTACH;FMTTYPE=image/jpeg:https://centoincroci.regione.lazio.it/app/uploads/2024/07/5ba7b5ed7357e236133832524f8fc5.jpg
END:VEVENT
BEGIN:VEVENT
DTSTART;TZID=Europe/Rome:20261214T180000
DTEND;TZID=Europe/Rome:20261214T200000
DTSTAMP:20260419T180043
CREATED:20260130T124512Z
LAST-MODIFIED:20260130T124618Z
UID:10002603-1797271200-1797278400@centoincroci.regione.lazio.it
SUMMARY:Laboratorio di lettura poetica
DESCRIPTION:Ogni lunedì dalle ore 18.30 alle ore 20 Cento Incroci ospita un Laboratorio di lettura poetica. Uno spazio creativo\, dove i partecipanti possono esplorare la poesia\, condividendo la loro passione\nLaboratorio gratuito\, previa prenotazione. \nPrenotazioni tramite telefono al numero 3665616955
URL:https://centoincroci.regione.lazio.it/evento/laboratorio-di-lettura-poetica-51-2/2026-12-14/
CATEGORIES:I Laboratori
ATTACH;FMTTYPE=image/jpeg:https://centoincroci.regione.lazio.it/app/uploads/2024/07/5ba7b5ed7357e236133832524f8fc5.jpg
END:VEVENT
BEGIN:VEVENT
DTSTART;TZID=Europe/Rome:20261221T180000
DTEND;TZID=Europe/Rome:20261221T200000
DTSTAMP:20260419T180043
CREATED:20260130T124512Z
LAST-MODIFIED:20260130T124618Z
UID:10002604-1797876000-1797883200@centoincroci.regione.lazio.it
SUMMARY:Laboratorio di lettura poetica
DESCRIPTION:Ogni lunedì dalle ore 18.30 alle ore 20 Cento Incroci ospita un Laboratorio di lettura poetica. Uno spazio creativo\, dove i partecipanti possono esplorare la poesia\, condividendo la loro passione\nLaboratorio gratuito\, previa prenotazione. \nPrenotazioni tramite telefono al numero 3665616955
URL:https://centoincroci.regione.lazio.it/evento/laboratorio-di-lettura-poetica-51-2/2026-12-21/
CATEGORIES:I Laboratori
ATTACH;FMTTYPE=image/jpeg:https://centoincroci.regione.lazio.it/app/uploads/2024/07/5ba7b5ed7357e236133832524f8fc5.jpg
END:VEVENT
BEGIN:VEVENT
DTSTART;TZID=Europe/Rome:20261228T180000
DTEND;TZID=Europe/Rome:20261228T200000
DTSTAMP:20260419T180043
CREATED:20260130T124512Z
LAST-MODIFIED:20260130T124618Z
UID:10002605-1798480800-1798488000@centoincroci.regione.lazio.it
SUMMARY:Laboratorio di lettura poetica
DESCRIPTION:Ogni lunedì dalle ore 18.30 alle ore 20 Cento Incroci ospita un Laboratorio di lettura poetica. Uno spazio creativo\, dove i partecipanti possono esplorare la poesia\, condividendo la loro passione\nLaboratorio gratuito\, previa prenotazione. \nPrenotazioni tramite telefono al numero 3665616955
URL:https://centoincroci.regione.lazio.it/evento/laboratorio-di-lettura-poetica-51-2/2026-12-28/
CATEGORIES:I Laboratori
ATTACH;FMTTYPE=image/jpeg:https://centoincroci.regione.lazio.it/app/uploads/2024/07/5ba7b5ed7357e236133832524f8fc5.jpg
END:VEVENT
BEGIN:VEVENT
DTSTART;TZID=Europe/Rome:20270104T180000
DTEND;TZID=Europe/Rome:20270104T200000
DTSTAMP:20260419T180043
CREATED:20260130T124512Z
LAST-MODIFIED:20260130T124618Z
UID:10002606-1799085600-1799092800@centoincroci.regione.lazio.it
SUMMARY:Laboratorio di lettura poetica
DESCRIPTION:Ogni lunedì dalle ore 18.30 alle ore 20 Cento Incroci ospita un Laboratorio di lettura poetica. Uno spazio creativo\, dove i partecipanti possono esplorare la poesia\, condividendo la loro passione\nLaboratorio gratuito\, previa prenotazione. \nPrenotazioni tramite telefono al numero 3665616955
URL:https://centoincroci.regione.lazio.it/evento/laboratorio-di-lettura-poetica-51-2/2027-01-04/
CATEGORIES:I Laboratori
ATTACH;FMTTYPE=image/jpeg:https://centoincroci.regione.lazio.it/app/uploads/2024/07/5ba7b5ed7357e236133832524f8fc5.jpg
END:VEVENT
BEGIN:VEVENT
DTSTART;TZID=Europe/Rome:20270111T180000
DTEND;TZID=Europe/Rome:20270111T200000
DTSTAMP:20260419T180043
CREATED:20260130T124512Z
LAST-MODIFIED:20260130T124618Z
UID:10002607-1799690400-1799697600@centoincroci.regione.lazio.it
SUMMARY:Laboratorio di lettura poetica
DESCRIPTION:Ogni lunedì dalle ore 18.30 alle ore 20 Cento Incroci ospita un Laboratorio di lettura poetica. Uno spazio creativo\, dove i partecipanti possono esplorare la poesia\, condividendo la loro passione\nLaboratorio gratuito\, previa prenotazione. \nPrenotazioni tramite telefono al numero 3665616955
URL:https://centoincroci.regione.lazio.it/evento/laboratorio-di-lettura-poetica-51-2/2027-01-11/
CATEGORIES:I Laboratori
ATTACH;FMTTYPE=image/jpeg:https://centoincroci.regione.lazio.it/app/uploads/2024/07/5ba7b5ed7357e236133832524f8fc5.jpg
END:VEVENT
BEGIN:VEVENT
DTSTART;TZID=Europe/Rome:20270118T180000
DTEND;TZID=Europe/Rome:20270118T200000
DTSTAMP:20260419T180043
CREATED:20260130T124512Z
LAST-MODIFIED:20260130T124618Z
UID:10002608-1800295200-1800302400@centoincroci.regione.lazio.it
SUMMARY:Laboratorio di lettura poetica
DESCRIPTION:Ogni lunedì dalle ore 18.30 alle ore 20 Cento Incroci ospita un Laboratorio di lettura poetica. Uno spazio creativo\, dove i partecipanti possono esplorare la poesia\, condividendo la loro passione\nLaboratorio gratuito\, previa prenotazione. \nPrenotazioni tramite telefono al numero 3665616955
URL:https://centoincroci.regione.lazio.it/evento/laboratorio-di-lettura-poetica-51-2/2027-01-18/
CATEGORIES:I Laboratori
ATTACH;FMTTYPE=image/jpeg:https://centoincroci.regione.lazio.it/app/uploads/2024/07/5ba7b5ed7357e236133832524f8fc5.jpg
END:VEVENT
BEGIN:VEVENT
DTSTART;TZID=Europe/Rome:20270125T180000
DTEND;TZID=Europe/Rome:20270125T200000
DTSTAMP:20260419T180043
CREATED:20260130T124512Z
LAST-MODIFIED:20260130T124618Z
UID:10002609-1800900000-1800907200@centoincroci.regione.lazio.it
SUMMARY:Laboratorio di lettura poetica
DESCRIPTION:Ogni lunedì dalle ore 18.30 alle ore 20 Cento Incroci ospita un Laboratorio di lettura poetica. Uno spazio creativo\, dove i partecipanti possono esplorare la poesia\, condividendo la loro passione\nLaboratorio gratuito\, previa prenotazione. \nPrenotazioni tramite telefono al numero 3665616955
URL:https://centoincroci.regione.lazio.it/evento/laboratorio-di-lettura-poetica-51-2/2027-01-25/
CATEGORIES:I Laboratori
ATTACH;FMTTYPE=image/jpeg:https://centoincroci.regione.lazio.it/app/uploads/2024/07/5ba7b5ed7357e236133832524f8fc5.jpg
END:VEVENT
BEGIN:VEVENT
DTSTART;TZID=Europe/Rome:20270201T180000
DTEND;TZID=Europe/Rome:20270201T200000
DTSTAMP:20260419T180043
CREATED:20260130T124512Z
LAST-MODIFIED:20260130T124618Z
UID:10002610-1801504800-1801512000@centoincroci.regione.lazio.it
SUMMARY:Laboratorio di lettura poetica
DESCRIPTION:Ogni lunedì dalle ore 18.30 alle ore 20 Cento Incroci ospita un Laboratorio di lettura poetica. Uno spazio creativo\, dove i partecipanti possono esplorare la poesia\, condividendo la loro passione\nLaboratorio gratuito\, previa prenotazione. \nPrenotazioni tramite telefono al numero 3665616955
URL:https://centoincroci.regione.lazio.it/evento/laboratorio-di-lettura-poetica-51-2/2027-02-01/
CATEGORIES:I Laboratori
ATTACH;FMTTYPE=image/jpeg:https://centoincroci.regione.lazio.it/app/uploads/2024/07/5ba7b5ed7357e236133832524f8fc5.jpg
END:VEVENT
BEGIN:VEVENT
DTSTART;TZID=Europe/Rome:20270208T180000
DTEND;TZID=Europe/Rome:20270208T200000
DTSTAMP:20260419T180043
CREATED:20260130T124512Z
LAST-MODIFIED:20260130T124618Z
UID:10002611-1802109600-1802116800@centoincroci.regione.lazio.it
SUMMARY:Laboratorio di lettura poetica
DESCRIPTION:Ogni lunedì dalle ore 18.30 alle ore 20 Cento Incroci ospita un Laboratorio di lettura poetica. Uno spazio creativo\, dove i partecipanti possono esplorare la poesia\, condividendo la loro passione\nLaboratorio gratuito\, previa prenotazione. \nPrenotazioni tramite telefono al numero 3665616955
URL:https://centoincroci.regione.lazio.it/evento/laboratorio-di-lettura-poetica-51-2/2027-02-08/
CATEGORIES:I Laboratori
ATTACH;FMTTYPE=image/jpeg:https://centoincroci.regione.lazio.it/app/uploads/2024/07/5ba7b5ed7357e236133832524f8fc5.jpg
END:VEVENT
BEGIN:VEVENT
DTSTART;TZID=Europe/Rome:20270215T180000
DTEND;TZID=Europe/Rome:20270215T200000
DTSTAMP:20260419T180043
CREATED:20260130T124512Z
LAST-MODIFIED:20260130T124618Z
UID:10002612-1802714400-1802721600@centoincroci.regione.lazio.it
SUMMARY:Laboratorio di lettura poetica
DESCRIPTION:Ogni lunedì dalle ore 18.30 alle ore 20 Cento Incroci ospita un Laboratorio di lettura poetica. Uno spazio creativo\, dove i partecipanti possono esplorare la poesia\, condividendo la loro passione\nLaboratorio gratuito\, previa prenotazione. \nPrenotazioni tramite telefono al numero 3665616955
URL:https://centoincroci.regione.lazio.it/evento/laboratorio-di-lettura-poetica-51-2/2027-02-15/
CATEGORIES:I Laboratori
ATTACH;FMTTYPE=image/jpeg:https://centoincroci.regione.lazio.it/app/uploads/2024/07/5ba7b5ed7357e236133832524f8fc5.jpg
END:VEVENT
BEGIN:VEVENT
DTSTART;TZID=Europe/Rome:20270222T180000
DTEND;TZID=Europe/Rome:20270222T200000
DTSTAMP:20260419T180043
CREATED:20260130T124512Z
LAST-MODIFIED:20260130T124618Z
UID:10002613-1803319200-1803326400@centoincroci.regione.lazio.it
SUMMARY:Laboratorio di lettura poetica
DESCRIPTION:Ogni lunedì dalle ore 18.30 alle ore 20 Cento Incroci ospita un Laboratorio di lettura poetica. Uno spazio creativo\, dove i partecipanti possono esplorare la poesia\, condividendo la loro passione\nLaboratorio gratuito\, previa prenotazione. \nPrenotazioni tramite telefono al numero 3665616955
URL:https://centoincroci.regione.lazio.it/evento/laboratorio-di-lettura-poetica-51-2/2027-02-22/
CATEGORIES:I Laboratori
ATTACH;FMTTYPE=image/jpeg:https://centoincroci.regione.lazio.it/app/uploads/2024/07/5ba7b5ed7357e236133832524f8fc5.jpg
END:VEVENT
END:VCALENDAR