BEGIN:VCALENDAR
VERSION:2.0
PRODID:-//Cento incroci - ECPv6.8.3//NONSGML v1.0//EN
CALSCALE:GREGORIAN
METHOD:PUBLISH
X-WR-CALNAME:Cento incroci
X-ORIGINAL-URL:https://centoincroci.regione.lazio.it
X-WR-CALDESC:Eventi per Cento incroci
REFRESH-INTERVAL;VALUE=DURATION:PT1H
X-Robots-Tag:noindex
X-PUBLISHED-TTL:PT1H
BEGIN:VTIMEZONE
TZID:Europe/Rome
BEGIN:DAYLIGHT
TZOFFSETFROM:+0100
TZOFFSETTO:+0200
TZNAME:CEST
DTSTART:20240331T010000
END:DAYLIGHT
BEGIN:STANDARD
TZOFFSETFROM:+0200
TZOFFSETTO:+0100
TZNAME:CET
DTSTART:20241027T010000
END:STANDARD
END:VTIMEZONE
BEGIN:VEVENT
DTSTART;TZID=Europe/Rome:20241003T180000
DTEND;TZID=Europe/Rome:20241003T193000
DTSTAMP:20260422T030246
CREATED:20240917T074734Z
LAST-MODIFIED:20240917T074734Z
UID:10000853-1727978400-1727983800@centoincroci.regione.lazio.it
SUMMARY:Sessioni gratuite di inglese presso Cento Incroci
DESCRIPTION:Hai difficoltà a sentirti sicuro durante le conversazioni in inglese? Hai bisogno di migliorare le tue competenze linguistiche per esami\, colloqui di lavoro o semplicemente per comunicare in modo più naturale? Cento Incroci a Roma\, nel quartiere Centocelle\, ti offre una grande opportunità! \nIl 3 e 17 ottobre 2023\, dalle 18:00 alle 19:30\, si terranno due sessioni gratuite di inglese\, dove potrai praticare la conversazione\, risolvere dubbi e ricevere supporto personalizzato. Si tratta di un’occasione perfetta per chiarire quegli aspetti della lingua che ti creano difficoltà e per migliorare la tua fluidità in un ambiente rilassato e amichevole. \nLe sessioni sono organizzate da CTM Alternative di Alessandra Bianca\, specializzata in consulenza e formazione. Per maggiori informazioni e prenotazioni\, puoi contattare Alex al numero 334 283 7934. \nNon perdere l’opportunità di perfezionare il tuo inglese e affrontare con sicurezza le tue sfide linguistiche! \nDove: Cento Incroci\, Roma\nQuando: 3 e 17 ottobre 2023\, ore 18:00-19:30\nContatto: Alex – 334 283 7934
URL:https://centoincroci.regione.lazio.it/evento/sessioni-gratuite-di-inglese-presso-cento-incroci/
CATEGORIES:I Laboratori
ATTACH;FMTTYPE=image/jpeg:https://centoincroci.regione.lazio.it/app/uploads/2024/09/IMG-20240913-WA0053.jpg
END:VEVENT
BEGIN:VEVENT
DTSTART;TZID=Europe/Rome:20240930T180000
DTEND;TZID=Europe/Rome:20240930T200000
DTSTAMP:20260422T030246
CREATED:20240909T121325Z
LAST-MODIFIED:20240909T121325Z
UID:10000851-1727719200-1727726400@centoincroci.regione.lazio.it
SUMMARY:Laboratorio di lettura poetica
DESCRIPTION:Ogni lunedì dalle ore 18 alle ore 20 Cento Incroci ospita un Laboratorio di lettura poetica. \nPrenotazioni tramite telefono o whatsapp al numero 3665616955
URL:https://centoincroci.regione.lazio.it/evento/laboratorio-di-lettura-poetica-41/
CATEGORIES:Leggiamo insieme
ATTACH;FMTTYPE=image/jpeg:https://centoincroci.regione.lazio.it/app/uploads/2024/07/5ba7b5ed7357e236133832524f8fc5.jpg
END:VEVENT
BEGIN:VEVENT
DTSTART;TZID=Europe/Rome:20240923T180000
DTEND;TZID=Europe/Rome:20240923T200000
DTSTAMP:20260422T030246
CREATED:20240909T121237Z
LAST-MODIFIED:20240909T121238Z
UID:10000850-1727114400-1727121600@centoincroci.regione.lazio.it
SUMMARY:Laboratorio di lettura poetica
DESCRIPTION:Riprendono il 23 settembre gli incontri del laboratorio di poesia. Ogni lunedì dalle ore 18 alle ore 20. \nPrenotazioni tramite telefono o whatsapp al numero 3665616955
URL:https://centoincroci.regione.lazio.it/evento/laboratorio-di-lettura-poetica-40/
CATEGORIES:Leggiamo insieme
ATTACH;FMTTYPE=image/jpeg:https://centoincroci.regione.lazio.it/app/uploads/2024/07/5ba7b5ed7357e236133832524f8fc5.jpg
END:VEVENT
BEGIN:VEVENT
DTSTART;VALUE=DATE:20240909
DTEND;VALUE=DATE:20240910
DTSTAMP:20260422T030246
CREATED:20240909T081423Z
LAST-MODIFIED:20240909T081707Z
UID:10000849-1725840000-1725926399@centoincroci.regione.lazio.it
SUMMARY:Apertura sabato e domenica
DESCRIPTION:Dopo la pausa estiva Cento Incroci resterà nuovamente aperto anche ogni sabato e domenica dalle ore 9 alle ore 20
URL:https://centoincroci.regione.lazio.it/evento/apertura-sabato-e-domenica/
CATEGORIES:I Laboratori
ATTACH;FMTTYPE=image/jpeg:https://centoincroci.regione.lazio.it/app/uploads/2024/04/339737201_1384829545390398_5164164649820751090_n.jpg
END:VEVENT
BEGIN:VEVENT
DTSTART;VALUE=DATE:20240831
DTEND;VALUE=DATE:20240901
DTSTAMP:20260422T030246
CREATED:20240801T112841Z
LAST-MODIFIED:20240801T112841Z
UID:10000848-1725062400-1725148799@centoincroci.regione.lazio.it
SUMMARY:Chiusura estiva
DESCRIPTION:Si ricorda che ogni sabato e domenica del mese di agosto Cento Incroci resta chiuso per l’intera giornata
URL:https://centoincroci.regione.lazio.it/evento/chiusura-estiva-9/
CATEGORIES:Incontri
ATTACH;FMTTYPE=image/jpeg:https://centoincroci.regione.lazio.it/app/uploads/2024/04/339737201_1384829545390398_5164164649820751090_n.jpg
END:VEVENT
BEGIN:VEVENT
DTSTART;VALUE=DATE:20240825
DTEND;VALUE=DATE:20240826
DTSTAMP:20260422T030246
CREATED:20240801T112808Z
LAST-MODIFIED:20240801T112808Z
UID:10000847-1724544000-1724630399@centoincroci.regione.lazio.it
SUMMARY:Chiusura estiva
DESCRIPTION:Si ricorda che ogni sabato e domenica del mese di agosto Cento Incroci resta chiuso per l’intera giornata
URL:https://centoincroci.regione.lazio.it/evento/chiusura-estiva-8/
CATEGORIES:Incontri
ATTACH;FMTTYPE=image/jpeg:https://centoincroci.regione.lazio.it/app/uploads/2024/04/339737201_1384829545390398_5164164649820751090_n.jpg
END:VEVENT
BEGIN:VEVENT
DTSTART;VALUE=DATE:20240824
DTEND;VALUE=DATE:20240825
DTSTAMP:20260422T030246
CREATED:20240801T112743Z
LAST-MODIFIED:20240801T112744Z
UID:10000846-1724457600-1724543999@centoincroci.regione.lazio.it
SUMMARY:Chiusura estiva
DESCRIPTION:Si ricorda che ogni sabato e domenica del mese di agosto Cento Incroci resta chiuso per l’intera giornata
URL:https://centoincroci.regione.lazio.it/evento/chiusura-estiva-7/
CATEGORIES:Incontri
ATTACH;FMTTYPE=image/jpeg:https://centoincroci.regione.lazio.it/app/uploads/2024/04/339737201_1384829545390398_5164164649820751090_n.jpg
END:VEVENT
BEGIN:VEVENT
DTSTART;VALUE=DATE:20240818
DTEND;VALUE=DATE:20240819
DTSTAMP:20260422T030246
CREATED:20240801T112715Z
LAST-MODIFIED:20240801T112715Z
UID:10001075-1723939200-1724025599@centoincroci.regione.lazio.it
SUMMARY:Chiusura estiva
DESCRIPTION:Si ricorda che ogni sabato e domenica del mese di agosto Cento Incroci resta chiuso per l’intera giornata
URL:https://centoincroci.regione.lazio.it/evento/chiusura-estiva-6/
CATEGORIES:Incontri
ATTACH;FMTTYPE=image/jpeg:https://centoincroci.regione.lazio.it/app/uploads/2024/04/339737201_1384829545390398_5164164649820751090_n.jpg
END:VEVENT
BEGIN:VEVENT
DTSTART;VALUE=DATE:20240817
DTEND;VALUE=DATE:20240818
DTSTAMP:20260422T030246
CREATED:20240801T112459Z
LAST-MODIFIED:20240801T112652Z
UID:10001074-1723852800-1723939199@centoincroci.regione.lazio.it
SUMMARY:Chiusura estiva
DESCRIPTION:Si ricorda che ogni sabato e domenica del mese di agosto Cento Incroci resta chiuso per l’intera giornata
URL:https://centoincroci.regione.lazio.it/evento/chiusura-estiva-5/
CATEGORIES:Incontri
ATTACH;FMTTYPE=image/jpeg:https://centoincroci.regione.lazio.it/app/uploads/2024/04/339737201_1384829545390398_5164164649820751090_n.jpg
END:VEVENT
BEGIN:VEVENT
DTSTART;VALUE=DATE:20240811
DTEND;VALUE=DATE:20240812
DTSTAMP:20260422T030246
CREATED:20240801T112426Z
LAST-MODIFIED:20240801T112623Z
UID:10001073-1723334400-1723420799@centoincroci.regione.lazio.it
SUMMARY:Chiusura estiva
DESCRIPTION:Si ricorda che ogni sabato e domenica del mese di agosto Cento Incroci resta chiuso per l’intera giornata
URL:https://centoincroci.regione.lazio.it/evento/chiusura-estiva-4/
CATEGORIES:Incontri
ATTACH;FMTTYPE=image/jpeg:https://centoincroci.regione.lazio.it/app/uploads/2024/04/339737201_1384829545390398_5164164649820751090_n.jpg
END:VEVENT
BEGIN:VEVENT
DTSTART;VALUE=DATE:20240810
DTEND;VALUE=DATE:20240811
DTSTAMP:20260422T030246
CREATED:20240801T112358Z
LAST-MODIFIED:20240801T112611Z
UID:10001072-1723248000-1723334399@centoincroci.regione.lazio.it
SUMMARY:Chiusura estiva
DESCRIPTION:Si ricorda che ogni sabato e domenica del mese di agosto Cento Incroci resta chiuso per l’intera giornata
URL:https://centoincroci.regione.lazio.it/evento/chiusura-estiva-3/
ATTACH;FMTTYPE=image/jpeg:https://centoincroci.regione.lazio.it/app/uploads/2024/04/339737201_1384829545390398_5164164649820751090_n.jpg
END:VEVENT
BEGIN:VEVENT
DTSTART;TZID=Europe/Rome:20240805T180000
DTEND;TZID=Europe/Rome:20240805T200000
DTSTAMP:20260422T030246
CREATED:20240717T132348Z
LAST-MODIFIED:20240730T075810Z
UID:10001067-1722880800-1722888000@centoincroci.regione.lazio.it
SUMMARY:Laboratorio di lettura poetica
DESCRIPTION:Ultima lezione di agosto per il Laboratorio di lettura poetica\, dalle ore 18 alle ore 20. Le lezioni riprenderanno il 23 settembre. \nPrenotazioni tramite telefono o whatsapp al numero 3665616955
URL:https://centoincroci.regione.lazio.it/evento/laboratorio-di-lettura-poetica-39/
CATEGORIES:Leggiamo insieme
ATTACH;FMTTYPE=image/jpeg:https://centoincroci.regione.lazio.it/app/uploads/2024/07/5ba7b5ed7357e236133832524f8fc5.jpg
END:VEVENT
BEGIN:VEVENT
DTSTART;VALUE=DATE:20240804
DTEND;VALUE=DATE:20240805
DTSTAMP:20260422T030246
CREATED:20240801T112332Z
LAST-MODIFIED:20240801T112555Z
UID:10001071-1722729600-1722815999@centoincroci.regione.lazio.it
SUMMARY:Chiusura estiva
DESCRIPTION:Si ricorda che ogni sabato e domenica del mese di agosto Cento Incroci resta chiuso per l’intera giornata
URL:https://centoincroci.regione.lazio.it/evento/chiusura-estiva-2/
CATEGORIES:Incontri
ATTACH;FMTTYPE=image/jpeg:https://centoincroci.regione.lazio.it/app/uploads/2024/04/339737201_1384829545390398_5164164649820751090_n.jpg
END:VEVENT
BEGIN:VEVENT
DTSTART;VALUE=DATE:20240803
DTEND;VALUE=DATE:20240804
DTSTAMP:20260422T030246
CREATED:20240801T112242Z
LAST-MODIFIED:20240801T112520Z
UID:10001070-1722643200-1722729599@centoincroci.regione.lazio.it
SUMMARY:Chiusura estiva
DESCRIPTION:Si ricorda che ogni sabato e domenica del mese di agosto Cento Incroci resta chiuso per l’intera giornata
URL:https://centoincroci.regione.lazio.it/evento/chiusura-estiva/
CATEGORIES:Incontri
ATTACH;FMTTYPE=image/jpeg:https://centoincroci.regione.lazio.it/app/uploads/2024/04/339737201_1384829545390398_5164164649820751090_n.jpg
END:VEVENT
BEGIN:VEVENT
DTSTART;TZID=Europe/Rome:20240802T180000
DTEND;TZID=Europe/Rome:20240802T200000
DTSTAMP:20260422T030246
CREATED:20240729T125913Z
LAST-MODIFIED:20240729T125914Z
UID:10001069-1722621600-1722628800@centoincroci.regione.lazio.it
SUMMARY:CORSO DI ITALIANO PER STRANIERI
DESCRIPTION:Presso Centro Incroci dalle ore 18 alle ore 20 ogni venerdì si tiene un corso di italiano per stranieri. \nPer info e prenotazioni: 366 5616955
URL:https://centoincroci.regione.lazio.it/evento/corso-di-italiano-per-stranieri-18/
CATEGORIES:I Laboratori
ATTACH;FMTTYPE=image/jpeg:https://centoincroci.regione.lazio.it/app/uploads/2024/06/Corso-italiano-per-stranieri.jpg
END:VEVENT
BEGIN:VEVENT
DTSTART;TZID=Europe/Rome:20240731T150000
DTEND;TZID=Europe/Rome:20240731T160000
DTSTAMP:20260422T030246
CREATED:20240729T125800Z
LAST-MODIFIED:20240729T125800Z
UID:10001068-1722438000-1722441600@centoincroci.regione.lazio.it
SUMMARY:SPORTELLO DI ASCOLTO PSICOLOGICO
DESCRIPTION:Ultimo incontro prima della pausa estiva con lo Sportello di Ascolto psicologico gratuito\, mercoledì 31 luglio dalle ore 17 alle ore 18. Lo sportello è curato dall’Associazione Ce.R.F.\nPer info e prenotazioni contattare: Dott.ssa Ilaria Avincola 3420432209\nAssociazione Ce.R.F. 0631054515\nemail: associazionecerf@gmail.com
URL:https://centoincroci.regione.lazio.it/evento/sportello-di-ascolto-psicologico-19/
CATEGORIES:Gli Sportelli
ATTACH;FMTTYPE=image/jpeg:https://centoincroci.regione.lazio.it/app/uploads/2022/09/sportellopsicologico-foto.jpg
END:VEVENT
BEGIN:VEVENT
DTSTART;TZID=Europe/Rome:20240729T180000
DTEND;TZID=Europe/Rome:20240729T200000
DTSTAMP:20260422T030246
CREATED:20240717T132305Z
LAST-MODIFIED:20240717T132306Z
UID:10001066-1722276000-1722283200@centoincroci.regione.lazio.it
SUMMARY:Laboratorio di lettura poetica
DESCRIPTION:Ogni lunedì dalle ore 18 alle ore 20 Cento Incroci ospita un Laboratorio di lettura poetica. \nPrenotazioni tramite telefono o whatsapp al numero 3665616955
URL:https://centoincroci.regione.lazio.it/evento/laboratorio-di-lettura-poetica-38/
CATEGORIES:Leggiamo insieme
ATTACH;FMTTYPE=image/jpeg:https://centoincroci.regione.lazio.it/app/uploads/2024/07/5ba7b5ed7357e236133832524f8fc5.jpg
END:VEVENT
BEGIN:VEVENT
DTSTART;TZID=Europe/Rome:20240726T170000
DTEND;TZID=Europe/Rome:20240726T190000
DTSTAMP:20260422T030246
CREATED:20240611T055418Z
LAST-MODIFIED:20240611T055419Z
UID:10001064-1722013200-1722020400@centoincroci.regione.lazio.it
SUMMARY:Corso italiano per stranieri
DESCRIPTION:Ogni venerdì dalle ore 17 alle 19 Cento Incroci ospita un corso italiano per stranieri. \nPrenotazioni tramite telefono o whatsapp al numero 3665616955
URL:https://centoincroci.regione.lazio.it/evento/corso-italiano-per-stranieri-12/
CATEGORIES:I Laboratori
ATTACH;FMTTYPE=image/jpeg:https://centoincroci.regione.lazio.it/app/uploads/2024/06/Corso-italiano-per-stranieri.jpg
END:VEVENT
BEGIN:VEVENT
DTSTART;TZID=Europe/Rome:20240722T180000
DTEND;TZID=Europe/Rome:20240722T200000
DTSTAMP:20260422T030246
CREATED:20240717T131644Z
LAST-MODIFIED:20240717T131644Z
UID:10001065-1721671200-1721678400@centoincroci.regione.lazio.it
SUMMARY:Laboratorio di lettura poetica
DESCRIPTION:Ogni lunedì dalle ore 18 alle ore 20 Cento Incroci ospita un Laboratorio di lettura poetica. \nPrenotazioni tramite telefono o whatsapp al numero 3665616955
URL:https://centoincroci.regione.lazio.it/evento/laboratorio-di-lettura-poetica-37/
CATEGORIES:Leggiamo insieme
ATTACH;FMTTYPE=image/jpeg:https://centoincroci.regione.lazio.it/app/uploads/2022/09/incontriottobre-foto.jpg
END:VEVENT
BEGIN:VEVENT
DTSTART;TZID=Europe/Rome:20240719T170000
DTEND;TZID=Europe/Rome:20240719T190000
DTSTAMP:20260422T030246
CREATED:20240611T055335Z
LAST-MODIFIED:20240611T055336Z
UID:10000845-1721408400-1721415600@centoincroci.regione.lazio.it
SUMMARY:Corso italiano per stranieri
DESCRIPTION:Ogni venerdì dalle ore 17 alle 19 Cento Incroci ospita un corso italiano per stranieri. \nPrenotazioni tramite telefono o whatsapp al numero 3665616955
URL:https://centoincroci.regione.lazio.it/evento/corso-italiano-per-stranieri-11/
CATEGORIES:I Laboratori
ATTACH;FMTTYPE=image/jpeg:https://centoincroci.regione.lazio.it/app/uploads/2024/06/Corso-italiano-per-stranieri.jpg
END:VEVENT
BEGIN:VEVENT
DTSTART;TZID=Europe/Rome:20240712T170000
DTEND;TZID=Europe/Rome:20240712T190000
DTSTAMP:20260422T030246
CREATED:20240611T055250Z
LAST-MODIFIED:20240611T055251Z
UID:10000844-1720803600-1720810800@centoincroci.regione.lazio.it
SUMMARY:Corso italiano per stranieri
DESCRIPTION:Ogni venerdì dalle ore 17 alle 19 Cento Incroci ospita un corso italiano per stranieri. \nPrenotazioni tramite telefono o whatsapp al numero 3665616955
URL:https://centoincroci.regione.lazio.it/evento/corso-italiano-per-stranieri-10/
CATEGORIES:I Laboratori
ATTACH;FMTTYPE=image/jpeg:https://centoincroci.regione.lazio.it/app/uploads/2024/06/Corso-italiano-per-stranieri.jpg
END:VEVENT
BEGIN:VEVENT
DTSTART;TZID=Europe/Rome:20240705T170000
DTEND;TZID=Europe/Rome:20240705T190000
DTSTAMP:20260422T030246
CREATED:20240611T055200Z
LAST-MODIFIED:20240611T055202Z
UID:10000843-1720198800-1720206000@centoincroci.regione.lazio.it
SUMMARY:Corso italiano per stranieri
DESCRIPTION:Ogni venerdì dalle ore 17 alle 19 Cento Incroci ospita un corso italiano per stranieri. \nPrenotazioni tramite telefono o whatsapp al numero 3665616955
URL:https://centoincroci.regione.lazio.it/evento/corso-italiano-per-stranieri-9/
CATEGORIES:I Laboratori
ATTACH;FMTTYPE=image/jpeg:https://centoincroci.regione.lazio.it/app/uploads/2024/06/Corso-italiano-per-stranieri.jpg
END:VEVENT
BEGIN:VEVENT
DTSTART;TZID=Europe/Rome:20240628T170000
DTEND;TZID=Europe/Rome:20240628T190000
DTSTAMP:20260422T030246
CREATED:20240605T114725Z
LAST-MODIFIED:20240611T053417Z
UID:10001063-1719594000-1719601200@centoincroci.regione.lazio.it
SUMMARY:Corso italiano per stranieri
DESCRIPTION:Ogni venerdì dalle ore 17 alle 19 Cento Incroci ospita un corso italiano per stranieri. \nPrenotazioni tramite telefono o whatsapp al numero 3665616955
URL:https://centoincroci.regione.lazio.it/evento/corso-italiano-per-stranieri-8/
CATEGORIES:I Laboratori
ATTACH;FMTTYPE=image/jpeg:https://centoincroci.regione.lazio.it/app/uploads/2022/06/italiano.jpg
END:VEVENT
BEGIN:VEVENT
DTSTART;TZID=Europe/Rome:20240627T180000
DTEND;TZID=Europe/Rome:20240627T200000
DTSTAMP:20260422T030246
CREATED:20240605T115832Z
LAST-MODIFIED:20240605T115833Z
UID:10000839-1719511200-1719518400@centoincroci.regione.lazio.it
SUMMARY:Corso di maglia
DESCRIPTION:Ogni giovedì dalle ore 18 alle ore 19.30 Cento Incroci ospita un corso di maglia. \nPrenotazioni tramite telefono o whatsapp al numero 3665616955
URL:https://centoincroci.regione.lazio.it/evento/corso-di-maglia-3/
CATEGORIES:I Laboratori
ATTACH;FMTTYPE=image/jpeg:https://centoincroci.regione.lazio.it/app/uploads/2024/06/corso-maglia.jpg
END:VEVENT
BEGIN:VEVENT
DTSTART;TZID=Europe/Rome:20240624T180000
DTEND;TZID=Europe/Rome:20240624T200000
DTSTAMP:20260422T030246
CREATED:20240605T120211Z
LAST-MODIFIED:20240605T120212Z
UID:10000842-1719252000-1719259200@centoincroci.regione.lazio.it
SUMMARY:Laboratorio di lettura poetica
DESCRIPTION:Ogni lunedì dalle ore 18 alle ore 20 Cento Incroci ospita un Laboratorio di lettura poetica. \nPrenotazioni tramite telefono o whatsapp al numero 3665616955
URL:https://centoincroci.regione.lazio.it/evento/laboratorio-di-lettura-poetica-36/
CATEGORIES:Leggiamo insieme
ATTACH;FMTTYPE=image/jpeg:https://centoincroci.regione.lazio.it/app/uploads/2022/09/incontriottobre-foto.jpg
END:VEVENT
BEGIN:VEVENT
DTSTART;TZID=Europe/Rome:20240621T170000
DTEND;TZID=Europe/Rome:20240621T190000
DTSTAMP:20260422T030246
CREATED:20240605T114641Z
LAST-MODIFIED:20240611T053401Z
UID:10001062-1718989200-1718996400@centoincroci.regione.lazio.it
SUMMARY:Corso italiano per stranieri
DESCRIPTION:Ogni venerdì dalle ore 17 alle 19 Cento Incroci ospita un corso italiano per stranieri. \nPrenotazioni tramite telefono o whatsapp al numero 3665616955 \n 
URL:https://centoincroci.regione.lazio.it/evento/corso-italiano-per-stranieri-7/
CATEGORIES:I Laboratori
ATTACH;FMTTYPE=image/jpeg:https://centoincroci.regione.lazio.it/app/uploads/2022/06/italiano.jpg
END:VEVENT
BEGIN:VEVENT
DTSTART;TZID=Europe/Rome:20240620T180000
DTEND;TZID=Europe/Rome:20240620T200000
DTSTAMP:20260422T030246
CREATED:20240605T115744Z
LAST-MODIFIED:20240605T115745Z
UID:10000838-1718906400-1718913600@centoincroci.regione.lazio.it
SUMMARY:Corso di maglia
DESCRIPTION:Ogni giovedì dalle ore 18 alle ore 19.30 Cento Incroci ospita un corso di maglia. \nPrenotazioni tramite telefono o whatsapp al numero 3665616955 \n 
URL:https://centoincroci.regione.lazio.it/evento/corso-di-maglia-2/
CATEGORIES:I Laboratori
ATTACH;FMTTYPE=image/jpeg:https://centoincroci.regione.lazio.it/app/uploads/2024/06/corso-maglia.jpg
END:VEVENT
BEGIN:VEVENT
DTSTART;TZID=Europe/Rome:20240617T183000
DTEND;TZID=Europe/Rome:20240617T200000
DTSTAMP:20260422T030246
CREATED:20240605T120118Z
LAST-MODIFIED:20240605T120119Z
UID:10000841-1718649000-1718654400@centoincroci.regione.lazio.it
SUMMARY:Laboratorio di lettura poetica
DESCRIPTION:Ogni lunedì dalle ore 18 alle ore 20 Cento Incroci ospita un Laboratorio di lettura poetica. \nPrenotazioni tramite telefono o whatsapp al numero 3665616955
URL:https://centoincroci.regione.lazio.it/evento/laboratorio-di-lettura-poetica-35/
CATEGORIES:Leggiamo insieme
ATTACH;FMTTYPE=image/jpeg:https://centoincroci.regione.lazio.it/app/uploads/2022/09/incontriottobre-foto.jpg
END:VEVENT
BEGIN:VEVENT
DTSTART;TZID=Europe/Rome:20240615T180000
DTEND;TZID=Europe/Rome:20240615T200000
DTSTAMP:20260422T030246
CREATED:20240605T115232Z
LAST-MODIFIED:20240605T115232Z
UID:10000835-1718474400-1718481600@centoincroci.regione.lazio.it
SUMMARY:Presentazione del libro "Vaghe Stelle"
DESCRIPTION:Sabato 15 giugno dalle ore 18 alle ore 20 a Cento Incroci si terrà la presentazione del libro “Vaghe Stelle” di Maura Chiara Martin. \n“Vaghe stelle” sono le parole che non sono state dette\, i pensieri tenuti nascosti\, la cenere di sentimenti esplosi nel cuore della notte. La malinconia è voce della giovinezza e canta l’amore\, la crescita e la solitudine. Una raccolta di versi che sono tracce permanenti di istanti unici ed irripetibili.
URL:https://centoincroci.regione.lazio.it/evento/presentazione-del-libro-vaghe-stelle/
CATEGORIES:Leggiamo insieme
ATTACH;FMTTYPE=image/png:https://centoincroci.regione.lazio.it/app/uploads/2024/06/vaghe-stelle.png
END:VEVENT
BEGIN:VEVENT
DTSTART;TZID=Europe/Rome:20240614T170000
DTEND;TZID=Europe/Rome:20240614T190000
DTSTAMP:20260422T030246
CREATED:20240605T114551Z
LAST-MODIFIED:20240611T053446Z
UID:10001061-1718384400-1718391600@centoincroci.regione.lazio.it
SUMMARY:Corso italiano per stranieri
DESCRIPTION:Ogni venerdì dalle ore 17 alle 19 Cento Incroci ospita un corso italiano per stranieri. \nPrenotazioni tramite telefono o whatsapp al numero 3665616955
URL:https://centoincroci.regione.lazio.it/evento/corso-italiano-per-stranieri-6/
CATEGORIES:I Laboratori
ATTACH;FMTTYPE=image/jpeg:https://centoincroci.regione.lazio.it/app/uploads/2022/06/italiano.jpg
END:VEVENT
END:VCALENDAR