BEGIN:VCALENDAR
VERSION:2.0
PRODID:-//Cento incroci - ECPv6.8.3//NONSGML v1.0//EN
CALSCALE:GREGORIAN
METHOD:PUBLISH
X-ORIGINAL-URL:https://centoincroci.regione.lazio.it
X-WR-CALDESC:Eventi per Cento incroci
REFRESH-INTERVAL;VALUE=DURATION:PT1H
X-Robots-Tag:noindex
X-PUBLISHED-TTL:PT1H
BEGIN:VTIMEZONE
TZID:Europe/Rome
BEGIN:DAYLIGHT
TZOFFSETFROM:+0100
TZOFFSETTO:+0200
TZNAME:CEST
DTSTART:20260329T010000
END:DAYLIGHT
BEGIN:STANDARD
TZOFFSETFROM:+0200
TZOFFSETTO:+0100
TZNAME:CET
DTSTART:20261025T010000
END:STANDARD
BEGIN:DAYLIGHT
TZOFFSETFROM:+0100
TZOFFSETTO:+0200
TZNAME:CEST
DTSTART:20270328T010000
END:DAYLIGHT
BEGIN:STANDARD
TZOFFSETFROM:+0200
TZOFFSETTO:+0100
TZNAME:CET
DTSTART:20271031T010000
END:STANDARD
END:VTIMEZONE
BEGIN:VEVENT
DTSTART;TZID=Europe/Rome:20261211T090000
DTEND;TZID=Europe/Rome:20261211T170000
DTSTAMP:20260422T043422
CREATED:20260206T125151Z
LAST-MODIFIED:20260206T130506Z
UID:10003219-1796979600-1797008400@centoincroci.regione.lazio.it
SUMMARY:Spazio coworking - dalle ore 9 alle ore 17.00
DESCRIPTION:Disponibilità dello spazio coworking\, fruibile gratuitamente nelle orari indicati\nSi ricorda che gli orari dello spazio coworking sono suscettibili di variazioni\, in base al calendario degli eventi. \nPer maggiori info 3665616955
URL:https://centoincroci.regione.lazio.it/evento/spazio-coworking-dalle-ore-9-alle-ore-16-30-2/2026-12-11/
CATEGORIES:Incontri
ATTACH;FMTTYPE=image/jpeg:https://centoincroci.regione.lazio.it/app/uploads/2024/04/339737201_1384829545390398_5164164649820751090_n.jpg
END:VEVENT
BEGIN:VEVENT
DTSTART;TZID=Europe/Rome:20261211T170000
DTEND;TZID=Europe/Rome:20261211T200000
DTSTAMP:20260422T043422
CREATED:20260220T075247Z
LAST-MODIFIED:20260220T075249Z
UID:10003278-1797008400-1797019200@centoincroci.regione.lazio.it
SUMMARY:Corso di Italiano per stranieri livello base e avanzato
DESCRIPTION:Ogni venerdì dalle ore 17 alle ore 20 Cento Incroci ospita un corso di Italiano per stranieri livello base e avanzato.\nCorso gratuito\, previa prenotazione. \nPrenotazioni tramite telefono al numero 3665616955
URL:https://centoincroci.regione.lazio.it/evento/corso-di-italiano-per-stranieri-livello-base-e-avanzato-4/2026-12-11/
ATTACH;FMTTYPE=image/jpeg:https://centoincroci.regione.lazio.it/app/uploads/2024/06/Corso-italiano-per-stranieri.jpg
END:VEVENT
BEGIN:VEVENT
DTSTART;TZID=Europe/Rome:20261213T100000
DTEND;TZID=Europe/Rome:20261213T200000
DTSTAMP:20260422T043422
CREATED:20260223T121343Z
LAST-MODIFIED:20260227T112347Z
UID:10003481-1797156000-1797192000@centoincroci.regione.lazio.it
SUMMARY:Spazio coworking – orari
DESCRIPTION:Disponibilità dello spazio coworking\, fruibile gratuitamente.
URL:https://centoincroci.regione.lazio.it/evento/spazio-coworking-orari-6/2026-12-13/
CATEGORIES:Leggiamo insieme
ATTACH;FMTTYPE=image/jpeg:https://centoincroci.regione.lazio.it/app/uploads/2026/01/cento.jpg
END:VEVENT
BEGIN:VEVENT
DTSTART;TZID=Europe/Rome:20261214T180000
DTEND;TZID=Europe/Rome:20261214T200000
DTSTAMP:20260422T043422
CREATED:20260130T124512Z
LAST-MODIFIED:20260130T124618Z
UID:10002603-1797271200-1797278400@centoincroci.regione.lazio.it
SUMMARY:Laboratorio di lettura poetica
DESCRIPTION:Ogni lunedì dalle ore 18.30 alle ore 20 Cento Incroci ospita un Laboratorio di lettura poetica. Uno spazio creativo\, dove i partecipanti possono esplorare la poesia\, condividendo la loro passione\nLaboratorio gratuito\, previa prenotazione. \nPrenotazioni tramite telefono al numero 3665616955
URL:https://centoincroci.regione.lazio.it/evento/laboratorio-di-lettura-poetica-51-2/2026-12-14/
CATEGORIES:I Laboratori
ATTACH;FMTTYPE=image/jpeg:https://centoincroci.regione.lazio.it/app/uploads/2024/07/5ba7b5ed7357e236133832524f8fc5.jpg
END:VEVENT
BEGIN:VEVENT
DTSTART;TZID=Europe/Rome:20261215T100000
DTEND;TZID=Europe/Rome:20261215T163000
DTSTAMP:20260422T043422
CREATED:20260320T115044Z
LAST-MODIFIED:20260320T115145Z
UID:10003567-1797328800-1797352200@centoincroci.regione.lazio.it
SUMMARY:Spazio coworking - dalle ore 10 alle ore 16.30
DESCRIPTION:Disponibilità dello spazio coworking\, fruibile gratuitamente nelle orari indicati\nSi ricorda che gli orari dello spazio coworking sono suscettibili di variazioni\, in base al calendario degli eventi. \nPer maggiori info 3665616955
URL:https://centoincroci.regione.lazio.it/evento/spazio-coworking-3-febbraio-dalle-ore-9-alle-ore-16-30-2/2026-12-15/
ATTACH;FMTTYPE=image/jpeg:https://centoincroci.regione.lazio.it/app/uploads/2024/04/339737201_1384829545390398_5164164649820751090_n.jpg
END:VEVENT
BEGIN:VEVENT
DTSTART;TZID=Europe/Rome:20261215T163000
DTEND;TZID=Europe/Rome:20261215T190000
DTSTAMP:20260422T043422
CREATED:20260219T082554Z
LAST-MODIFIED:20260306T132516Z
UID:10003164-1797352200-1797361200@centoincroci.regione.lazio.it
SUMMARY:Corso di inglese base per adulti- Prenotazioni chiuse
DESCRIPTION:Ogni martedì dalle ore 16.30 alle ore 19.00 Cento Incroci ospita un corso di inglese base per adulti. Attraverso lezioni pratiche e conversazioni reali\, aiuta ad aumentare la confidenza con la lingua inglese\nCorso gratuito\, previa prenotazione. \nPrenotazioni tramite telefono al numero 3665616955
URL:https://centoincroci.regione.lazio.it/evento/corso-di-inglese-base-per-adulti-2-2/2026-12-15/
CATEGORIES:I Laboratori
ATTACH;FMTTYPE=image/jpeg:https://centoincroci.regione.lazio.it/app/uploads/2025/09/disposizione-dei-libri-inglesi-vista-dall-alto-scaled-e1757319659105.jpg
END:VEVENT
BEGIN:VEVENT
DTSTART;TZID=Europe/Rome:20261215T183000
DTEND;TZID=Europe/Rome:20261215T200000
DTSTAMP:20260422T043422
CREATED:20260407T071835Z
LAST-MODIFIED:20260407T071836Z
UID:10003627-1797359400-1797364800@centoincroci.regione.lazio.it
SUMMARY:Corso di Vela in LIS per adulti
DESCRIPTION:Nelle giornate del 14\, 21\, 28 aprile e 5\, 12 maggio dalle ore 18:30 alle ore 20:00 Cento Incroci ospiterà il Corso di Vela in LIS per adulti organizzato da Edoardo Ricci\, autore del libro “SEGNI PER LA VELA”\, il primo manuale di vela in LIS a livello internazionale\, patrocinato dall’Ente Nazionale Sordi e dalla Federazione Italiana Vela. \nIl corso è completamente gratuito e rivolto a 7 partecipanti già iscritti tramite l’ENS (Ente Nazionale Sordi) in qualità di tesserati del Comitato Giovani Sordi Italiani. \nSi articolerà in cinque lezioni che si svolgeranno dalle 18:30 alle 20:00 di ogni martedì fino al 12 Maggio 2026 finalizzate a valutarne l’apprendimento e ovviamente a formare il primo equipaggio di marinai sordi.
URL:https://centoincroci.regione.lazio.it/evento/corso-di-vela-in-lis-per-adulti-2/2026-12-15/
CATEGORIES:I Laboratori
ATTACH;FMTTYPE=image/jpeg:https://centoincroci.regione.lazio.it/app/uploads/2026/04/copertina-libro-Segni-Vela-marzo-2026.jpg
END:VEVENT
BEGIN:VEVENT
DTSTART;TZID=Europe/Rome:20261216T090000
DTEND;TZID=Europe/Rome:20261216T170000
DTSTAMP:20260422T043422
CREATED:20260130T125048Z
LAST-MODIFIED:20260220T075455Z
UID:10002772-1797411600-1797440400@centoincroci.regione.lazio.it
SUMMARY:Spazio coworking - dalle ore 9 alle 17
DESCRIPTION:Disponibilità dello spazio coworking\, fruibile gratuitamente nelle orari indicati\nSi ricorda che gli orari dello spazio coworking sono suscettibili di variazioni\, in base al calendario degli eventi. \nPer maggiori info 3665616955
URL:https://centoincroci.regione.lazio.it/evento/spazio-coworking-dalle-ore-9-alle-20-2/2026-12-16/
CATEGORIES:Incontri
ATTACH;FMTTYPE=image/jpeg:https://centoincroci.regione.lazio.it/app/uploads/2024/04/339737201_1384829545390398_5164164649820751090_n.jpg
END:VEVENT
BEGIN:VEVENT
DTSTART;TZID=Europe/Rome:20261217T090000
DTEND;TZID=Europe/Rome:20261217T173000
DTSTAMP:20260422T043422
CREATED:20260227T111916Z
LAST-MODIFIED:20260227T111918Z
UID:10002997-1797498000-1797528600@centoincroci.regione.lazio.it
SUMMARY:Spazio coworking - dalle ore 9 alle ore 17.30
DESCRIPTION:Disponibilità dello spazio coworking\, fruibile gratuitamente nelle orari indicati\nSi ricorda che gli orari dello spazio coworking sono suscettibili di variazioni\, in base al calendario degli eventi. \nPer maggiori info 3665616955
URL:https://centoincroci.regione.lazio.it/evento/spazio-coworking-dalle-ore-9-alle-ore-17-30-2/2026-12-17/
ATTACH;FMTTYPE=image/jpeg:https://centoincroci.regione.lazio.it/app/uploads/2024/04/339737201_1384829545390398_5164164649820751090_n.jpg
END:VEVENT
BEGIN:VEVENT
DTSTART;TZID=Europe/Rome:20261218T090000
DTEND;TZID=Europe/Rome:20261218T170000
DTSTAMP:20260422T043422
CREATED:20260206T125151Z
LAST-MODIFIED:20260206T130506Z
UID:10003220-1797584400-1797613200@centoincroci.regione.lazio.it
SUMMARY:Spazio coworking - dalle ore 9 alle ore 17.00
DESCRIPTION:Disponibilità dello spazio coworking\, fruibile gratuitamente nelle orari indicati\nSi ricorda che gli orari dello spazio coworking sono suscettibili di variazioni\, in base al calendario degli eventi. \nPer maggiori info 3665616955
URL:https://centoincroci.regione.lazio.it/evento/spazio-coworking-dalle-ore-9-alle-ore-16-30-2/2026-12-18/
CATEGORIES:Incontri
ATTACH;FMTTYPE=image/jpeg:https://centoincroci.regione.lazio.it/app/uploads/2024/04/339737201_1384829545390398_5164164649820751090_n.jpg
END:VEVENT
BEGIN:VEVENT
DTSTART;TZID=Europe/Rome:20261218T170000
DTEND;TZID=Europe/Rome:20261218T200000
DTSTAMP:20260422T043422
CREATED:20260220T075247Z
LAST-MODIFIED:20260220T075249Z
UID:10003279-1797613200-1797624000@centoincroci.regione.lazio.it
SUMMARY:Corso di Italiano per stranieri livello base e avanzato
DESCRIPTION:Ogni venerdì dalle ore 17 alle ore 20 Cento Incroci ospita un corso di Italiano per stranieri livello base e avanzato.\nCorso gratuito\, previa prenotazione. \nPrenotazioni tramite telefono al numero 3665616955
URL:https://centoincroci.regione.lazio.it/evento/corso-di-italiano-per-stranieri-livello-base-e-avanzato-4/2026-12-18/
ATTACH;FMTTYPE=image/jpeg:https://centoincroci.regione.lazio.it/app/uploads/2024/06/Corso-italiano-per-stranieri.jpg
END:VEVENT
BEGIN:VEVENT
DTSTART;TZID=Europe/Rome:20261220T100000
DTEND;TZID=Europe/Rome:20261220T200000
DTSTAMP:20260422T043422
CREATED:20260223T121343Z
LAST-MODIFIED:20260227T112347Z
UID:10003482-1797760800-1797796800@centoincroci.regione.lazio.it
SUMMARY:Spazio coworking – orari
DESCRIPTION:Disponibilità dello spazio coworking\, fruibile gratuitamente.
URL:https://centoincroci.regione.lazio.it/evento/spazio-coworking-orari-6/2026-12-20/
CATEGORIES:Leggiamo insieme
ATTACH;FMTTYPE=image/jpeg:https://centoincroci.regione.lazio.it/app/uploads/2026/01/cento.jpg
END:VEVENT
BEGIN:VEVENT
DTSTART;TZID=Europe/Rome:20261221T180000
DTEND;TZID=Europe/Rome:20261221T200000
DTSTAMP:20260422T043422
CREATED:20260130T124512Z
LAST-MODIFIED:20260130T124618Z
UID:10002604-1797876000-1797883200@centoincroci.regione.lazio.it
SUMMARY:Laboratorio di lettura poetica
DESCRIPTION:Ogni lunedì dalle ore 18.30 alle ore 20 Cento Incroci ospita un Laboratorio di lettura poetica. Uno spazio creativo\, dove i partecipanti possono esplorare la poesia\, condividendo la loro passione\nLaboratorio gratuito\, previa prenotazione. \nPrenotazioni tramite telefono al numero 3665616955
URL:https://centoincroci.regione.lazio.it/evento/laboratorio-di-lettura-poetica-51-2/2026-12-21/
CATEGORIES:I Laboratori
ATTACH;FMTTYPE=image/jpeg:https://centoincroci.regione.lazio.it/app/uploads/2024/07/5ba7b5ed7357e236133832524f8fc5.jpg
END:VEVENT
BEGIN:VEVENT
DTSTART;TZID=Europe/Rome:20261222T100000
DTEND;TZID=Europe/Rome:20261222T163000
DTSTAMP:20260422T043422
CREATED:20260320T115044Z
LAST-MODIFIED:20260320T115145Z
UID:10003568-1797933600-1797957000@centoincroci.regione.lazio.it
SUMMARY:Spazio coworking - dalle ore 10 alle ore 16.30
DESCRIPTION:Disponibilità dello spazio coworking\, fruibile gratuitamente nelle orari indicati\nSi ricorda che gli orari dello spazio coworking sono suscettibili di variazioni\, in base al calendario degli eventi. \nPer maggiori info 3665616955
URL:https://centoincroci.regione.lazio.it/evento/spazio-coworking-3-febbraio-dalle-ore-9-alle-ore-16-30-2/2026-12-22/
ATTACH;FMTTYPE=image/jpeg:https://centoincroci.regione.lazio.it/app/uploads/2024/04/339737201_1384829545390398_5164164649820751090_n.jpg
END:VEVENT
BEGIN:VEVENT
DTSTART;TZID=Europe/Rome:20261222T163000
DTEND;TZID=Europe/Rome:20261222T190000
DTSTAMP:20260422T043422
CREATED:20260219T082554Z
LAST-MODIFIED:20260306T132516Z
UID:10003165-1797957000-1797966000@centoincroci.regione.lazio.it
SUMMARY:Corso di inglese base per adulti- Prenotazioni chiuse
DESCRIPTION:Ogni martedì dalle ore 16.30 alle ore 19.00 Cento Incroci ospita un corso di inglese base per adulti. Attraverso lezioni pratiche e conversazioni reali\, aiuta ad aumentare la confidenza con la lingua inglese\nCorso gratuito\, previa prenotazione. \nPrenotazioni tramite telefono al numero 3665616955
URL:https://centoincroci.regione.lazio.it/evento/corso-di-inglese-base-per-adulti-2-2/2026-12-22/
CATEGORIES:I Laboratori
ATTACH;FMTTYPE=image/jpeg:https://centoincroci.regione.lazio.it/app/uploads/2025/09/disposizione-dei-libri-inglesi-vista-dall-alto-scaled-e1757319659105.jpg
END:VEVENT
BEGIN:VEVENT
DTSTART;TZID=Europe/Rome:20261222T183000
DTEND;TZID=Europe/Rome:20261222T200000
DTSTAMP:20260422T043422
CREATED:20260407T071835Z
LAST-MODIFIED:20260407T071836Z
UID:10003628-1797964200-1797969600@centoincroci.regione.lazio.it
SUMMARY:Corso di Vela in LIS per adulti
DESCRIPTION:Nelle giornate del 14\, 21\, 28 aprile e 5\, 12 maggio dalle ore 18:30 alle ore 20:00 Cento Incroci ospiterà il Corso di Vela in LIS per adulti organizzato da Edoardo Ricci\, autore del libro “SEGNI PER LA VELA”\, il primo manuale di vela in LIS a livello internazionale\, patrocinato dall’Ente Nazionale Sordi e dalla Federazione Italiana Vela. \nIl corso è completamente gratuito e rivolto a 7 partecipanti già iscritti tramite l’ENS (Ente Nazionale Sordi) in qualità di tesserati del Comitato Giovani Sordi Italiani. \nSi articolerà in cinque lezioni che si svolgeranno dalle 18:30 alle 20:00 di ogni martedì fino al 12 Maggio 2026 finalizzate a valutarne l’apprendimento e ovviamente a formare il primo equipaggio di marinai sordi.
URL:https://centoincroci.regione.lazio.it/evento/corso-di-vela-in-lis-per-adulti-2/2026-12-22/
CATEGORIES:I Laboratori
ATTACH;FMTTYPE=image/jpeg:https://centoincroci.regione.lazio.it/app/uploads/2026/04/copertina-libro-Segni-Vela-marzo-2026.jpg
END:VEVENT
BEGIN:VEVENT
DTSTART;TZID=Europe/Rome:20261223T090000
DTEND;TZID=Europe/Rome:20261223T170000
DTSTAMP:20260422T043422
CREATED:20260130T125048Z
LAST-MODIFIED:20260220T075455Z
UID:10002773-1798016400-1798045200@centoincroci.regione.lazio.it
SUMMARY:Spazio coworking - dalle ore 9 alle 17
DESCRIPTION:Disponibilità dello spazio coworking\, fruibile gratuitamente nelle orari indicati\nSi ricorda che gli orari dello spazio coworking sono suscettibili di variazioni\, in base al calendario degli eventi. \nPer maggiori info 3665616955
URL:https://centoincroci.regione.lazio.it/evento/spazio-coworking-dalle-ore-9-alle-20-2/2026-12-23/
CATEGORIES:Incontri
ATTACH;FMTTYPE=image/jpeg:https://centoincroci.regione.lazio.it/app/uploads/2024/04/339737201_1384829545390398_5164164649820751090_n.jpg
END:VEVENT
BEGIN:VEVENT
DTSTART;TZID=Europe/Rome:20261224T090000
DTEND;TZID=Europe/Rome:20261224T173000
DTSTAMP:20260422T043422
CREATED:20260227T111916Z
LAST-MODIFIED:20260227T111918Z
UID:10002998-1798102800-1798133400@centoincroci.regione.lazio.it
SUMMARY:Spazio coworking - dalle ore 9 alle ore 17.30
DESCRIPTION:Disponibilità dello spazio coworking\, fruibile gratuitamente nelle orari indicati\nSi ricorda che gli orari dello spazio coworking sono suscettibili di variazioni\, in base al calendario degli eventi. \nPer maggiori info 3665616955
URL:https://centoincroci.regione.lazio.it/evento/spazio-coworking-dalle-ore-9-alle-ore-17-30-2/2026-12-24/
ATTACH;FMTTYPE=image/jpeg:https://centoincroci.regione.lazio.it/app/uploads/2024/04/339737201_1384829545390398_5164164649820751090_n.jpg
END:VEVENT
BEGIN:VEVENT
DTSTART;TZID=Europe/Rome:20261225T090000
DTEND;TZID=Europe/Rome:20261225T170000
DTSTAMP:20260422T043422
CREATED:20260206T125151Z
LAST-MODIFIED:20260206T130506Z
UID:10003221-1798189200-1798218000@centoincroci.regione.lazio.it
SUMMARY:Spazio coworking - dalle ore 9 alle ore 17.00
DESCRIPTION:Disponibilità dello spazio coworking\, fruibile gratuitamente nelle orari indicati\nSi ricorda che gli orari dello spazio coworking sono suscettibili di variazioni\, in base al calendario degli eventi. \nPer maggiori info 3665616955
URL:https://centoincroci.regione.lazio.it/evento/spazio-coworking-dalle-ore-9-alle-ore-16-30-2/2026-12-25/
CATEGORIES:Incontri
ATTACH;FMTTYPE=image/jpeg:https://centoincroci.regione.lazio.it/app/uploads/2024/04/339737201_1384829545390398_5164164649820751090_n.jpg
END:VEVENT
BEGIN:VEVENT
DTSTART;TZID=Europe/Rome:20261225T170000
DTEND;TZID=Europe/Rome:20261225T200000
DTSTAMP:20260422T043422
CREATED:20260220T075247Z
LAST-MODIFIED:20260220T075249Z
UID:10003280-1798218000-1798228800@centoincroci.regione.lazio.it
SUMMARY:Corso di Italiano per stranieri livello base e avanzato
DESCRIPTION:Ogni venerdì dalle ore 17 alle ore 20 Cento Incroci ospita un corso di Italiano per stranieri livello base e avanzato.\nCorso gratuito\, previa prenotazione. \nPrenotazioni tramite telefono al numero 3665616955
URL:https://centoincroci.regione.lazio.it/evento/corso-di-italiano-per-stranieri-livello-base-e-avanzato-4/2026-12-25/
ATTACH;FMTTYPE=image/jpeg:https://centoincroci.regione.lazio.it/app/uploads/2024/06/Corso-italiano-per-stranieri.jpg
END:VEVENT
BEGIN:VEVENT
DTSTART;TZID=Europe/Rome:20261227T100000
DTEND;TZID=Europe/Rome:20261227T200000
DTSTAMP:20260422T043422
CREATED:20260223T121343Z
LAST-MODIFIED:20260227T112347Z
UID:10003483-1798365600-1798401600@centoincroci.regione.lazio.it
SUMMARY:Spazio coworking – orari
DESCRIPTION:Disponibilità dello spazio coworking\, fruibile gratuitamente.
URL:https://centoincroci.regione.lazio.it/evento/spazio-coworking-orari-6/2026-12-27/
CATEGORIES:Leggiamo insieme
ATTACH;FMTTYPE=image/jpeg:https://centoincroci.regione.lazio.it/app/uploads/2026/01/cento.jpg
END:VEVENT
BEGIN:VEVENT
DTSTART;TZID=Europe/Rome:20261228T180000
DTEND;TZID=Europe/Rome:20261228T200000
DTSTAMP:20260422T043422
CREATED:20260130T124512Z
LAST-MODIFIED:20260130T124618Z
UID:10002605-1798480800-1798488000@centoincroci.regione.lazio.it
SUMMARY:Laboratorio di lettura poetica
DESCRIPTION:Ogni lunedì dalle ore 18.30 alle ore 20 Cento Incroci ospita un Laboratorio di lettura poetica. Uno spazio creativo\, dove i partecipanti possono esplorare la poesia\, condividendo la loro passione\nLaboratorio gratuito\, previa prenotazione. \nPrenotazioni tramite telefono al numero 3665616955
URL:https://centoincroci.regione.lazio.it/evento/laboratorio-di-lettura-poetica-51-2/2026-12-28/
CATEGORIES:I Laboratori
ATTACH;FMTTYPE=image/jpeg:https://centoincroci.regione.lazio.it/app/uploads/2024/07/5ba7b5ed7357e236133832524f8fc5.jpg
END:VEVENT
BEGIN:VEVENT
DTSTART;TZID=Europe/Rome:20261229T100000
DTEND;TZID=Europe/Rome:20261229T163000
DTSTAMP:20260422T043422
CREATED:20260320T115044Z
LAST-MODIFIED:20260320T115145Z
UID:10003569-1798538400-1798561800@centoincroci.regione.lazio.it
SUMMARY:Spazio coworking - dalle ore 10 alle ore 16.30
DESCRIPTION:Disponibilità dello spazio coworking\, fruibile gratuitamente nelle orari indicati\nSi ricorda che gli orari dello spazio coworking sono suscettibili di variazioni\, in base al calendario degli eventi. \nPer maggiori info 3665616955
URL:https://centoincroci.regione.lazio.it/evento/spazio-coworking-3-febbraio-dalle-ore-9-alle-ore-16-30-2/2026-12-29/
ATTACH;FMTTYPE=image/jpeg:https://centoincroci.regione.lazio.it/app/uploads/2024/04/339737201_1384829545390398_5164164649820751090_n.jpg
END:VEVENT
BEGIN:VEVENT
DTSTART;TZID=Europe/Rome:20261229T163000
DTEND;TZID=Europe/Rome:20261229T190000
DTSTAMP:20260422T043422
CREATED:20260219T082554Z
LAST-MODIFIED:20260306T132516Z
UID:10003166-1798561800-1798570800@centoincroci.regione.lazio.it
SUMMARY:Corso di inglese base per adulti- Prenotazioni chiuse
DESCRIPTION:Ogni martedì dalle ore 16.30 alle ore 19.00 Cento Incroci ospita un corso di inglese base per adulti. Attraverso lezioni pratiche e conversazioni reali\, aiuta ad aumentare la confidenza con la lingua inglese\nCorso gratuito\, previa prenotazione. \nPrenotazioni tramite telefono al numero 3665616955
URL:https://centoincroci.regione.lazio.it/evento/corso-di-inglese-base-per-adulti-2-2/2026-12-29/
CATEGORIES:I Laboratori
ATTACH;FMTTYPE=image/jpeg:https://centoincroci.regione.lazio.it/app/uploads/2025/09/disposizione-dei-libri-inglesi-vista-dall-alto-scaled-e1757319659105.jpg
END:VEVENT
BEGIN:VEVENT
DTSTART;TZID=Europe/Rome:20261229T183000
DTEND;TZID=Europe/Rome:20261229T200000
DTSTAMP:20260422T043422
CREATED:20260407T071835Z
LAST-MODIFIED:20260407T071836Z
UID:10003629-1798569000-1798574400@centoincroci.regione.lazio.it
SUMMARY:Corso di Vela in LIS per adulti
DESCRIPTION:Nelle giornate del 14\, 21\, 28 aprile e 5\, 12 maggio dalle ore 18:30 alle ore 20:00 Cento Incroci ospiterà il Corso di Vela in LIS per adulti organizzato da Edoardo Ricci\, autore del libro “SEGNI PER LA VELA”\, il primo manuale di vela in LIS a livello internazionale\, patrocinato dall’Ente Nazionale Sordi e dalla Federazione Italiana Vela. \nIl corso è completamente gratuito e rivolto a 7 partecipanti già iscritti tramite l’ENS (Ente Nazionale Sordi) in qualità di tesserati del Comitato Giovani Sordi Italiani. \nSi articolerà in cinque lezioni che si svolgeranno dalle 18:30 alle 20:00 di ogni martedì fino al 12 Maggio 2026 finalizzate a valutarne l’apprendimento e ovviamente a formare il primo equipaggio di marinai sordi.
URL:https://centoincroci.regione.lazio.it/evento/corso-di-vela-in-lis-per-adulti-2/2026-12-29/
CATEGORIES:I Laboratori
ATTACH;FMTTYPE=image/jpeg:https://centoincroci.regione.lazio.it/app/uploads/2026/04/copertina-libro-Segni-Vela-marzo-2026.jpg
END:VEVENT
BEGIN:VEVENT
DTSTART;TZID=Europe/Rome:20261230T090000
DTEND;TZID=Europe/Rome:20261230T170000
DTSTAMP:20260422T043422
CREATED:20260130T125048Z
LAST-MODIFIED:20260220T075455Z
UID:10002774-1798621200-1798650000@centoincroci.regione.lazio.it
SUMMARY:Spazio coworking - dalle ore 9 alle 17
DESCRIPTION:Disponibilità dello spazio coworking\, fruibile gratuitamente nelle orari indicati\nSi ricorda che gli orari dello spazio coworking sono suscettibili di variazioni\, in base al calendario degli eventi. \nPer maggiori info 3665616955
URL:https://centoincroci.regione.lazio.it/evento/spazio-coworking-dalle-ore-9-alle-20-2/2026-12-30/
CATEGORIES:Incontri
ATTACH;FMTTYPE=image/jpeg:https://centoincroci.regione.lazio.it/app/uploads/2024/04/339737201_1384829545390398_5164164649820751090_n.jpg
END:VEVENT
BEGIN:VEVENT
DTSTART;TZID=Europe/Rome:20261231T090000
DTEND;TZID=Europe/Rome:20261231T173000
DTSTAMP:20260422T043422
CREATED:20260227T111916Z
LAST-MODIFIED:20260227T111918Z
UID:10002999-1798707600-1798738200@centoincroci.regione.lazio.it
SUMMARY:Spazio coworking - dalle ore 9 alle ore 17.30
DESCRIPTION:Disponibilità dello spazio coworking\, fruibile gratuitamente nelle orari indicati\nSi ricorda che gli orari dello spazio coworking sono suscettibili di variazioni\, in base al calendario degli eventi. \nPer maggiori info 3665616955
URL:https://centoincroci.regione.lazio.it/evento/spazio-coworking-dalle-ore-9-alle-ore-17-30-2/2026-12-31/
ATTACH;FMTTYPE=image/jpeg:https://centoincroci.regione.lazio.it/app/uploads/2024/04/339737201_1384829545390398_5164164649820751090_n.jpg
END:VEVENT
BEGIN:VEVENT
DTSTART;TZID=Europe/Rome:20270101T090000
DTEND;TZID=Europe/Rome:20270101T170000
DTSTAMP:20260422T043422
CREATED:20260206T125151Z
LAST-MODIFIED:20260206T130506Z
UID:10003222-1798794000-1798822800@centoincroci.regione.lazio.it
SUMMARY:Spazio coworking - dalle ore 9 alle ore 17.00
DESCRIPTION:Disponibilità dello spazio coworking\, fruibile gratuitamente nelle orari indicati\nSi ricorda che gli orari dello spazio coworking sono suscettibili di variazioni\, in base al calendario degli eventi. \nPer maggiori info 3665616955
URL:https://centoincroci.regione.lazio.it/evento/spazio-coworking-dalle-ore-9-alle-ore-16-30-2/2027-01-01/
CATEGORIES:Incontri
ATTACH;FMTTYPE=image/jpeg:https://centoincroci.regione.lazio.it/app/uploads/2024/04/339737201_1384829545390398_5164164649820751090_n.jpg
END:VEVENT
BEGIN:VEVENT
DTSTART;TZID=Europe/Rome:20270101T170000
DTEND;TZID=Europe/Rome:20270101T200000
DTSTAMP:20260422T043422
CREATED:20260220T075247Z
LAST-MODIFIED:20260220T075249Z
UID:10003281-1798822800-1798833600@centoincroci.regione.lazio.it
SUMMARY:Corso di Italiano per stranieri livello base e avanzato
DESCRIPTION:Ogni venerdì dalle ore 17 alle ore 20 Cento Incroci ospita un corso di Italiano per stranieri livello base e avanzato.\nCorso gratuito\, previa prenotazione. \nPrenotazioni tramite telefono al numero 3665616955
URL:https://centoincroci.regione.lazio.it/evento/corso-di-italiano-per-stranieri-livello-base-e-avanzato-4/2027-01-01/
ATTACH;FMTTYPE=image/jpeg:https://centoincroci.regione.lazio.it/app/uploads/2024/06/Corso-italiano-per-stranieri.jpg
END:VEVENT
BEGIN:VEVENT
DTSTART;TZID=Europe/Rome:20270103T100000
DTEND;TZID=Europe/Rome:20270103T200000
DTSTAMP:20260422T043422
CREATED:20260223T121343Z
LAST-MODIFIED:20260227T112347Z
UID:10003484-1798970400-1799006400@centoincroci.regione.lazio.it
SUMMARY:Spazio coworking – orari
DESCRIPTION:Disponibilità dello spazio coworking\, fruibile gratuitamente.
URL:https://centoincroci.regione.lazio.it/evento/spazio-coworking-orari-6/2027-01-03/
CATEGORIES:Leggiamo insieme
ATTACH;FMTTYPE=image/jpeg:https://centoincroci.regione.lazio.it/app/uploads/2026/01/cento.jpg
END:VEVENT
END:VCALENDAR