BEGIN:VCALENDAR
VERSION:2.0
PRODID:-//Cento incroci - ECPv6.8.3//NONSGML v1.0//EN
CALSCALE:GREGORIAN
METHOD:PUBLISH
X-ORIGINAL-URL:https://centoincroci.regione.lazio.it
X-WR-CALDESC:Eventi per Cento incroci
REFRESH-INTERVAL;VALUE=DURATION:PT1H
X-Robots-Tag:noindex
X-PUBLISHED-TTL:PT1H
BEGIN:VTIMEZONE
TZID:Europe/Rome
BEGIN:DAYLIGHT
TZOFFSETFROM:+0100
TZOFFSETTO:+0200
TZNAME:CEST
DTSTART:20270328T010000
END:DAYLIGHT
BEGIN:STANDARD
TZOFFSETFROM:+0200
TZOFFSETTO:+0100
TZNAME:CET
DTSTART:20271031T010000
END:STANDARD
END:VTIMEZONE
BEGIN:VEVENT
DTSTART;TZID=Europe/Rome:20270101T090000
DTEND;TZID=Europe/Rome:20270101T170000
DTSTAMP:20260422T041534
CREATED:20260206T125151Z
LAST-MODIFIED:20260206T130506Z
UID:10003222-1798794000-1798822800@centoincroci.regione.lazio.it
SUMMARY:Spazio coworking - dalle ore 9 alle ore 17.00
DESCRIPTION:Disponibilità dello spazio coworking\, fruibile gratuitamente nelle orari indicati\nSi ricorda che gli orari dello spazio coworking sono suscettibili di variazioni\, in base al calendario degli eventi. \nPer maggiori info 3665616955
URL:https://centoincroci.regione.lazio.it/evento/spazio-coworking-dalle-ore-9-alle-ore-16-30-2/2027-01-01/
CATEGORIES:Incontri
ATTACH;FMTTYPE=image/jpeg:https://centoincroci.regione.lazio.it/app/uploads/2024/04/339737201_1384829545390398_5164164649820751090_n.jpg
END:VEVENT
BEGIN:VEVENT
DTSTART;TZID=Europe/Rome:20270101T170000
DTEND;TZID=Europe/Rome:20270101T200000
DTSTAMP:20260422T041534
CREATED:20260220T075247Z
LAST-MODIFIED:20260220T075249Z
UID:10003281-1798822800-1798833600@centoincroci.regione.lazio.it
SUMMARY:Corso di Italiano per stranieri livello base e avanzato
DESCRIPTION:Ogni venerdì dalle ore 17 alle ore 20 Cento Incroci ospita un corso di Italiano per stranieri livello base e avanzato.\nCorso gratuito\, previa prenotazione. \nPrenotazioni tramite telefono al numero 3665616955
URL:https://centoincroci.regione.lazio.it/evento/corso-di-italiano-per-stranieri-livello-base-e-avanzato-4/2027-01-01/
ATTACH;FMTTYPE=image/jpeg:https://centoincroci.regione.lazio.it/app/uploads/2024/06/Corso-italiano-per-stranieri.jpg
END:VEVENT
BEGIN:VEVENT
DTSTART;TZID=Europe/Rome:20270103T100000
DTEND;TZID=Europe/Rome:20270103T200000
DTSTAMP:20260422T041534
CREATED:20260223T121343Z
LAST-MODIFIED:20260227T112347Z
UID:10003484-1798970400-1799006400@centoincroci.regione.lazio.it
SUMMARY:Spazio coworking – orari
DESCRIPTION:Disponibilità dello spazio coworking\, fruibile gratuitamente.
URL:https://centoincroci.regione.lazio.it/evento/spazio-coworking-orari-6/2027-01-03/
CATEGORIES:Leggiamo insieme
ATTACH;FMTTYPE=image/jpeg:https://centoincroci.regione.lazio.it/app/uploads/2026/01/cento.jpg
END:VEVENT
BEGIN:VEVENT
DTSTART;TZID=Europe/Rome:20270104T180000
DTEND;TZID=Europe/Rome:20270104T200000
DTSTAMP:20260422T041534
CREATED:20260130T124512Z
LAST-MODIFIED:20260130T124618Z
UID:10002606-1799085600-1799092800@centoincroci.regione.lazio.it
SUMMARY:Laboratorio di lettura poetica
DESCRIPTION:Ogni lunedì dalle ore 18.30 alle ore 20 Cento Incroci ospita un Laboratorio di lettura poetica. Uno spazio creativo\, dove i partecipanti possono esplorare la poesia\, condividendo la loro passione\nLaboratorio gratuito\, previa prenotazione. \nPrenotazioni tramite telefono al numero 3665616955
URL:https://centoincroci.regione.lazio.it/evento/laboratorio-di-lettura-poetica-51-2/2027-01-04/
CATEGORIES:I Laboratori
ATTACH;FMTTYPE=image/jpeg:https://centoincroci.regione.lazio.it/app/uploads/2024/07/5ba7b5ed7357e236133832524f8fc5.jpg
END:VEVENT
BEGIN:VEVENT
DTSTART;TZID=Europe/Rome:20270105T100000
DTEND;TZID=Europe/Rome:20270105T163000
DTSTAMP:20260422T041534
CREATED:20260320T115044Z
LAST-MODIFIED:20260320T115145Z
UID:10003570-1799143200-1799166600@centoincroci.regione.lazio.it
SUMMARY:Spazio coworking - dalle ore 10 alle ore 16.30
DESCRIPTION:Disponibilità dello spazio coworking\, fruibile gratuitamente nelle orari indicati\nSi ricorda che gli orari dello spazio coworking sono suscettibili di variazioni\, in base al calendario degli eventi. \nPer maggiori info 3665616955
URL:https://centoincroci.regione.lazio.it/evento/spazio-coworking-3-febbraio-dalle-ore-9-alle-ore-16-30-2/2027-01-05/
ATTACH;FMTTYPE=image/jpeg:https://centoincroci.regione.lazio.it/app/uploads/2024/04/339737201_1384829545390398_5164164649820751090_n.jpg
END:VEVENT
BEGIN:VEVENT
DTSTART;TZID=Europe/Rome:20270105T163000
DTEND;TZID=Europe/Rome:20270105T190000
DTSTAMP:20260422T041534
CREATED:20260219T082554Z
LAST-MODIFIED:20260306T132516Z
UID:10003167-1799166600-1799175600@centoincroci.regione.lazio.it
SUMMARY:Corso di inglese base per adulti- Prenotazioni chiuse
DESCRIPTION:Ogni martedì dalle ore 16.30 alle ore 19.00 Cento Incroci ospita un corso di inglese base per adulti. Attraverso lezioni pratiche e conversazioni reali\, aiuta ad aumentare la confidenza con la lingua inglese\nCorso gratuito\, previa prenotazione. \nPrenotazioni tramite telefono al numero 3665616955
URL:https://centoincroci.regione.lazio.it/evento/corso-di-inglese-base-per-adulti-2-2/2027-01-05/
CATEGORIES:I Laboratori
ATTACH;FMTTYPE=image/jpeg:https://centoincroci.regione.lazio.it/app/uploads/2025/09/disposizione-dei-libri-inglesi-vista-dall-alto-scaled-e1757319659105.jpg
END:VEVENT
BEGIN:VEVENT
DTSTART;TZID=Europe/Rome:20270105T183000
DTEND;TZID=Europe/Rome:20270105T200000
DTSTAMP:20260422T041534
CREATED:20260407T071835Z
LAST-MODIFIED:20260407T071836Z
UID:10003630-1799173800-1799179200@centoincroci.regione.lazio.it
SUMMARY:Corso di Vela in LIS per adulti
DESCRIPTION:Nelle giornate del 14\, 21\, 28 aprile e 5\, 12 maggio dalle ore 18:30 alle ore 20:00 Cento Incroci ospiterà il Corso di Vela in LIS per adulti organizzato da Edoardo Ricci\, autore del libro “SEGNI PER LA VELA”\, il primo manuale di vela in LIS a livello internazionale\, patrocinato dall’Ente Nazionale Sordi e dalla Federazione Italiana Vela. \nIl corso è completamente gratuito e rivolto a 7 partecipanti già iscritti tramite l’ENS (Ente Nazionale Sordi) in qualità di tesserati del Comitato Giovani Sordi Italiani. \nSi articolerà in cinque lezioni che si svolgeranno dalle 18:30 alle 20:00 di ogni martedì fino al 12 Maggio 2026 finalizzate a valutarne l’apprendimento e ovviamente a formare il primo equipaggio di marinai sordi.
URL:https://centoincroci.regione.lazio.it/evento/corso-di-vela-in-lis-per-adulti-2/2027-01-05/
CATEGORIES:I Laboratori
ATTACH;FMTTYPE=image/jpeg:https://centoincroci.regione.lazio.it/app/uploads/2026/04/copertina-libro-Segni-Vela-marzo-2026.jpg
END:VEVENT
BEGIN:VEVENT
DTSTART;TZID=Europe/Rome:20270106T090000
DTEND;TZID=Europe/Rome:20270106T170000
DTSTAMP:20260422T041534
CREATED:20260130T125048Z
LAST-MODIFIED:20260220T075455Z
UID:10002775-1799226000-1799254800@centoincroci.regione.lazio.it
SUMMARY:Spazio coworking - dalle ore 9 alle 17
DESCRIPTION:Disponibilità dello spazio coworking\, fruibile gratuitamente nelle orari indicati\nSi ricorda che gli orari dello spazio coworking sono suscettibili di variazioni\, in base al calendario degli eventi. \nPer maggiori info 3665616955
URL:https://centoincroci.regione.lazio.it/evento/spazio-coworking-dalle-ore-9-alle-20-2/2027-01-06/
CATEGORIES:Incontri
ATTACH;FMTTYPE=image/jpeg:https://centoincroci.regione.lazio.it/app/uploads/2024/04/339737201_1384829545390398_5164164649820751090_n.jpg
END:VEVENT
BEGIN:VEVENT
DTSTART;TZID=Europe/Rome:20270107T090000
DTEND;TZID=Europe/Rome:20270107T173000
DTSTAMP:20260422T041534
CREATED:20260227T111916Z
LAST-MODIFIED:20260227T111918Z
UID:10003000-1799312400-1799343000@centoincroci.regione.lazio.it
SUMMARY:Spazio coworking - dalle ore 9 alle ore 17.30
DESCRIPTION:Disponibilità dello spazio coworking\, fruibile gratuitamente nelle orari indicati\nSi ricorda che gli orari dello spazio coworking sono suscettibili di variazioni\, in base al calendario degli eventi. \nPer maggiori info 3665616955
URL:https://centoincroci.regione.lazio.it/evento/spazio-coworking-dalle-ore-9-alle-ore-17-30-2/2027-01-07/
ATTACH;FMTTYPE=image/jpeg:https://centoincroci.regione.lazio.it/app/uploads/2024/04/339737201_1384829545390398_5164164649820751090_n.jpg
END:VEVENT
BEGIN:VEVENT
DTSTART;TZID=Europe/Rome:20270108T090000
DTEND;TZID=Europe/Rome:20270108T170000
DTSTAMP:20260422T041534
CREATED:20260206T125151Z
LAST-MODIFIED:20260206T130506Z
UID:10003223-1799398800-1799427600@centoincroci.regione.lazio.it
SUMMARY:Spazio coworking - dalle ore 9 alle ore 17.00
DESCRIPTION:Disponibilità dello spazio coworking\, fruibile gratuitamente nelle orari indicati\nSi ricorda che gli orari dello spazio coworking sono suscettibili di variazioni\, in base al calendario degli eventi. \nPer maggiori info 3665616955
URL:https://centoincroci.regione.lazio.it/evento/spazio-coworking-dalle-ore-9-alle-ore-16-30-2/2027-01-08/
CATEGORIES:Incontri
ATTACH;FMTTYPE=image/jpeg:https://centoincroci.regione.lazio.it/app/uploads/2024/04/339737201_1384829545390398_5164164649820751090_n.jpg
END:VEVENT
BEGIN:VEVENT
DTSTART;TZID=Europe/Rome:20270108T170000
DTEND;TZID=Europe/Rome:20270108T200000
DTSTAMP:20260422T041534
CREATED:20260220T075247Z
LAST-MODIFIED:20260220T075249Z
UID:10003282-1799427600-1799438400@centoincroci.regione.lazio.it
SUMMARY:Corso di Italiano per stranieri livello base e avanzato
DESCRIPTION:Ogni venerdì dalle ore 17 alle ore 20 Cento Incroci ospita un corso di Italiano per stranieri livello base e avanzato.\nCorso gratuito\, previa prenotazione. \nPrenotazioni tramite telefono al numero 3665616955
URL:https://centoincroci.regione.lazio.it/evento/corso-di-italiano-per-stranieri-livello-base-e-avanzato-4/2027-01-08/
ATTACH;FMTTYPE=image/jpeg:https://centoincroci.regione.lazio.it/app/uploads/2024/06/Corso-italiano-per-stranieri.jpg
END:VEVENT
BEGIN:VEVENT
DTSTART;TZID=Europe/Rome:20270110T100000
DTEND;TZID=Europe/Rome:20270110T200000
DTSTAMP:20260422T041534
CREATED:20260223T121343Z
LAST-MODIFIED:20260227T112347Z
UID:10003485-1799575200-1799611200@centoincroci.regione.lazio.it
SUMMARY:Spazio coworking – orari
DESCRIPTION:Disponibilità dello spazio coworking\, fruibile gratuitamente.
URL:https://centoincroci.regione.lazio.it/evento/spazio-coworking-orari-6/2027-01-10/
CATEGORIES:Leggiamo insieme
ATTACH;FMTTYPE=image/jpeg:https://centoincroci.regione.lazio.it/app/uploads/2026/01/cento.jpg
END:VEVENT
BEGIN:VEVENT
DTSTART;TZID=Europe/Rome:20270111T180000
DTEND;TZID=Europe/Rome:20270111T200000
DTSTAMP:20260422T041534
CREATED:20260130T124512Z
LAST-MODIFIED:20260130T124618Z
UID:10002607-1799690400-1799697600@centoincroci.regione.lazio.it
SUMMARY:Laboratorio di lettura poetica
DESCRIPTION:Ogni lunedì dalle ore 18.30 alle ore 20 Cento Incroci ospita un Laboratorio di lettura poetica. Uno spazio creativo\, dove i partecipanti possono esplorare la poesia\, condividendo la loro passione\nLaboratorio gratuito\, previa prenotazione. \nPrenotazioni tramite telefono al numero 3665616955
URL:https://centoincroci.regione.lazio.it/evento/laboratorio-di-lettura-poetica-51-2/2027-01-11/
CATEGORIES:I Laboratori
ATTACH;FMTTYPE=image/jpeg:https://centoincroci.regione.lazio.it/app/uploads/2024/07/5ba7b5ed7357e236133832524f8fc5.jpg
END:VEVENT
BEGIN:VEVENT
DTSTART;TZID=Europe/Rome:20270112T100000
DTEND;TZID=Europe/Rome:20270112T163000
DTSTAMP:20260422T041534
CREATED:20260320T115044Z
LAST-MODIFIED:20260320T115145Z
UID:10003571-1799748000-1799771400@centoincroci.regione.lazio.it
SUMMARY:Spazio coworking - dalle ore 10 alle ore 16.30
DESCRIPTION:Disponibilità dello spazio coworking\, fruibile gratuitamente nelle orari indicati\nSi ricorda che gli orari dello spazio coworking sono suscettibili di variazioni\, in base al calendario degli eventi. \nPer maggiori info 3665616955
URL:https://centoincroci.regione.lazio.it/evento/spazio-coworking-3-febbraio-dalle-ore-9-alle-ore-16-30-2/2027-01-12/
ATTACH;FMTTYPE=image/jpeg:https://centoincroci.regione.lazio.it/app/uploads/2024/04/339737201_1384829545390398_5164164649820751090_n.jpg
END:VEVENT
BEGIN:VEVENT
DTSTART;TZID=Europe/Rome:20270112T163000
DTEND;TZID=Europe/Rome:20270112T190000
DTSTAMP:20260422T041534
CREATED:20260219T082554Z
LAST-MODIFIED:20260306T132516Z
UID:10003168-1799771400-1799780400@centoincroci.regione.lazio.it
SUMMARY:Corso di inglese base per adulti- Prenotazioni chiuse
DESCRIPTION:Ogni martedì dalle ore 16.30 alle ore 19.00 Cento Incroci ospita un corso di inglese base per adulti. Attraverso lezioni pratiche e conversazioni reali\, aiuta ad aumentare la confidenza con la lingua inglese\nCorso gratuito\, previa prenotazione. \nPrenotazioni tramite telefono al numero 3665616955
URL:https://centoincroci.regione.lazio.it/evento/corso-di-inglese-base-per-adulti-2-2/2027-01-12/
CATEGORIES:I Laboratori
ATTACH;FMTTYPE=image/jpeg:https://centoincroci.regione.lazio.it/app/uploads/2025/09/disposizione-dei-libri-inglesi-vista-dall-alto-scaled-e1757319659105.jpg
END:VEVENT
BEGIN:VEVENT
DTSTART;TZID=Europe/Rome:20270112T183000
DTEND;TZID=Europe/Rome:20270112T200000
DTSTAMP:20260422T041534
CREATED:20260407T071835Z
LAST-MODIFIED:20260407T071836Z
UID:10003631-1799778600-1799784000@centoincroci.regione.lazio.it
SUMMARY:Corso di Vela in LIS per adulti
DESCRIPTION:Nelle giornate del 14\, 21\, 28 aprile e 5\, 12 maggio dalle ore 18:30 alle ore 20:00 Cento Incroci ospiterà il Corso di Vela in LIS per adulti organizzato da Edoardo Ricci\, autore del libro “SEGNI PER LA VELA”\, il primo manuale di vela in LIS a livello internazionale\, patrocinato dall’Ente Nazionale Sordi e dalla Federazione Italiana Vela. \nIl corso è completamente gratuito e rivolto a 7 partecipanti già iscritti tramite l’ENS (Ente Nazionale Sordi) in qualità di tesserati del Comitato Giovani Sordi Italiani. \nSi articolerà in cinque lezioni che si svolgeranno dalle 18:30 alle 20:00 di ogni martedì fino al 12 Maggio 2026 finalizzate a valutarne l’apprendimento e ovviamente a formare il primo equipaggio di marinai sordi.
URL:https://centoincroci.regione.lazio.it/evento/corso-di-vela-in-lis-per-adulti-2/2027-01-12/
CATEGORIES:I Laboratori
ATTACH;FMTTYPE=image/jpeg:https://centoincroci.regione.lazio.it/app/uploads/2026/04/copertina-libro-Segni-Vela-marzo-2026.jpg
END:VEVENT
BEGIN:VEVENT
DTSTART;TZID=Europe/Rome:20270113T090000
DTEND;TZID=Europe/Rome:20270113T170000
DTSTAMP:20260422T041534
CREATED:20260130T125048Z
LAST-MODIFIED:20260220T075455Z
UID:10002776-1799830800-1799859600@centoincroci.regione.lazio.it
SUMMARY:Spazio coworking - dalle ore 9 alle 17
DESCRIPTION:Disponibilità dello spazio coworking\, fruibile gratuitamente nelle orari indicati\nSi ricorda che gli orari dello spazio coworking sono suscettibili di variazioni\, in base al calendario degli eventi. \nPer maggiori info 3665616955
URL:https://centoincroci.regione.lazio.it/evento/spazio-coworking-dalle-ore-9-alle-20-2/2027-01-13/
CATEGORIES:Incontri
ATTACH;FMTTYPE=image/jpeg:https://centoincroci.regione.lazio.it/app/uploads/2024/04/339737201_1384829545390398_5164164649820751090_n.jpg
END:VEVENT
BEGIN:VEVENT
DTSTART;TZID=Europe/Rome:20270114T090000
DTEND;TZID=Europe/Rome:20270114T173000
DTSTAMP:20260422T041534
CREATED:20260227T111916Z
LAST-MODIFIED:20260227T111918Z
UID:10003001-1799917200-1799947800@centoincroci.regione.lazio.it
SUMMARY:Spazio coworking - dalle ore 9 alle ore 17.30
DESCRIPTION:Disponibilità dello spazio coworking\, fruibile gratuitamente nelle orari indicati\nSi ricorda che gli orari dello spazio coworking sono suscettibili di variazioni\, in base al calendario degli eventi. \nPer maggiori info 3665616955
URL:https://centoincroci.regione.lazio.it/evento/spazio-coworking-dalle-ore-9-alle-ore-17-30-2/2027-01-14/
ATTACH;FMTTYPE=image/jpeg:https://centoincroci.regione.lazio.it/app/uploads/2024/04/339737201_1384829545390398_5164164649820751090_n.jpg
END:VEVENT
BEGIN:VEVENT
DTSTART;TZID=Europe/Rome:20270115T090000
DTEND;TZID=Europe/Rome:20270115T170000
DTSTAMP:20260422T041534
CREATED:20260206T125151Z
LAST-MODIFIED:20260206T130506Z
UID:10003224-1800003600-1800032400@centoincroci.regione.lazio.it
SUMMARY:Spazio coworking - dalle ore 9 alle ore 17.00
DESCRIPTION:Disponibilità dello spazio coworking\, fruibile gratuitamente nelle orari indicati\nSi ricorda che gli orari dello spazio coworking sono suscettibili di variazioni\, in base al calendario degli eventi. \nPer maggiori info 3665616955
URL:https://centoincroci.regione.lazio.it/evento/spazio-coworking-dalle-ore-9-alle-ore-16-30-2/2027-01-15/
CATEGORIES:Incontri
ATTACH;FMTTYPE=image/jpeg:https://centoincroci.regione.lazio.it/app/uploads/2024/04/339737201_1384829545390398_5164164649820751090_n.jpg
END:VEVENT
BEGIN:VEVENT
DTSTART;TZID=Europe/Rome:20270115T170000
DTEND;TZID=Europe/Rome:20270115T200000
DTSTAMP:20260422T041534
CREATED:20260220T075247Z
LAST-MODIFIED:20260220T075249Z
UID:10003283-1800032400-1800043200@centoincroci.regione.lazio.it
SUMMARY:Corso di Italiano per stranieri livello base e avanzato
DESCRIPTION:Ogni venerdì dalle ore 17 alle ore 20 Cento Incroci ospita un corso di Italiano per stranieri livello base e avanzato.\nCorso gratuito\, previa prenotazione. \nPrenotazioni tramite telefono al numero 3665616955
URL:https://centoincroci.regione.lazio.it/evento/corso-di-italiano-per-stranieri-livello-base-e-avanzato-4/2027-01-15/
ATTACH;FMTTYPE=image/jpeg:https://centoincroci.regione.lazio.it/app/uploads/2024/06/Corso-italiano-per-stranieri.jpg
END:VEVENT
BEGIN:VEVENT
DTSTART;TZID=Europe/Rome:20270117T100000
DTEND;TZID=Europe/Rome:20270117T200000
DTSTAMP:20260422T041534
CREATED:20260223T121343Z
LAST-MODIFIED:20260227T112347Z
UID:10003486-1800180000-1800216000@centoincroci.regione.lazio.it
SUMMARY:Spazio coworking – orari
DESCRIPTION:Disponibilità dello spazio coworking\, fruibile gratuitamente.
URL:https://centoincroci.regione.lazio.it/evento/spazio-coworking-orari-6/2027-01-17/
CATEGORIES:Leggiamo insieme
ATTACH;FMTTYPE=image/jpeg:https://centoincroci.regione.lazio.it/app/uploads/2026/01/cento.jpg
END:VEVENT
BEGIN:VEVENT
DTSTART;TZID=Europe/Rome:20270118T180000
DTEND;TZID=Europe/Rome:20270118T200000
DTSTAMP:20260422T041534
CREATED:20260130T124512Z
LAST-MODIFIED:20260130T124618Z
UID:10002608-1800295200-1800302400@centoincroci.regione.lazio.it
SUMMARY:Laboratorio di lettura poetica
DESCRIPTION:Ogni lunedì dalle ore 18.30 alle ore 20 Cento Incroci ospita un Laboratorio di lettura poetica. Uno spazio creativo\, dove i partecipanti possono esplorare la poesia\, condividendo la loro passione\nLaboratorio gratuito\, previa prenotazione. \nPrenotazioni tramite telefono al numero 3665616955
URL:https://centoincroci.regione.lazio.it/evento/laboratorio-di-lettura-poetica-51-2/2027-01-18/
CATEGORIES:I Laboratori
ATTACH;FMTTYPE=image/jpeg:https://centoincroci.regione.lazio.it/app/uploads/2024/07/5ba7b5ed7357e236133832524f8fc5.jpg
END:VEVENT
BEGIN:VEVENT
DTSTART;TZID=Europe/Rome:20270119T100000
DTEND;TZID=Europe/Rome:20270119T163000
DTSTAMP:20260422T041534
CREATED:20260320T115044Z
LAST-MODIFIED:20260320T115145Z
UID:10003572-1800352800-1800376200@centoincroci.regione.lazio.it
SUMMARY:Spazio coworking - dalle ore 10 alle ore 16.30
DESCRIPTION:Disponibilità dello spazio coworking\, fruibile gratuitamente nelle orari indicati\nSi ricorda che gli orari dello spazio coworking sono suscettibili di variazioni\, in base al calendario degli eventi. \nPer maggiori info 3665616955
URL:https://centoincroci.regione.lazio.it/evento/spazio-coworking-3-febbraio-dalle-ore-9-alle-ore-16-30-2/2027-01-19/
ATTACH;FMTTYPE=image/jpeg:https://centoincroci.regione.lazio.it/app/uploads/2024/04/339737201_1384829545390398_5164164649820751090_n.jpg
END:VEVENT
BEGIN:VEVENT
DTSTART;TZID=Europe/Rome:20270119T163000
DTEND;TZID=Europe/Rome:20270119T190000
DTSTAMP:20260422T041534
CREATED:20260219T082554Z
LAST-MODIFIED:20260306T132516Z
UID:10003169-1800376200-1800385200@centoincroci.regione.lazio.it
SUMMARY:Corso di inglese base per adulti- Prenotazioni chiuse
DESCRIPTION:Ogni martedì dalle ore 16.30 alle ore 19.00 Cento Incroci ospita un corso di inglese base per adulti. Attraverso lezioni pratiche e conversazioni reali\, aiuta ad aumentare la confidenza con la lingua inglese\nCorso gratuito\, previa prenotazione. \nPrenotazioni tramite telefono al numero 3665616955
URL:https://centoincroci.regione.lazio.it/evento/corso-di-inglese-base-per-adulti-2-2/2027-01-19/
CATEGORIES:I Laboratori
ATTACH;FMTTYPE=image/jpeg:https://centoincroci.regione.lazio.it/app/uploads/2025/09/disposizione-dei-libri-inglesi-vista-dall-alto-scaled-e1757319659105.jpg
END:VEVENT
BEGIN:VEVENT
DTSTART;TZID=Europe/Rome:20270119T183000
DTEND;TZID=Europe/Rome:20270119T200000
DTSTAMP:20260422T041534
CREATED:20260407T071835Z
LAST-MODIFIED:20260407T071836Z
UID:10003632-1800383400-1800388800@centoincroci.regione.lazio.it
SUMMARY:Corso di Vela in LIS per adulti
DESCRIPTION:Nelle giornate del 14\, 21\, 28 aprile e 5\, 12 maggio dalle ore 18:30 alle ore 20:00 Cento Incroci ospiterà il Corso di Vela in LIS per adulti organizzato da Edoardo Ricci\, autore del libro “SEGNI PER LA VELA”\, il primo manuale di vela in LIS a livello internazionale\, patrocinato dall’Ente Nazionale Sordi e dalla Federazione Italiana Vela. \nIl corso è completamente gratuito e rivolto a 7 partecipanti già iscritti tramite l’ENS (Ente Nazionale Sordi) in qualità di tesserati del Comitato Giovani Sordi Italiani. \nSi articolerà in cinque lezioni che si svolgeranno dalle 18:30 alle 20:00 di ogni martedì fino al 12 Maggio 2026 finalizzate a valutarne l’apprendimento e ovviamente a formare il primo equipaggio di marinai sordi.
URL:https://centoincroci.regione.lazio.it/evento/corso-di-vela-in-lis-per-adulti-2/2027-01-19/
CATEGORIES:I Laboratori
ATTACH;FMTTYPE=image/jpeg:https://centoincroci.regione.lazio.it/app/uploads/2026/04/copertina-libro-Segni-Vela-marzo-2026.jpg
END:VEVENT
BEGIN:VEVENT
DTSTART;TZID=Europe/Rome:20270120T090000
DTEND;TZID=Europe/Rome:20270120T170000
DTSTAMP:20260422T041534
CREATED:20260130T125048Z
LAST-MODIFIED:20260220T075455Z
UID:10002777-1800435600-1800464400@centoincroci.regione.lazio.it
SUMMARY:Spazio coworking - dalle ore 9 alle 17
DESCRIPTION:Disponibilità dello spazio coworking\, fruibile gratuitamente nelle orari indicati\nSi ricorda che gli orari dello spazio coworking sono suscettibili di variazioni\, in base al calendario degli eventi. \nPer maggiori info 3665616955
URL:https://centoincroci.regione.lazio.it/evento/spazio-coworking-dalle-ore-9-alle-20-2/2027-01-20/
CATEGORIES:Incontri
ATTACH;FMTTYPE=image/jpeg:https://centoincroci.regione.lazio.it/app/uploads/2024/04/339737201_1384829545390398_5164164649820751090_n.jpg
END:VEVENT
BEGIN:VEVENT
DTSTART;TZID=Europe/Rome:20270121T090000
DTEND;TZID=Europe/Rome:20270121T173000
DTSTAMP:20260422T041534
CREATED:20260227T111916Z
LAST-MODIFIED:20260227T111918Z
UID:10003002-1800522000-1800552600@centoincroci.regione.lazio.it
SUMMARY:Spazio coworking - dalle ore 9 alle ore 17.30
DESCRIPTION:Disponibilità dello spazio coworking\, fruibile gratuitamente nelle orari indicati\nSi ricorda che gli orari dello spazio coworking sono suscettibili di variazioni\, in base al calendario degli eventi. \nPer maggiori info 3665616955
URL:https://centoincroci.regione.lazio.it/evento/spazio-coworking-dalle-ore-9-alle-ore-17-30-2/2027-01-21/
ATTACH;FMTTYPE=image/jpeg:https://centoincroci.regione.lazio.it/app/uploads/2024/04/339737201_1384829545390398_5164164649820751090_n.jpg
END:VEVENT
BEGIN:VEVENT
DTSTART;TZID=Europe/Rome:20270122T090000
DTEND;TZID=Europe/Rome:20270122T170000
DTSTAMP:20260422T041534
CREATED:20260206T125151Z
LAST-MODIFIED:20260206T130506Z
UID:10003225-1800608400-1800637200@centoincroci.regione.lazio.it
SUMMARY:Spazio coworking - dalle ore 9 alle ore 17.00
DESCRIPTION:Disponibilità dello spazio coworking\, fruibile gratuitamente nelle orari indicati\nSi ricorda che gli orari dello spazio coworking sono suscettibili di variazioni\, in base al calendario degli eventi. \nPer maggiori info 3665616955
URL:https://centoincroci.regione.lazio.it/evento/spazio-coworking-dalle-ore-9-alle-ore-16-30-2/2027-01-22/
CATEGORIES:Incontri
ATTACH;FMTTYPE=image/jpeg:https://centoincroci.regione.lazio.it/app/uploads/2024/04/339737201_1384829545390398_5164164649820751090_n.jpg
END:VEVENT
BEGIN:VEVENT
DTSTART;TZID=Europe/Rome:20270122T170000
DTEND;TZID=Europe/Rome:20270122T200000
DTSTAMP:20260422T041534
CREATED:20260220T075247Z
LAST-MODIFIED:20260220T075249Z
UID:10003284-1800637200-1800648000@centoincroci.regione.lazio.it
SUMMARY:Corso di Italiano per stranieri livello base e avanzato
DESCRIPTION:Ogni venerdì dalle ore 17 alle ore 20 Cento Incroci ospita un corso di Italiano per stranieri livello base e avanzato.\nCorso gratuito\, previa prenotazione. \nPrenotazioni tramite telefono al numero 3665616955
URL:https://centoincroci.regione.lazio.it/evento/corso-di-italiano-per-stranieri-livello-base-e-avanzato-4/2027-01-22/
ATTACH;FMTTYPE=image/jpeg:https://centoincroci.regione.lazio.it/app/uploads/2024/06/Corso-italiano-per-stranieri.jpg
END:VEVENT
BEGIN:VEVENT
DTSTART;TZID=Europe/Rome:20270124T100000
DTEND;TZID=Europe/Rome:20270124T200000
DTSTAMP:20260422T041534
CREATED:20260223T121343Z
LAST-MODIFIED:20260227T112347Z
UID:10003487-1800784800-1800820800@centoincroci.regione.lazio.it
SUMMARY:Spazio coworking – orari
DESCRIPTION:Disponibilità dello spazio coworking\, fruibile gratuitamente.
URL:https://centoincroci.regione.lazio.it/evento/spazio-coworking-orari-6/2027-01-24/
CATEGORIES:Leggiamo insieme
ATTACH;FMTTYPE=image/jpeg:https://centoincroci.regione.lazio.it/app/uploads/2026/01/cento.jpg
END:VEVENT
END:VCALENDAR