BEGIN:VCALENDAR
VERSION:2.0
PRODID:-//Cento incroci - ECPv6.8.3//NONSGML v1.0//EN
CALSCALE:GREGORIAN
METHOD:PUBLISH
X-WR-CALNAME:Cento incroci
X-ORIGINAL-URL:https://centoincroci.regione.lazio.it
X-WR-CALDESC:Eventi per Cento incroci
REFRESH-INTERVAL;VALUE=DURATION:PT1H
X-Robots-Tag:noindex
X-PUBLISHED-TTL:PT1H
BEGIN:VTIMEZONE
TZID:Europe/Rome
BEGIN:DAYLIGHT
TZOFFSETFROM:+0100
TZOFFSETTO:+0200
TZNAME:CEST
DTSTART:20260329T010000
END:DAYLIGHT
BEGIN:STANDARD
TZOFFSETFROM:+0200
TZOFFSETTO:+0100
TZNAME:CET
DTSTART:20261025T010000
END:STANDARD
END:VTIMEZONE
BEGIN:VEVENT
DTSTART;TZID=Europe/Rome:20260105T163000
DTEND;TZID=Europe/Rome:20260105T180000
DTSTAMP:20260421T040943
CREATED:20251205T082325Z
LAST-MODIFIED:20251205T082326Z
UID:10002466-1767630600-1767636000@centoincroci.regione.lazio.it
SUMMARY:Corso di Découpage Natalizio
DESCRIPTION:Cento Incroci a partire dal 15 dicembre dalle 16:30 alle 18:00 ospita un corso di Découpage Natalizio. \nIl découpage è l’arte di decorare oggetti i più diversi tra loro\, con ritagli di carta o tovaglioli di carta\, con la finalità di dare all’oggetto una nuova immagine con effetti decorativi unici. Questa tecnica è applicabile a qualsiasi supporto dal vetro al coccio per arrivare alla plastica\, legno\, ceramica e oggetti di gesso. Anche oggetti come caffettiere\, piatti\, borse ecc. La prima fase sarà scegliere l’oggetto e la carta d’applicare\, si farà aderire con una colla specifica e dopo l’asciugatura si passerà alla rifinitura. Con il découpage si vive un’esperienza legata alla pazienza\, all’attenzione nei particolari\, alla condivisione\, in quanto saranno persone anche sconosciute tra di loro ma che alla fine si troveranno a vivere un’esperienza di creatività collettiva e coinvolgente in quattro appuntamenti nelle seguenti date:\nLunedì 15 dicembre\nLunedì 22 dicembre\nLunedì 29 dicembre 2025\nLunedì 5 Gennaio 2026 \nPer aderire al corso non ci sono limiti d’età e la partecipazione è gratuita fino ad esaurimento posti.\nPrenotazioni tramite telefono o whatsapp al numero 3665616955
URL:https://centoincroci.regione.lazio.it/evento/corso-di-decoupage-natalizio/2026-01-05/
CATEGORIES:I Laboratori
ATTACH;FMTTYPE=image/png:https://centoincroci.regione.lazio.it/app/uploads/2025/12/LocDecoupageNatalizio152229.12.2025e5.01.2026_02.png
END:VEVENT
BEGIN:VEVENT
DTSTART;VALUE=DATE:20260106
DTEND;VALUE=DATE:20260107
DTSTAMP:20260421T040943
CREATED:20251128T100726Z
LAST-MODIFIED:20251128T100726Z
UID:10002455-1767657600-1767743999@centoincroci.regione.lazio.it
SUMMARY:Chiusure Cento Incroci per festività
DESCRIPTION:Si comunica che nelle seguenti giornate Cento Incroci resterà chiuso per festività: \n8 Dicembre  \n25 e 26  Dicembre  \n1 e 6 Gennaio. \n 
URL:https://centoincroci.regione.lazio.it/evento/chiusure-cento-incroci-per-festivita-5/
CATEGORIES:Incontri
END:VEVENT
BEGIN:VEVENT
DTSTART;TZID=Europe/Rome:20260106T090000
DTEND;TZID=Europe/Rome:20260106T100000
DTSTAMP:20260421T040943
CREATED:20250908T081227Z
LAST-MODIFIED:20260109T082004Z
UID:10002285-1767690000-1767693600@centoincroci.regione.lazio.it
SUMMARY:Sportello di ascolto psicologico
DESCRIPTION:Presso Cento Incroci è attivo uno Sportello di Ascolto psicologico gratuito. La psicologa offrirà ascolto\, supporto emotivo e strumenti per aiutare a gestire difficoltà e migliorare il benessere psicologico. \nAperto tutti i martedì\, dalle ore 9 alle ore 10.
URL:https://centoincroci.regione.lazio.it/evento/sportello-di-ascolto-psicologico-26/2026-01-06/
CATEGORIES:Incontri
ATTACH;FMTTYPE=image/jpeg:https://centoincroci.regione.lazio.it/app/uploads/2022/09/sportellopsicologico-foto.jpg
END:VEVENT
BEGIN:VEVENT
DTSTART;TZID=Europe/Rome:20260106T163000
DTEND;TZID=Europe/Rome:20260106T180000
DTSTAMP:20260421T040943
CREATED:20250908T081814Z
LAST-MODIFIED:20260109T082128Z
UID:10002050-1767717000-1767722400@centoincroci.regione.lazio.it
SUMMARY:Corso di inglese base per adulti
DESCRIPTION:Ogni martedì dalle ore 16.30 alle ore 18 Cento Incroci ospita un corso di inglese base per adulti. Attraverso lezioni pratiche e conversazioni reali\,aiuta ad aumentare la confidenza con la lingua inglese\nCorso gratuito\, previa prenotazione. \nPrenotazioni tramite telefono o whatsapp al numero 3665616955
URL:https://centoincroci.regione.lazio.it/evento/corso-di-inglese-base-per-adulti/2026-01-06/
CATEGORIES:I Laboratori
ATTACH;FMTTYPE=image/jpeg:https://centoincroci.regione.lazio.it/app/uploads/2025/09/disposizione-dei-libri-inglesi-vista-dall-alto-scaled-e1757319659105.jpg
END:VEVENT
BEGIN:VEVENT
DTSTART;TZID=Europe/Rome:20260107T170000
DTEND;TZID=Europe/Rome:20260107T190000
DTSTAMP:20260421T040943
CREATED:20250908T082417Z
LAST-MODIFIED:20260121T123119Z
UID:10002109-1767805200-1767812400@centoincroci.regione.lazio.it
SUMMARY:Laboratorio di teatro per bambini 6/12 anni
DESCRIPTION:Ogni mercoledì dalle ore 17 alle ore 19 Cento Incroci ospita un laboratorio di teatro per bambini 6/12 anni\, uno spazio creativo e divertente dove i bambini potranno sviluppare abilità sociali\, emotive e comunicative. \nCorso gratuito\, previa prenotazione. \nPrenotazioni tramite telefono o whatsapp al numero 3665616955
URL:https://centoincroci.regione.lazio.it/evento/laboratorio-di-teatro-per-bambini-6-12-anni/2026-01-07/
CATEGORIES:I Laboratori
ATTACH;FMTTYPE=image/jpeg:https://centoincroci.regione.lazio.it/app/uploads/2025/01/laboratorio-teatrale.jpg
END:VEVENT
BEGIN:VEVENT
DTSTART;TZID=Europe/Rome:20260108T173000
DTEND;TZID=Europe/Rome:20260108T200000
DTSTAMP:20260421T040943
CREATED:20251205T081300Z
LAST-MODIFIED:20260130T125748Z
UID:10002472-1767893400-1767902400@centoincroci.regione.lazio.it
SUMMARY:Corso informatica base
DESCRIPTION:Ogni giovedì dalle ore 17.30 alle ore 20 Cento Incroci ospita un corso informatica base\, progettato per fornire fondamenta per utilizzare il pc\, apprendere a gestire file e cartelle\, posta elettronica e navigare in modo sicuro. \nOgni partecipante deve portare un blocco o un quaderno per prendere appunti e\, se possibile\, un PC portatile o un Tablet \nCorso gratuito\, previa prenotazione. \nPrenotazioni tramite telefono al numero 3665616955 \n 
URL:https://centoincroci.regione.lazio.it/evento/corso-informatica-base-3/2026-01-08/
CATEGORIES:I Laboratori
ATTACH;FMTTYPE=image/jpeg:https://centoincroci.regione.lazio.it/app/uploads/2025/12/Locandina-corso-informatica-e1769599043282.jpg
END:VEVENT
BEGIN:VEVENT
DTSTART;TZID=Europe/Rome:20260112T090000
DTEND;TZID=Europe/Rome:20260112T180000
DTSTAMP:20260421T040943
CREATED:20250702T122145Z
LAST-MODIFIED:20250702T123345Z
UID:10001564-1768208400-1768240800@centoincroci.regione.lazio.it
SUMMARY:Spazio coworking - orari
DESCRIPTION:Disponibilità dello spazio coworking\, fruibile gratuitamente nei seguenti orari\nlunedì dalle 9 alle 18\ndal martedì al venerdì dalle 9 alle 20\n sabato e domenica dalle 10 alle 20 \nPer maggiori info 3665616955
URL:https://centoincroci.regione.lazio.it/evento/spazio-coworking-orari-2/2026-01-12/
CATEGORIES:Incontri
ATTACH;FMTTYPE=image/jpeg:https://centoincroci.regione.lazio.it/app/uploads/2024/04/339737201_1384829545390398_5164164649820751090_n.jpg
END:VEVENT
BEGIN:VEVENT
DTSTART;TZID=Europe/Rome:20260112T170000
DTEND;TZID=Europe/Rome:20260112T190000
DTSTAMP:20260421T040943
CREATED:20260112T085216Z
LAST-MODIFIED:20260112T085306Z
UID:10002528-1768237200-1768244400@centoincroci.regione.lazio.it
SUMMARY:Corso di Découpage Natalizio - lezione di recupero
DESCRIPTION:Oggi dalle ore 17 alle 19 Cento Incroci ospita una lezione di recupero del corso di decoupage natalizio.\n\n\nLa partecipazione è gratuita fino ad esaurimento posti.\nPrenotazioni tramite telefono o whatsapp al numero 3665616955
URL:https://centoincroci.regione.lazio.it/evento/corso-di-decoupage-natalizio-lezioni-di-recupero/
CATEGORIES:I Laboratori
ATTACH;FMTTYPE=image/png:https://centoincroci.regione.lazio.it/app/uploads/2025/12/LocDecoupageNatalizio152229.12.2025e5.01.2026_02.png
END:VEVENT
BEGIN:VEVENT
DTSTART;TZID=Europe/Rome:20260113T090000
DTEND;TZID=Europe/Rome:20260113T100000
DTSTAMP:20260421T040943
CREATED:20250908T081227Z
LAST-MODIFIED:20260109T082004Z
UID:10002286-1768294800-1768298400@centoincroci.regione.lazio.it
SUMMARY:Sportello di ascolto psicologico
DESCRIPTION:Presso Cento Incroci è attivo uno Sportello di Ascolto psicologico gratuito. La psicologa offrirà ascolto\, supporto emotivo e strumenti per aiutare a gestire difficoltà e migliorare il benessere psicologico. \nAperto tutti i martedì\, dalle ore 9 alle ore 10.
URL:https://centoincroci.regione.lazio.it/evento/sportello-di-ascolto-psicologico-26/2026-01-13/
CATEGORIES:Incontri
ATTACH;FMTTYPE=image/jpeg:https://centoincroci.regione.lazio.it/app/uploads/2022/09/sportellopsicologico-foto.jpg
END:VEVENT
BEGIN:VEVENT
DTSTART;TZID=Europe/Rome:20260113T163000
DTEND;TZID=Europe/Rome:20260113T180000
DTSTAMP:20260421T040943
CREATED:20250908T081814Z
LAST-MODIFIED:20260109T082128Z
UID:10002051-1768321800-1768327200@centoincroci.regione.lazio.it
SUMMARY:Corso di inglese base per adulti
DESCRIPTION:Ogni martedì dalle ore 16.30 alle ore 18 Cento Incroci ospita un corso di inglese base per adulti. Attraverso lezioni pratiche e conversazioni reali\,aiuta ad aumentare la confidenza con la lingua inglese\nCorso gratuito\, previa prenotazione. \nPrenotazioni tramite telefono o whatsapp al numero 3665616955
URL:https://centoincroci.regione.lazio.it/evento/corso-di-inglese-base-per-adulti/2026-01-13/
CATEGORIES:I Laboratori
ATTACH;FMTTYPE=image/jpeg:https://centoincroci.regione.lazio.it/app/uploads/2025/09/disposizione-dei-libri-inglesi-vista-dall-alto-scaled-e1757319659105.jpg
END:VEVENT
BEGIN:VEVENT
DTSTART;TZID=Europe/Rome:20260114T170000
DTEND;TZID=Europe/Rome:20260114T190000
DTSTAMP:20260421T040943
CREATED:20250908T082417Z
LAST-MODIFIED:20260121T123119Z
UID:10002110-1768410000-1768417200@centoincroci.regione.lazio.it
SUMMARY:Laboratorio di teatro per bambini 6/12 anni
DESCRIPTION:Ogni mercoledì dalle ore 17 alle ore 19 Cento Incroci ospita un laboratorio di teatro per bambini 6/12 anni\, uno spazio creativo e divertente dove i bambini potranno sviluppare abilità sociali\, emotive e comunicative. \nCorso gratuito\, previa prenotazione. \nPrenotazioni tramite telefono o whatsapp al numero 3665616955
URL:https://centoincroci.regione.lazio.it/evento/laboratorio-di-teatro-per-bambini-6-12-anni/2026-01-14/
CATEGORIES:I Laboratori
ATTACH;FMTTYPE=image/jpeg:https://centoincroci.regione.lazio.it/app/uploads/2025/01/laboratorio-teatrale.jpg
END:VEVENT
BEGIN:VEVENT
DTSTART;TZID=Europe/Rome:20260115T173000
DTEND;TZID=Europe/Rome:20260115T190000
DTSTAMP:20260421T040943
CREATED:20260109T150047Z
LAST-MODIFIED:20260109T150048Z
UID:10002473-1768498200-1768503600@centoincroci.regione.lazio.it
SUMMARY:Corso informatica base - ANNULLATO PER LA GIORNATA DEL 15 GENNAIO
DESCRIPTION:Ogni giovedì dalle ore 17.30 alle ore 19 Cento Incroci ospita un corso informatica base\, progettato per fornire fondamenta per utilizzare il pc\, apprendere a gestire file e cartelle\, posta elettronica e navigare in modo sicuro. \nCorso gratuito\, previa prenotazione. \nPrenotazioni tramite telefono o whatsapp al numero 3665616955 \n 
URL:https://centoincroci.regione.lazio.it/evento/corso-informatica-base-3-2/
CATEGORIES:I Laboratori
ATTACH;FMTTYPE=image/jpeg:https://centoincroci.regione.lazio.it/app/uploads/2024/09/748852_35ba_3.jpg
END:VEVENT
BEGIN:VEVENT
DTSTART;TZID=Europe/Rome:20260117T160000
DTEND;TZID=Europe/Rome:20260117T180000
DTSTAMP:20260421T040943
CREATED:20260113T093353Z
LAST-MODIFIED:20260113T093354Z
UID:10002535-1768665600-1768672800@centoincroci.regione.lazio.it
SUMMARY:Prove generali spettacolo con i bambini del corso di teatro
DESCRIPTION:Nella giornata di sabato 17 gennaio\, dalle ore 16 alle 18\, si terranno le prove generali per lo spettacolo di teatro con i bambini che hanno frequentato il laboratorio di teatro presso Cento Incroci. \nLo spettacolo finale si terrà il giorno 1 febbraio
URL:https://centoincroci.regione.lazio.it/evento/prove-generali-spettacolo-con-i-bambini-del-corso-di-teatro/
CATEGORIES:Incontri
ATTACH;FMTTYPE=image/jpeg:https://centoincroci.regione.lazio.it/app/uploads/2025/01/laboratorio-teatrale.jpg
END:VEVENT
BEGIN:VEVENT
DTSTART;TZID=Europe/Rome:20260118T140000
DTEND;TZID=Europe/Rome:20260118T160000
DTSTAMP:20260421T040943
CREATED:20251112T143917Z
LAST-MODIFIED:20260113T092739Z
UID:10002448-1768744800-1768752000@centoincroci.regione.lazio.it
SUMMARY:WeArt – Laboratorio artistico espressivo
DESCRIPTION:Cento Incroci ospita “WeArt – Laboratorio esperienziale di arte cooperativa e relazionale”\, un percorso artistico-espressivo ispirato alla Gestalt Art Therapy\, pensato per donne con background migratorio (prevalentemente o esclusivamente donne)\, con l’obiettivo di favorire consapevolezza\, espressione e rafforzamento dei legami affettivi e interculturali. Attraverso pittura\, manipolazione\, collage e fotografia\, le partecipanti potranno esplorare emozioni e relazioni\, costruendo uno spazio di socialità\, fiducia e condivisione. \nOrganizzato dal Consiglio Italiano per i Rifugiati ETS \n  \nDATE LABORATORIO\n15/11/2025 h: 14 – 16\n22/11/2025 h: 14 – 16\n30/11/2025 h: 14 – 16\n06/12/2025 h: 14 – 16\n13/12/2025 h: 14 – 16\n20/12/2025 h: 14 – 16\n03/01/2026 h: 14 – 16\n10/01/2026 h: 14 – 16\n18/01/2026 h: 14 – 16\n24/01/2026 h: 14 – 16\n31/01/2026 h: 14 – 16\n07/02/2026 h: 14 – 16 \n  \nCorso gratuito\, previa prenotazione. \nPrenotazioni tramite telefono o whatsapp al numero 3665616955
URL:https://centoincroci.regione.lazio.it/evento/weart-laboratorio-artistico-espressivo-2/
CATEGORIES:I Laboratori
ATTACH;FMTTYPE=image/jpeg:https://centoincroci.regione.lazio.it/app/uploads/2025/11/vista-dall-alto-delle-mani-di-una-donna-attraente-che-disegnano-un-immagine-straordinaria-su-tela-un-moderno-laboratorio-d-arte-accogliente-scaled.jpg
END:VEVENT
BEGIN:VEVENT
DTSTART;TZID=Europe/Rome:20260119T090000
DTEND;TZID=Europe/Rome:20260119T180000
DTSTAMP:20260421T040943
CREATED:20250702T122145Z
LAST-MODIFIED:20250702T123345Z
UID:10001565-1768813200-1768845600@centoincroci.regione.lazio.it
SUMMARY:Spazio coworking - orari
DESCRIPTION:Disponibilità dello spazio coworking\, fruibile gratuitamente nei seguenti orari\nlunedì dalle 9 alle 18\ndal martedì al venerdì dalle 9 alle 20\n sabato e domenica dalle 10 alle 20 \nPer maggiori info 3665616955
URL:https://centoincroci.regione.lazio.it/evento/spazio-coworking-orari-2/2026-01-19/
CATEGORIES:Incontri
ATTACH;FMTTYPE=image/jpeg:https://centoincroci.regione.lazio.it/app/uploads/2024/04/339737201_1384829545390398_5164164649820751090_n.jpg
END:VEVENT
BEGIN:VEVENT
DTSTART;TZID=Europe/Rome:20260120T090000
DTEND;TZID=Europe/Rome:20260120T100000
DTSTAMP:20260421T040943
CREATED:20250908T081227Z
LAST-MODIFIED:20260109T082004Z
UID:10002287-1768899600-1768903200@centoincroci.regione.lazio.it
SUMMARY:Sportello di ascolto psicologico
DESCRIPTION:Presso Cento Incroci è attivo uno Sportello di Ascolto psicologico gratuito. La psicologa offrirà ascolto\, supporto emotivo e strumenti per aiutare a gestire difficoltà e migliorare il benessere psicologico. \nAperto tutti i martedì\, dalle ore 9 alle ore 10.
URL:https://centoincroci.regione.lazio.it/evento/sportello-di-ascolto-psicologico-26/2026-01-20/
CATEGORIES:Incontri
ATTACH;FMTTYPE=image/jpeg:https://centoincroci.regione.lazio.it/app/uploads/2022/09/sportellopsicologico-foto.jpg
END:VEVENT
BEGIN:VEVENT
DTSTART;TZID=Europe/Rome:20260120T163000
DTEND;TZID=Europe/Rome:20260120T180000
DTSTAMP:20260421T040943
CREATED:20250908T081814Z
LAST-MODIFIED:20260109T082128Z
UID:10002052-1768926600-1768932000@centoincroci.regione.lazio.it
SUMMARY:Corso di inglese base per adulti
DESCRIPTION:Ogni martedì dalle ore 16.30 alle ore 18 Cento Incroci ospita un corso di inglese base per adulti. Attraverso lezioni pratiche e conversazioni reali\,aiuta ad aumentare la confidenza con la lingua inglese\nCorso gratuito\, previa prenotazione. \nPrenotazioni tramite telefono o whatsapp al numero 3665616955
URL:https://centoincroci.regione.lazio.it/evento/corso-di-inglese-base-per-adulti/2026-01-20/
CATEGORIES:I Laboratori
ATTACH;FMTTYPE=image/jpeg:https://centoincroci.regione.lazio.it/app/uploads/2025/09/disposizione-dei-libri-inglesi-vista-dall-alto-scaled-e1757319659105.jpg
END:VEVENT
BEGIN:VEVENT
DTSTART;TZID=Europe/Rome:20260121T170000
DTEND;TZID=Europe/Rome:20260121T190000
DTSTAMP:20260421T040943
CREATED:20250908T082417Z
LAST-MODIFIED:20260121T123119Z
UID:10002111-1769014800-1769022000@centoincroci.regione.lazio.it
SUMMARY:Laboratorio di teatro per bambini 6/12 anni
DESCRIPTION:Ogni mercoledì dalle ore 17 alle ore 19 Cento Incroci ospita un laboratorio di teatro per bambini 6/12 anni\, uno spazio creativo e divertente dove i bambini potranno sviluppare abilità sociali\, emotive e comunicative. \nCorso gratuito\, previa prenotazione. \nPrenotazioni tramite telefono o whatsapp al numero 3665616955
URL:https://centoincroci.regione.lazio.it/evento/laboratorio-di-teatro-per-bambini-6-12-anni/2026-01-21/
CATEGORIES:I Laboratori
ATTACH;FMTTYPE=image/jpeg:https://centoincroci.regione.lazio.it/app/uploads/2025/01/laboratorio-teatrale.jpg
END:VEVENT
BEGIN:VEVENT
DTSTART;TZID=Europe/Rome:20260122T173000
DTEND;TZID=Europe/Rome:20260122T200000
DTSTAMP:20260421T040943
CREATED:20251205T081300Z
LAST-MODIFIED:20260130T125748Z
UID:10002474-1769103000-1769112000@centoincroci.regione.lazio.it
SUMMARY:Corso informatica base
DESCRIPTION:Ogni giovedì dalle ore 17.30 alle ore 20 Cento Incroci ospita un corso informatica base\, progettato per fornire fondamenta per utilizzare il pc\, apprendere a gestire file e cartelle\, posta elettronica e navigare in modo sicuro. \nOgni partecipante deve portare un blocco o un quaderno per prendere appunti e\, se possibile\, un PC portatile o un Tablet \nCorso gratuito\, previa prenotazione. \nPrenotazioni tramite telefono al numero 3665616955 \n 
URL:https://centoincroci.regione.lazio.it/evento/corso-informatica-base-3/2026-01-22/
CATEGORIES:I Laboratori
ATTACH;FMTTYPE=image/jpeg:https://centoincroci.regione.lazio.it/app/uploads/2025/12/Locandina-corso-informatica-e1769599043282.jpg
END:VEVENT
BEGIN:VEVENT
DTSTART;TZID=Europe/Rome:20260124T140000
DTEND;TZID=Europe/Rome:20260124T160000
DTSTAMP:20260421T040943
CREATED:20260113T092823Z
LAST-MODIFIED:20260113T092823Z
UID:10002532-1769263200-1769270400@centoincroci.regione.lazio.it
SUMMARY:WeArt – Laboratorio artistico espressivo
DESCRIPTION:Cento Incroci ospita “WeArt – Laboratorio esperienziale di arte cooperativa e relazionale”\, un percorso artistico-espressivo ispirato alla Gestalt Art Therapy\, pensato per donne con background migratorio (prevalentemente o esclusivamente donne)\, con l’obiettivo di favorire consapevolezza\, espressione e rafforzamento dei legami affettivi e interculturali. Attraverso pittura\, manipolazione\, collage e fotografia\, le partecipanti potranno esplorare emozioni e relazioni\, costruendo uno spazio di socialità\, fiducia e condivisione. \nOrganizzato dal Consiglio Italiano per i Rifugiati ETS \n  \nDATE LABORATORIO\n15/11/2025 h: 14 – 16\n22/11/2025 h: 14 – 16\n30/11/2025 h: 14 – 16\n06/12/2025 h: 14 – 16\n13/12/2025 h: 14 – 16\n20/12/2025 h: 14 – 16\n03/01/2026 h: 14 – 16\n10/01/2026 h: 14 – 16\n18/01/2026 h: 14 – 16\n24/01/2026 h: 14 – 16\n31/01/2026 h: 14 – 16\n07/02/2026 h: 14 – 16 \n  \nCorso gratuito\, previa prenotazione. \nPrenotazioni tramite telefono o whatsapp al numero 3665616955
URL:https://centoincroci.regione.lazio.it/evento/weart-laboratorio-artistico-espressivo-3/
CATEGORIES:I Laboratori
ATTACH;FMTTYPE=image/jpeg:https://centoincroci.regione.lazio.it/app/uploads/2025/11/vista-dall-alto-delle-mani-di-una-donna-attraente-che-disegnano-un-immagine-straordinaria-su-tela-un-moderno-laboratorio-d-arte-accogliente-scaled.jpg
END:VEVENT
BEGIN:VEVENT
DTSTART;TZID=Europe/Rome:20260126T090000
DTEND;TZID=Europe/Rome:20260126T170000
DTSTAMP:20260421T040943
CREATED:20260121T122559Z
LAST-MODIFIED:20260121T122559Z
UID:10002545-1769418000-1769446800@centoincroci.regione.lazio.it
SUMMARY:Spazio coworking - 26 gennaio dalle ore 9 alle ore 17
DESCRIPTION:Disponibilità dello spazio coworking\, fruibile gratuitamente nelle orari indicati\nSi ricorda che gli orari dello spazio coworking sono suscettibili di variazioni\, in base al calendario degli eventi. \nPer maggiori info 3665616955
URL:https://centoincroci.regione.lazio.it/evento/spazio-coworking-26-gennaio-dalle-ore-9-alle-ore-17/
CATEGORIES:Incontri
ATTACH;FMTTYPE=image/jpeg:https://centoincroci.regione.lazio.it/app/uploads/2024/04/339737201_1384829545390398_5164164649820751090_n.jpg
END:VEVENT
BEGIN:VEVENT
DTSTART;TZID=Europe/Rome:20260126T170000
DTEND;TZID=Europe/Rome:20260126T183000
DTSTAMP:20260421T040943
CREATED:20260121T121903Z
LAST-MODIFIED:20260121T121903Z
UID:10002537-1769446800-1769452200@centoincroci.regione.lazio.it
SUMMARY:Spazio mamme
DESCRIPTION:Dalle ore 17 alle 18.30 Cento Incontri ospita “Spazio mamme“\, un corso di supporto e condivisione dedicato alle mamme\, dando consigli pratici e supporti per scoprire come prendersi cura di stessa e del bambino. \nCorso gratuito\, previa prenotazione. \nPrenotazioni tramite telefono o whatsapp al numero 3665616955
URL:https://centoincroci.regione.lazio.it/evento/spazio-mamme-3/
CATEGORIES:Incontri
ATTACH;FMTTYPE=image/jpeg:https://centoincroci.regione.lazio.it/app/uploads/2025/09/vista-dall-alto-della-bambina-che-mette-le-mani-nelle-mani-del-padre-scaled.jpg
END:VEVENT
BEGIN:VEVENT
DTSTART;TZID=Europe/Rome:20260127T090000
DTEND;TZID=Europe/Rome:20260127T100000
DTSTAMP:20260421T040943
CREATED:20250908T081227Z
LAST-MODIFIED:20260109T082004Z
UID:10002288-1769504400-1769508000@centoincroci.regione.lazio.it
SUMMARY:Sportello di ascolto psicologico
DESCRIPTION:Presso Cento Incroci è attivo uno Sportello di Ascolto psicologico gratuito. La psicologa offrirà ascolto\, supporto emotivo e strumenti per aiutare a gestire difficoltà e migliorare il benessere psicologico. \nAperto tutti i martedì\, dalle ore 9 alle ore 10.
URL:https://centoincroci.regione.lazio.it/evento/sportello-di-ascolto-psicologico-26/2026-01-27/
CATEGORIES:Incontri
ATTACH;FMTTYPE=image/jpeg:https://centoincroci.regione.lazio.it/app/uploads/2022/09/sportellopsicologico-foto.jpg
END:VEVENT
BEGIN:VEVENT
DTSTART;TZID=Europe/Rome:20260127T100000
DTEND;TZID=Europe/Rome:20260127T163000
DTSTAMP:20260421T040943
CREATED:20260121T122214Z
LAST-MODIFIED:20260121T122310Z
UID:10002544-1769508000-1769531400@centoincroci.regione.lazio.it
SUMMARY:Spazio coworking - 27 gennaio dalle ore 10 alle ore 16.30
DESCRIPTION:Disponibilità dello spazio coworking\, fruibile gratuitamente nelle orari indicati\nSi ricorda che gli orari dello spazio coworking sono suscettibili di variazioni\, in base al calendario degli eventi. \nPer maggiori info 3665616955
URL:https://centoincroci.regione.lazio.it/evento/spazio-coworking-27-gennaio-dalle-ore-10-alle-ore-16-30/
CATEGORIES:Incontri
ATTACH;FMTTYPE=image/jpeg:https://centoincroci.regione.lazio.it/app/uploads/2024/04/339737201_1384829545390398_5164164649820751090_n.jpg
END:VEVENT
BEGIN:VEVENT
DTSTART;TZID=Europe/Rome:20260128T090000
DTEND;TZID=Europe/Rome:20260128T170000
DTSTAMP:20260421T040943
CREATED:20260121T121640Z
LAST-MODIFIED:20260121T122411Z
UID:10001566-1769590800-1769619600@centoincroci.regione.lazio.it
SUMMARY:Spazio coworking - 28 gennaio dalle ore 9 alle ore 17
DESCRIPTION:Disponibilità dello spazio coworking\, fruibile gratuitamente nelle orari indicati\nSi ricorda che gli orari dello spazio coworking sono suscettibili di variazioni\, in base al calendario degli eventi. \nPer maggiori info 3665616955
URL:https://centoincroci.regione.lazio.it/evento/spazio-coworking-orari-2-2/
CATEGORIES:Incontri
ATTACH;FMTTYPE=image/jpeg:https://centoincroci.regione.lazio.it/app/uploads/2024/04/339737201_1384829545390398_5164164649820751090_n.jpg
END:VEVENT
BEGIN:VEVENT
DTSTART;TZID=Europe/Rome:20260128T170000
DTEND;TZID=Europe/Rome:20260128T190000
DTSTAMP:20260421T040943
CREATED:20250908T082417Z
LAST-MODIFIED:20260121T123119Z
UID:10002112-1769619600-1769626800@centoincroci.regione.lazio.it
SUMMARY:Laboratorio di teatro per bambini 6/12 anni
DESCRIPTION:Ogni mercoledì dalle ore 17 alle ore 19 Cento Incroci ospita un laboratorio di teatro per bambini 6/12 anni\, uno spazio creativo e divertente dove i bambini potranno sviluppare abilità sociali\, emotive e comunicative. \nCorso gratuito\, previa prenotazione. \nPrenotazioni tramite telefono o whatsapp al numero 3665616955
URL:https://centoincroci.regione.lazio.it/evento/laboratorio-di-teatro-per-bambini-6-12-anni/2026-01-28/
CATEGORIES:I Laboratori
ATTACH;FMTTYPE=image/jpeg:https://centoincroci.regione.lazio.it/app/uploads/2025/01/laboratorio-teatrale.jpg
END:VEVENT
BEGIN:VEVENT
DTSTART;TZID=Europe/Rome:20260129T090000
DTEND;TZID=Europe/Rome:20260129T173000
DTSTAMP:20260421T040943
CREATED:20260121T122701Z
LAST-MODIFIED:20260121T122701Z
UID:10002546-1769677200-1769707800@centoincroci.regione.lazio.it
SUMMARY:Spazio coworking - 29 gennaio dalle ore 9 alle ore 17.30
DESCRIPTION:Disponibilità dello spazio coworking\, fruibile gratuitamente nelle orari indicati\nSi ricorda che gli orari dello spazio coworking sono suscettibili di variazioni\, in base al calendario degli eventi. \nPer maggiori info 3665616955
URL:https://centoincroci.regione.lazio.it/evento/spazio-coworking-29-gennaio-dalle-ore-9-alle-ore-17-30/
CATEGORIES:Incontri
ATTACH;FMTTYPE=image/jpeg:https://centoincroci.regione.lazio.it/app/uploads/2024/04/339737201_1384829545390398_5164164649820751090_n.jpg
END:VEVENT
BEGIN:VEVENT
DTSTART;TZID=Europe/Rome:20260130T090000
DTEND;TZID=Europe/Rome:20260130T170000
DTSTAMP:20260421T040943
CREATED:20260121T122803Z
LAST-MODIFIED:20260121T122803Z
UID:10002547-1769763600-1769792400@centoincroci.regione.lazio.it
SUMMARY:Spazio coworking - 30 gennaio dalle ore 9 alle ore 17
DESCRIPTION:Disponibilità dello spazio coworking\, fruibile gratuitamente nelle orari indicati\nSi ricorda che gli orari dello spazio coworking sono suscettibili di variazioni\, in base al calendario degli eventi. \nPer maggiori info 3665616955
URL:https://centoincroci.regione.lazio.it/evento/spazio-coworking-30-gennaio-dalle-ore-9-alle-ore-17/
CATEGORIES:Incontri
ATTACH;FMTTYPE=image/jpeg:https://centoincroci.regione.lazio.it/app/uploads/2024/04/339737201_1384829545390398_5164164649820751090_n.jpg
END:VEVENT
BEGIN:VEVENT
DTSTART;TZID=Europe/Rome:20260131T100000
DTEND;TZID=Europe/Rome:20260131T130000
DTSTAMP:20260421T040943
CREATED:20260121T124756Z
LAST-MODIFIED:20260123T114031Z
UID:10002549-1769853600-1769864400@centoincroci.regione.lazio.it
SUMMARY:Introduzione al linguaggio cinematografico
DESCRIPTION:Cento Incroci a partire dal 31 gennaio ospita un corso di “Introduzione al linguaggio cinematografico” della durata di 8 lezioni complessive che saranno organizzate dalle 10 alle 13\, in  queste date: \n31/1/26 \n07/02/26 \n21/02/26 \n28/02/26 \n07/03/26 \n14/03/26 \n21/03/26 \n28/03/26 \nLe lezioni verteranno su: \n\ngli obiettivi cinematografici\n i montaggi cinematografici\n il filmico e il profilmico\nla cornice\, la finestra e il fuoricampo\nil montaggio classico vs quello contemporaneo\nil cinema della messa in scena\nil montaggio connotativo\nil linguaggio documentarista\n\nCorso gratuito aperto dai 15 anni in su\, con prenotazione al numero 366.56.16.955 
URL:https://centoincroci.regione.lazio.it/evento/corso-cinematografico-presso-cento-incroci/2026-01-31/
CATEGORIES:Incontri
ATTACH;FMTTYPE=application/pdf:https://centoincroci.regione.lazio.it/app/uploads/2026/01/corso-1.pdf
END:VEVENT
BEGIN:VEVENT
DTSTART;TZID=Europe/Rome:20260131T140000
DTEND;TZID=Europe/Rome:20260131T160000
DTSTAMP:20260421T040943
CREATED:20260113T092850Z
LAST-MODIFIED:20260113T092850Z
UID:10002533-1769868000-1769875200@centoincroci.regione.lazio.it
SUMMARY:WeArt – Laboratorio artistico espressivo
DESCRIPTION:Cento Incroci ospita “WeArt – Laboratorio esperienziale di arte cooperativa e relazionale”\, un percorso artistico-espressivo ispirato alla Gestalt Art Therapy\, pensato per donne con background migratorio (prevalentemente o esclusivamente donne)\, con l’obiettivo di favorire consapevolezza\, espressione e rafforzamento dei legami affettivi e interculturali. Attraverso pittura\, manipolazione\, collage e fotografia\, le partecipanti potranno esplorare emozioni e relazioni\, costruendo uno spazio di socialità\, fiducia e condivisione. \nOrganizzato dal Consiglio Italiano per i Rifugiati ETS \n  \nDATE LABORATORIO\n15/11/2025 h: 14 – 16\n22/11/2025 h: 14 – 16\n30/11/2025 h: 14 – 16\n06/12/2025 h: 14 – 16\n13/12/2025 h: 14 – 16\n20/12/2025 h: 14 – 16\n03/01/2026 h: 14 – 16\n10/01/2026 h: 14 – 16\n18/01/2026 h: 14 – 16\n24/01/2026 h: 14 – 16\n31/01/2026 h: 14 – 16\n07/02/2026 h: 14 – 16 \n  \nCorso gratuito\, previa prenotazione. \nPrenotazioni tramite telefono o whatsapp al numero 3665616955
URL:https://centoincroci.regione.lazio.it/evento/weart-laboratorio-artistico-espressivo-4/
CATEGORIES:I Laboratori
ATTACH;FMTTYPE=image/jpeg:https://centoincroci.regione.lazio.it/app/uploads/2025/11/vista-dall-alto-delle-mani-di-una-donna-attraente-che-disegnano-un-immagine-straordinaria-su-tela-un-moderno-laboratorio-d-arte-accogliente-scaled.jpg
END:VEVENT
END:VCALENDAR