BEGIN:VCALENDAR
VERSION:2.0
PRODID:-//Cento incroci - ECPv6.8.3//NONSGML v1.0//EN
CALSCALE:GREGORIAN
METHOD:PUBLISH
X-ORIGINAL-URL:https://centoincroci.regione.lazio.it
X-WR-CALDESC:Eventi per Cento incroci
REFRESH-INTERVAL;VALUE=DURATION:PT1H
X-Robots-Tag:noindex
X-PUBLISHED-TTL:PT1H
BEGIN:VTIMEZONE
TZID:Europe/Rome
BEGIN:DAYLIGHT
TZOFFSETFROM:+0100
TZOFFSETTO:+0200
TZNAME:CEST
DTSTART:20260329T010000
END:DAYLIGHT
BEGIN:STANDARD
TZOFFSETFROM:+0200
TZOFFSETTO:+0100
TZNAME:CET
DTSTART:20261025T010000
END:STANDARD
END:VTIMEZONE
BEGIN:VEVENT
DTSTART;TZID=Europe/Rome:20260818T163000
DTEND;TZID=Europe/Rome:20260818T190000
DTSTAMP:20260421T214457
CREATED:20260219T082554Z
LAST-MODIFIED:20260306T132516Z
UID:10003147-1787070600-1787079600@centoincroci.regione.lazio.it
SUMMARY:Corso di inglese base per adulti- Prenotazioni chiuse
DESCRIPTION:Ogni martedì dalle ore 16.30 alle ore 19.00 Cento Incroci ospita un corso di inglese base per adulti. Attraverso lezioni pratiche e conversazioni reali\, aiuta ad aumentare la confidenza con la lingua inglese\nCorso gratuito\, previa prenotazione. \nPrenotazioni tramite telefono al numero 3665616955
URL:https://centoincroci.regione.lazio.it/evento/corso-di-inglese-base-per-adulti-2-2/2026-08-18/
CATEGORIES:I Laboratori
ATTACH;FMTTYPE=image/jpeg:https://centoincroci.regione.lazio.it/app/uploads/2025/09/disposizione-dei-libri-inglesi-vista-dall-alto-scaled-e1757319659105.jpg
END:VEVENT
BEGIN:VEVENT
DTSTART;TZID=Europe/Rome:20260818T183000
DTEND;TZID=Europe/Rome:20260818T200000
DTSTAMP:20260421T214457
CREATED:20260407T071835Z
LAST-MODIFIED:20260407T071836Z
UID:10003610-1787077800-1787083200@centoincroci.regione.lazio.it
SUMMARY:Corso di Vela in LIS per adulti
DESCRIPTION:Nelle giornate del 14\, 21\, 28 aprile e 5\, 12 maggio dalle ore 18:30 alle ore 20:00 Cento Incroci ospiterà il Corso di Vela in LIS per adulti organizzato da Edoardo Ricci\, autore del libro “SEGNI PER LA VELA”\, il primo manuale di vela in LIS a livello internazionale\, patrocinato dall’Ente Nazionale Sordi e dalla Federazione Italiana Vela. \nIl corso è completamente gratuito e rivolto a 7 partecipanti già iscritti tramite l’ENS (Ente Nazionale Sordi) in qualità di tesserati del Comitato Giovani Sordi Italiani. \nSi articolerà in cinque lezioni che si svolgeranno dalle 18:30 alle 20:00 di ogni martedì fino al 12 Maggio 2026 finalizzate a valutarne l’apprendimento e ovviamente a formare il primo equipaggio di marinai sordi.
URL:https://centoincroci.regione.lazio.it/evento/corso-di-vela-in-lis-per-adulti-2/2026-08-18/
CATEGORIES:I Laboratori
ATTACH;FMTTYPE=image/jpeg:https://centoincroci.regione.lazio.it/app/uploads/2026/04/copertina-libro-Segni-Vela-marzo-2026.jpg
END:VEVENT
BEGIN:VEVENT
DTSTART;TZID=Europe/Rome:20260819T090000
DTEND;TZID=Europe/Rome:20260819T170000
DTSTAMP:20260421T214457
CREATED:20260130T125048Z
LAST-MODIFIED:20260220T075455Z
UID:10002755-1787130000-1787158800@centoincroci.regione.lazio.it
SUMMARY:Spazio coworking - dalle ore 9 alle 17
DESCRIPTION:Disponibilità dello spazio coworking\, fruibile gratuitamente nelle orari indicati\nSi ricorda che gli orari dello spazio coworking sono suscettibili di variazioni\, in base al calendario degli eventi. \nPer maggiori info 3665616955
URL:https://centoincroci.regione.lazio.it/evento/spazio-coworking-dalle-ore-9-alle-20-2/2026-08-19/
CATEGORIES:Incontri
ATTACH;FMTTYPE=image/jpeg:https://centoincroci.regione.lazio.it/app/uploads/2024/04/339737201_1384829545390398_5164164649820751090_n.jpg
END:VEVENT
BEGIN:VEVENT
DTSTART;TZID=Europe/Rome:20260820T090000
DTEND;TZID=Europe/Rome:20260820T173000
DTSTAMP:20260421T214457
CREATED:20260227T111916Z
LAST-MODIFIED:20260227T111918Z
UID:10002980-1787216400-1787247000@centoincroci.regione.lazio.it
SUMMARY:Spazio coworking - dalle ore 9 alle ore 17.30
DESCRIPTION:Disponibilità dello spazio coworking\, fruibile gratuitamente nelle orari indicati\nSi ricorda che gli orari dello spazio coworking sono suscettibili di variazioni\, in base al calendario degli eventi. \nPer maggiori info 3665616955
URL:https://centoincroci.regione.lazio.it/evento/spazio-coworking-dalle-ore-9-alle-ore-17-30-2/2026-08-20/
ATTACH;FMTTYPE=image/jpeg:https://centoincroci.regione.lazio.it/app/uploads/2024/04/339737201_1384829545390398_5164164649820751090_n.jpg
END:VEVENT
BEGIN:VEVENT
DTSTART;TZID=Europe/Rome:20260821T090000
DTEND;TZID=Europe/Rome:20260821T170000
DTSTAMP:20260421T214457
CREATED:20260206T125151Z
LAST-MODIFIED:20260206T130506Z
UID:10003203-1787302800-1787331600@centoincroci.regione.lazio.it
SUMMARY:Spazio coworking - dalle ore 9 alle ore 17.00
DESCRIPTION:Disponibilità dello spazio coworking\, fruibile gratuitamente nelle orari indicati\nSi ricorda che gli orari dello spazio coworking sono suscettibili di variazioni\, in base al calendario degli eventi. \nPer maggiori info 3665616955
URL:https://centoincroci.regione.lazio.it/evento/spazio-coworking-dalle-ore-9-alle-ore-16-30-2/2026-08-21/
CATEGORIES:Incontri
ATTACH;FMTTYPE=image/jpeg:https://centoincroci.regione.lazio.it/app/uploads/2024/04/339737201_1384829545390398_5164164649820751090_n.jpg
END:VEVENT
BEGIN:VEVENT
DTSTART;TZID=Europe/Rome:20260821T170000
DTEND;TZID=Europe/Rome:20260821T200000
DTSTAMP:20260421T214457
CREATED:20260220T075247Z
LAST-MODIFIED:20260220T075249Z
UID:10003262-1787331600-1787342400@centoincroci.regione.lazio.it
SUMMARY:Corso di Italiano per stranieri livello base e avanzato
DESCRIPTION:Ogni venerdì dalle ore 17 alle ore 20 Cento Incroci ospita un corso di Italiano per stranieri livello base e avanzato.\nCorso gratuito\, previa prenotazione. \nPrenotazioni tramite telefono al numero 3665616955
URL:https://centoincroci.regione.lazio.it/evento/corso-di-italiano-per-stranieri-livello-base-e-avanzato-4/2026-08-21/
ATTACH;FMTTYPE=image/jpeg:https://centoincroci.regione.lazio.it/app/uploads/2024/06/Corso-italiano-per-stranieri.jpg
END:VEVENT
BEGIN:VEVENT
DTSTART;TZID=Europe/Rome:20260823T100000
DTEND;TZID=Europe/Rome:20260823T200000
DTSTAMP:20260421T214457
CREATED:20260223T121343Z
LAST-MODIFIED:20260227T112347Z
UID:10003465-1787479200-1787515200@centoincroci.regione.lazio.it
SUMMARY:Spazio coworking – orari
DESCRIPTION:Disponibilità dello spazio coworking\, fruibile gratuitamente.
URL:https://centoincroci.regione.lazio.it/evento/spazio-coworking-orari-6/2026-08-23/
CATEGORIES:Leggiamo insieme
ATTACH;FMTTYPE=image/jpeg:https://centoincroci.regione.lazio.it/app/uploads/2026/01/cento.jpg
END:VEVENT
BEGIN:VEVENT
DTSTART;TZID=Europe/Rome:20260824T180000
DTEND;TZID=Europe/Rome:20260824T200000
DTSTAMP:20260421T214457
CREATED:20260130T124512Z
LAST-MODIFIED:20260130T124618Z
UID:10002587-1787594400-1787601600@centoincroci.regione.lazio.it
SUMMARY:Laboratorio di lettura poetica
DESCRIPTION:Ogni lunedì dalle ore 18.30 alle ore 20 Cento Incroci ospita un Laboratorio di lettura poetica. Uno spazio creativo\, dove i partecipanti possono esplorare la poesia\, condividendo la loro passione\nLaboratorio gratuito\, previa prenotazione. \nPrenotazioni tramite telefono al numero 3665616955
URL:https://centoincroci.regione.lazio.it/evento/laboratorio-di-lettura-poetica-51-2/2026-08-24/
CATEGORIES:I Laboratori
ATTACH;FMTTYPE=image/jpeg:https://centoincroci.regione.lazio.it/app/uploads/2024/07/5ba7b5ed7357e236133832524f8fc5.jpg
END:VEVENT
BEGIN:VEVENT
DTSTART;TZID=Europe/Rome:20260825T100000
DTEND;TZID=Europe/Rome:20260825T163000
DTSTAMP:20260421T214457
CREATED:20260320T115044Z
LAST-MODIFIED:20260320T115145Z
UID:10003551-1787652000-1787675400@centoincroci.regione.lazio.it
SUMMARY:Spazio coworking - dalle ore 10 alle ore 16.30
DESCRIPTION:Disponibilità dello spazio coworking\, fruibile gratuitamente nelle orari indicati\nSi ricorda che gli orari dello spazio coworking sono suscettibili di variazioni\, in base al calendario degli eventi. \nPer maggiori info 3665616955
URL:https://centoincroci.regione.lazio.it/evento/spazio-coworking-3-febbraio-dalle-ore-9-alle-ore-16-30-2/2026-08-25/
ATTACH;FMTTYPE=image/jpeg:https://centoincroci.regione.lazio.it/app/uploads/2024/04/339737201_1384829545390398_5164164649820751090_n.jpg
END:VEVENT
BEGIN:VEVENT
DTSTART;TZID=Europe/Rome:20260825T163000
DTEND;TZID=Europe/Rome:20260825T190000
DTSTAMP:20260421T214457
CREATED:20260219T082554Z
LAST-MODIFIED:20260306T132516Z
UID:10003148-1787675400-1787684400@centoincroci.regione.lazio.it
SUMMARY:Corso di inglese base per adulti- Prenotazioni chiuse
DESCRIPTION:Ogni martedì dalle ore 16.30 alle ore 19.00 Cento Incroci ospita un corso di inglese base per adulti. Attraverso lezioni pratiche e conversazioni reali\, aiuta ad aumentare la confidenza con la lingua inglese\nCorso gratuito\, previa prenotazione. \nPrenotazioni tramite telefono al numero 3665616955
URL:https://centoincroci.regione.lazio.it/evento/corso-di-inglese-base-per-adulti-2-2/2026-08-25/
CATEGORIES:I Laboratori
ATTACH;FMTTYPE=image/jpeg:https://centoincroci.regione.lazio.it/app/uploads/2025/09/disposizione-dei-libri-inglesi-vista-dall-alto-scaled-e1757319659105.jpg
END:VEVENT
BEGIN:VEVENT
DTSTART;TZID=Europe/Rome:20260825T183000
DTEND;TZID=Europe/Rome:20260825T200000
DTSTAMP:20260421T214457
CREATED:20260407T071835Z
LAST-MODIFIED:20260407T071836Z
UID:10003611-1787682600-1787688000@centoincroci.regione.lazio.it
SUMMARY:Corso di Vela in LIS per adulti
DESCRIPTION:Nelle giornate del 14\, 21\, 28 aprile e 5\, 12 maggio dalle ore 18:30 alle ore 20:00 Cento Incroci ospiterà il Corso di Vela in LIS per adulti organizzato da Edoardo Ricci\, autore del libro “SEGNI PER LA VELA”\, il primo manuale di vela in LIS a livello internazionale\, patrocinato dall’Ente Nazionale Sordi e dalla Federazione Italiana Vela. \nIl corso è completamente gratuito e rivolto a 7 partecipanti già iscritti tramite l’ENS (Ente Nazionale Sordi) in qualità di tesserati del Comitato Giovani Sordi Italiani. \nSi articolerà in cinque lezioni che si svolgeranno dalle 18:30 alle 20:00 di ogni martedì fino al 12 Maggio 2026 finalizzate a valutarne l’apprendimento e ovviamente a formare il primo equipaggio di marinai sordi.
URL:https://centoincroci.regione.lazio.it/evento/corso-di-vela-in-lis-per-adulti-2/2026-08-25/
CATEGORIES:I Laboratori
ATTACH;FMTTYPE=image/jpeg:https://centoincroci.regione.lazio.it/app/uploads/2026/04/copertina-libro-Segni-Vela-marzo-2026.jpg
END:VEVENT
BEGIN:VEVENT
DTSTART;TZID=Europe/Rome:20260826T090000
DTEND;TZID=Europe/Rome:20260826T170000
DTSTAMP:20260421T214457
CREATED:20260130T125048Z
LAST-MODIFIED:20260220T075455Z
UID:10002756-1787734800-1787763600@centoincroci.regione.lazio.it
SUMMARY:Spazio coworking - dalle ore 9 alle 17
DESCRIPTION:Disponibilità dello spazio coworking\, fruibile gratuitamente nelle orari indicati\nSi ricorda che gli orari dello spazio coworking sono suscettibili di variazioni\, in base al calendario degli eventi. \nPer maggiori info 3665616955
URL:https://centoincroci.regione.lazio.it/evento/spazio-coworking-dalle-ore-9-alle-20-2/2026-08-26/
CATEGORIES:Incontri
ATTACH;FMTTYPE=image/jpeg:https://centoincroci.regione.lazio.it/app/uploads/2024/04/339737201_1384829545390398_5164164649820751090_n.jpg
END:VEVENT
BEGIN:VEVENT
DTSTART;TZID=Europe/Rome:20260827T090000
DTEND;TZID=Europe/Rome:20260827T173000
DTSTAMP:20260421T214457
CREATED:20260227T111916Z
LAST-MODIFIED:20260227T111918Z
UID:10002981-1787821200-1787851800@centoincroci.regione.lazio.it
SUMMARY:Spazio coworking - dalle ore 9 alle ore 17.30
DESCRIPTION:Disponibilità dello spazio coworking\, fruibile gratuitamente nelle orari indicati\nSi ricorda che gli orari dello spazio coworking sono suscettibili di variazioni\, in base al calendario degli eventi. \nPer maggiori info 3665616955
URL:https://centoincroci.regione.lazio.it/evento/spazio-coworking-dalle-ore-9-alle-ore-17-30-2/2026-08-27/
ATTACH;FMTTYPE=image/jpeg:https://centoincroci.regione.lazio.it/app/uploads/2024/04/339737201_1384829545390398_5164164649820751090_n.jpg
END:VEVENT
BEGIN:VEVENT
DTSTART;TZID=Europe/Rome:20260828T090000
DTEND;TZID=Europe/Rome:20260828T170000
DTSTAMP:20260421T214457
CREATED:20260206T125151Z
LAST-MODIFIED:20260206T130506Z
UID:10003204-1787907600-1787936400@centoincroci.regione.lazio.it
SUMMARY:Spazio coworking - dalle ore 9 alle ore 17.00
DESCRIPTION:Disponibilità dello spazio coworking\, fruibile gratuitamente nelle orari indicati\nSi ricorda che gli orari dello spazio coworking sono suscettibili di variazioni\, in base al calendario degli eventi. \nPer maggiori info 3665616955
URL:https://centoincroci.regione.lazio.it/evento/spazio-coworking-dalle-ore-9-alle-ore-16-30-2/2026-08-28/
CATEGORIES:Incontri
ATTACH;FMTTYPE=image/jpeg:https://centoincroci.regione.lazio.it/app/uploads/2024/04/339737201_1384829545390398_5164164649820751090_n.jpg
END:VEVENT
BEGIN:VEVENT
DTSTART;TZID=Europe/Rome:20260828T170000
DTEND;TZID=Europe/Rome:20260828T200000
DTSTAMP:20260421T214457
CREATED:20260220T075247Z
LAST-MODIFIED:20260220T075249Z
UID:10003263-1787936400-1787947200@centoincroci.regione.lazio.it
SUMMARY:Corso di Italiano per stranieri livello base e avanzato
DESCRIPTION:Ogni venerdì dalle ore 17 alle ore 20 Cento Incroci ospita un corso di Italiano per stranieri livello base e avanzato.\nCorso gratuito\, previa prenotazione. \nPrenotazioni tramite telefono al numero 3665616955
URL:https://centoincroci.regione.lazio.it/evento/corso-di-italiano-per-stranieri-livello-base-e-avanzato-4/2026-08-28/
ATTACH;FMTTYPE=image/jpeg:https://centoincroci.regione.lazio.it/app/uploads/2024/06/Corso-italiano-per-stranieri.jpg
END:VEVENT
BEGIN:VEVENT
DTSTART;TZID=Europe/Rome:20260830T100000
DTEND;TZID=Europe/Rome:20260830T200000
DTSTAMP:20260421T214457
CREATED:20260223T121343Z
LAST-MODIFIED:20260227T112347Z
UID:10003466-1788084000-1788120000@centoincroci.regione.lazio.it
SUMMARY:Spazio coworking – orari
DESCRIPTION:Disponibilità dello spazio coworking\, fruibile gratuitamente.
URL:https://centoincroci.regione.lazio.it/evento/spazio-coworking-orari-6/2026-08-30/
CATEGORIES:Leggiamo insieme
ATTACH;FMTTYPE=image/jpeg:https://centoincroci.regione.lazio.it/app/uploads/2026/01/cento.jpg
END:VEVENT
BEGIN:VEVENT
DTSTART;TZID=Europe/Rome:20260831T180000
DTEND;TZID=Europe/Rome:20260831T200000
DTSTAMP:20260421T214457
CREATED:20260130T124512Z
LAST-MODIFIED:20260130T124618Z
UID:10002588-1788199200-1788206400@centoincroci.regione.lazio.it
SUMMARY:Laboratorio di lettura poetica
DESCRIPTION:Ogni lunedì dalle ore 18.30 alle ore 20 Cento Incroci ospita un Laboratorio di lettura poetica. Uno spazio creativo\, dove i partecipanti possono esplorare la poesia\, condividendo la loro passione\nLaboratorio gratuito\, previa prenotazione. \nPrenotazioni tramite telefono al numero 3665616955
URL:https://centoincroci.regione.lazio.it/evento/laboratorio-di-lettura-poetica-51-2/2026-08-31/
CATEGORIES:I Laboratori
ATTACH;FMTTYPE=image/jpeg:https://centoincroci.regione.lazio.it/app/uploads/2024/07/5ba7b5ed7357e236133832524f8fc5.jpg
END:VEVENT
BEGIN:VEVENT
DTSTART;TZID=Europe/Rome:20260901T100000
DTEND;TZID=Europe/Rome:20260901T163000
DTSTAMP:20260421T214457
CREATED:20260320T115044Z
LAST-MODIFIED:20260320T115145Z
UID:10003552-1788256800-1788280200@centoincroci.regione.lazio.it
SUMMARY:Spazio coworking - dalle ore 10 alle ore 16.30
DESCRIPTION:Disponibilità dello spazio coworking\, fruibile gratuitamente nelle orari indicati\nSi ricorda che gli orari dello spazio coworking sono suscettibili di variazioni\, in base al calendario degli eventi. \nPer maggiori info 3665616955
URL:https://centoincroci.regione.lazio.it/evento/spazio-coworking-3-febbraio-dalle-ore-9-alle-ore-16-30-2/2026-09-01/
ATTACH;FMTTYPE=image/jpeg:https://centoincroci.regione.lazio.it/app/uploads/2024/04/339737201_1384829545390398_5164164649820751090_n.jpg
END:VEVENT
BEGIN:VEVENT
DTSTART;TZID=Europe/Rome:20260901T163000
DTEND;TZID=Europe/Rome:20260901T190000
DTSTAMP:20260421T214457
CREATED:20260219T082554Z
LAST-MODIFIED:20260306T132516Z
UID:10003149-1788280200-1788289200@centoincroci.regione.lazio.it
SUMMARY:Corso di inglese base per adulti- Prenotazioni chiuse
DESCRIPTION:Ogni martedì dalle ore 16.30 alle ore 19.00 Cento Incroci ospita un corso di inglese base per adulti. Attraverso lezioni pratiche e conversazioni reali\, aiuta ad aumentare la confidenza con la lingua inglese\nCorso gratuito\, previa prenotazione. \nPrenotazioni tramite telefono al numero 3665616955
URL:https://centoincroci.regione.lazio.it/evento/corso-di-inglese-base-per-adulti-2-2/2026-09-01/
CATEGORIES:I Laboratori
ATTACH;FMTTYPE=image/jpeg:https://centoincroci.regione.lazio.it/app/uploads/2025/09/disposizione-dei-libri-inglesi-vista-dall-alto-scaled-e1757319659105.jpg
END:VEVENT
BEGIN:VEVENT
DTSTART;TZID=Europe/Rome:20260901T183000
DTEND;TZID=Europe/Rome:20260901T200000
DTSTAMP:20260421T214457
CREATED:20260407T071835Z
LAST-MODIFIED:20260407T071836Z
UID:10003612-1788287400-1788292800@centoincroci.regione.lazio.it
SUMMARY:Corso di Vela in LIS per adulti
DESCRIPTION:Nelle giornate del 14\, 21\, 28 aprile e 5\, 12 maggio dalle ore 18:30 alle ore 20:00 Cento Incroci ospiterà il Corso di Vela in LIS per adulti organizzato da Edoardo Ricci\, autore del libro “SEGNI PER LA VELA”\, il primo manuale di vela in LIS a livello internazionale\, patrocinato dall’Ente Nazionale Sordi e dalla Federazione Italiana Vela. \nIl corso è completamente gratuito e rivolto a 7 partecipanti già iscritti tramite l’ENS (Ente Nazionale Sordi) in qualità di tesserati del Comitato Giovani Sordi Italiani. \nSi articolerà in cinque lezioni che si svolgeranno dalle 18:30 alle 20:00 di ogni martedì fino al 12 Maggio 2026 finalizzate a valutarne l’apprendimento e ovviamente a formare il primo equipaggio di marinai sordi.
URL:https://centoincroci.regione.lazio.it/evento/corso-di-vela-in-lis-per-adulti-2/2026-09-01/
CATEGORIES:I Laboratori
ATTACH;FMTTYPE=image/jpeg:https://centoincroci.regione.lazio.it/app/uploads/2026/04/copertina-libro-Segni-Vela-marzo-2026.jpg
END:VEVENT
BEGIN:VEVENT
DTSTART;TZID=Europe/Rome:20260902T090000
DTEND;TZID=Europe/Rome:20260902T170000
DTSTAMP:20260421T214457
CREATED:20260130T125048Z
LAST-MODIFIED:20260220T075455Z
UID:10002757-1788339600-1788368400@centoincroci.regione.lazio.it
SUMMARY:Spazio coworking - dalle ore 9 alle 17
DESCRIPTION:Disponibilità dello spazio coworking\, fruibile gratuitamente nelle orari indicati\nSi ricorda che gli orari dello spazio coworking sono suscettibili di variazioni\, in base al calendario degli eventi. \nPer maggiori info 3665616955
URL:https://centoincroci.regione.lazio.it/evento/spazio-coworking-dalle-ore-9-alle-20-2/2026-09-02/
CATEGORIES:Incontri
ATTACH;FMTTYPE=image/jpeg:https://centoincroci.regione.lazio.it/app/uploads/2024/04/339737201_1384829545390398_5164164649820751090_n.jpg
END:VEVENT
BEGIN:VEVENT
DTSTART;TZID=Europe/Rome:20260903T090000
DTEND;TZID=Europe/Rome:20260903T173000
DTSTAMP:20260421T214457
CREATED:20260227T111916Z
LAST-MODIFIED:20260227T111918Z
UID:10002982-1788426000-1788456600@centoincroci.regione.lazio.it
SUMMARY:Spazio coworking - dalle ore 9 alle ore 17.30
DESCRIPTION:Disponibilità dello spazio coworking\, fruibile gratuitamente nelle orari indicati\nSi ricorda che gli orari dello spazio coworking sono suscettibili di variazioni\, in base al calendario degli eventi. \nPer maggiori info 3665616955
URL:https://centoincroci.regione.lazio.it/evento/spazio-coworking-dalle-ore-9-alle-ore-17-30-2/2026-09-03/
ATTACH;FMTTYPE=image/jpeg:https://centoincroci.regione.lazio.it/app/uploads/2024/04/339737201_1384829545390398_5164164649820751090_n.jpg
END:VEVENT
BEGIN:VEVENT
DTSTART;TZID=Europe/Rome:20260904T090000
DTEND;TZID=Europe/Rome:20260904T170000
DTSTAMP:20260421T214457
CREATED:20260206T125151Z
LAST-MODIFIED:20260206T130506Z
UID:10003205-1788512400-1788541200@centoincroci.regione.lazio.it
SUMMARY:Spazio coworking - dalle ore 9 alle ore 17.00
DESCRIPTION:Disponibilità dello spazio coworking\, fruibile gratuitamente nelle orari indicati\nSi ricorda che gli orari dello spazio coworking sono suscettibili di variazioni\, in base al calendario degli eventi. \nPer maggiori info 3665616955
URL:https://centoincroci.regione.lazio.it/evento/spazio-coworking-dalle-ore-9-alle-ore-16-30-2/2026-09-04/
CATEGORIES:Incontri
ATTACH;FMTTYPE=image/jpeg:https://centoincroci.regione.lazio.it/app/uploads/2024/04/339737201_1384829545390398_5164164649820751090_n.jpg
END:VEVENT
BEGIN:VEVENT
DTSTART;TZID=Europe/Rome:20260904T170000
DTEND;TZID=Europe/Rome:20260904T200000
DTSTAMP:20260421T214457
CREATED:20260220T075247Z
LAST-MODIFIED:20260220T075249Z
UID:10003264-1788541200-1788552000@centoincroci.regione.lazio.it
SUMMARY:Corso di Italiano per stranieri livello base e avanzato
DESCRIPTION:Ogni venerdì dalle ore 17 alle ore 20 Cento Incroci ospita un corso di Italiano per stranieri livello base e avanzato.\nCorso gratuito\, previa prenotazione. \nPrenotazioni tramite telefono al numero 3665616955
URL:https://centoincroci.regione.lazio.it/evento/corso-di-italiano-per-stranieri-livello-base-e-avanzato-4/2026-09-04/
ATTACH;FMTTYPE=image/jpeg:https://centoincroci.regione.lazio.it/app/uploads/2024/06/Corso-italiano-per-stranieri.jpg
END:VEVENT
BEGIN:VEVENT
DTSTART;TZID=Europe/Rome:20260906T100000
DTEND;TZID=Europe/Rome:20260906T200000
DTSTAMP:20260421T214457
CREATED:20260223T121343Z
LAST-MODIFIED:20260227T112347Z
UID:10003467-1788688800-1788724800@centoincroci.regione.lazio.it
SUMMARY:Spazio coworking – orari
DESCRIPTION:Disponibilità dello spazio coworking\, fruibile gratuitamente.
URL:https://centoincroci.regione.lazio.it/evento/spazio-coworking-orari-6/2026-09-06/
CATEGORIES:Leggiamo insieme
ATTACH;FMTTYPE=image/jpeg:https://centoincroci.regione.lazio.it/app/uploads/2026/01/cento.jpg
END:VEVENT
BEGIN:VEVENT
DTSTART;TZID=Europe/Rome:20260907T180000
DTEND;TZID=Europe/Rome:20260907T200000
DTSTAMP:20260421T214457
CREATED:20260130T124512Z
LAST-MODIFIED:20260130T124618Z
UID:10002589-1788804000-1788811200@centoincroci.regione.lazio.it
SUMMARY:Laboratorio di lettura poetica
DESCRIPTION:Ogni lunedì dalle ore 18.30 alle ore 20 Cento Incroci ospita un Laboratorio di lettura poetica. Uno spazio creativo\, dove i partecipanti possono esplorare la poesia\, condividendo la loro passione\nLaboratorio gratuito\, previa prenotazione. \nPrenotazioni tramite telefono al numero 3665616955
URL:https://centoincroci.regione.lazio.it/evento/laboratorio-di-lettura-poetica-51-2/2026-09-07/
CATEGORIES:I Laboratori
ATTACH;FMTTYPE=image/jpeg:https://centoincroci.regione.lazio.it/app/uploads/2024/07/5ba7b5ed7357e236133832524f8fc5.jpg
END:VEVENT
BEGIN:VEVENT
DTSTART;TZID=Europe/Rome:20260908T100000
DTEND;TZID=Europe/Rome:20260908T163000
DTSTAMP:20260421T214457
CREATED:20260320T115044Z
LAST-MODIFIED:20260320T115145Z
UID:10003553-1788861600-1788885000@centoincroci.regione.lazio.it
SUMMARY:Spazio coworking - dalle ore 10 alle ore 16.30
DESCRIPTION:Disponibilità dello spazio coworking\, fruibile gratuitamente nelle orari indicati\nSi ricorda che gli orari dello spazio coworking sono suscettibili di variazioni\, in base al calendario degli eventi. \nPer maggiori info 3665616955
URL:https://centoincroci.regione.lazio.it/evento/spazio-coworking-3-febbraio-dalle-ore-9-alle-ore-16-30-2/2026-09-08/
ATTACH;FMTTYPE=image/jpeg:https://centoincroci.regione.lazio.it/app/uploads/2024/04/339737201_1384829545390398_5164164649820751090_n.jpg
END:VEVENT
BEGIN:VEVENT
DTSTART;TZID=Europe/Rome:20260908T163000
DTEND;TZID=Europe/Rome:20260908T190000
DTSTAMP:20260421T214457
CREATED:20260219T082554Z
LAST-MODIFIED:20260306T132516Z
UID:10003150-1788885000-1788894000@centoincroci.regione.lazio.it
SUMMARY:Corso di inglese base per adulti- Prenotazioni chiuse
DESCRIPTION:Ogni martedì dalle ore 16.30 alle ore 19.00 Cento Incroci ospita un corso di inglese base per adulti. Attraverso lezioni pratiche e conversazioni reali\, aiuta ad aumentare la confidenza con la lingua inglese\nCorso gratuito\, previa prenotazione. \nPrenotazioni tramite telefono al numero 3665616955
URL:https://centoincroci.regione.lazio.it/evento/corso-di-inglese-base-per-adulti-2-2/2026-09-08/
CATEGORIES:I Laboratori
ATTACH;FMTTYPE=image/jpeg:https://centoincroci.regione.lazio.it/app/uploads/2025/09/disposizione-dei-libri-inglesi-vista-dall-alto-scaled-e1757319659105.jpg
END:VEVENT
BEGIN:VEVENT
DTSTART;TZID=Europe/Rome:20260908T183000
DTEND;TZID=Europe/Rome:20260908T200000
DTSTAMP:20260421T214457
CREATED:20260407T071835Z
LAST-MODIFIED:20260407T071836Z
UID:10003613-1788892200-1788897600@centoincroci.regione.lazio.it
SUMMARY:Corso di Vela in LIS per adulti
DESCRIPTION:Nelle giornate del 14\, 21\, 28 aprile e 5\, 12 maggio dalle ore 18:30 alle ore 20:00 Cento Incroci ospiterà il Corso di Vela in LIS per adulti organizzato da Edoardo Ricci\, autore del libro “SEGNI PER LA VELA”\, il primo manuale di vela in LIS a livello internazionale\, patrocinato dall’Ente Nazionale Sordi e dalla Federazione Italiana Vela. \nIl corso è completamente gratuito e rivolto a 7 partecipanti già iscritti tramite l’ENS (Ente Nazionale Sordi) in qualità di tesserati del Comitato Giovani Sordi Italiani. \nSi articolerà in cinque lezioni che si svolgeranno dalle 18:30 alle 20:00 di ogni martedì fino al 12 Maggio 2026 finalizzate a valutarne l’apprendimento e ovviamente a formare il primo equipaggio di marinai sordi.
URL:https://centoincroci.regione.lazio.it/evento/corso-di-vela-in-lis-per-adulti-2/2026-09-08/
CATEGORIES:I Laboratori
ATTACH;FMTTYPE=image/jpeg:https://centoincroci.regione.lazio.it/app/uploads/2026/04/copertina-libro-Segni-Vela-marzo-2026.jpg
END:VEVENT
BEGIN:VEVENT
DTSTART;TZID=Europe/Rome:20260909T090000
DTEND;TZID=Europe/Rome:20260909T170000
DTSTAMP:20260421T214457
CREATED:20260130T125048Z
LAST-MODIFIED:20260220T075455Z
UID:10002758-1788944400-1788973200@centoincroci.regione.lazio.it
SUMMARY:Spazio coworking - dalle ore 9 alle 17
DESCRIPTION:Disponibilità dello spazio coworking\, fruibile gratuitamente nelle orari indicati\nSi ricorda che gli orari dello spazio coworking sono suscettibili di variazioni\, in base al calendario degli eventi. \nPer maggiori info 3665616955
URL:https://centoincroci.regione.lazio.it/evento/spazio-coworking-dalle-ore-9-alle-20-2/2026-09-09/
CATEGORIES:Incontri
ATTACH;FMTTYPE=image/jpeg:https://centoincroci.regione.lazio.it/app/uploads/2024/04/339737201_1384829545390398_5164164649820751090_n.jpg
END:VEVENT
END:VCALENDAR