BEGIN:VCALENDAR
VERSION:2.0
PRODID:-//Cento incroci - ECPv6.8.3//NONSGML v1.0//EN
CALSCALE:GREGORIAN
METHOD:PUBLISH
X-ORIGINAL-URL:https://centoincroci.regione.lazio.it
X-WR-CALDESC:Eventi per Cento incroci
REFRESH-INTERVAL;VALUE=DURATION:PT1H
X-Robots-Tag:noindex
X-PUBLISHED-TTL:PT1H
BEGIN:VTIMEZONE
TZID:Europe/Rome
BEGIN:DAYLIGHT
TZOFFSETFROM:+0100
TZOFFSETTO:+0200
TZNAME:CEST
DTSTART:20250330T010000
END:DAYLIGHT
BEGIN:STANDARD
TZOFFSETFROM:+0200
TZOFFSETTO:+0100
TZNAME:CET
DTSTART:20251026T010000
END:STANDARD
END:VTIMEZONE
BEGIN:VEVENT
DTSTART;TZID=Europe/Rome:20250730T090000
DTEND;TZID=Europe/Rome:20250730T200000
DTSTAMP:20260421T071758
CREATED:20250702T121930Z
LAST-MODIFIED:20250702T122716Z
UID:10001170-1753866000-1753905600@centoincroci.regione.lazio.it
SUMMARY:Spazio coworking- orari
DESCRIPTION:Disponibilità dello spazio coworking\, fruibile gratuitamente nei seguenti orari\nlunedì dalle 9 alle 18\ndal martedì al venerdì dalle 9 alle 20\n sabato e domenica dalle 10 alle 20 \nPer maggiori info 3665616955
URL:https://centoincroci.regione.lazio.it/evento/spazio-coworking-12-2/2025-07-30/
CATEGORIES:Incontri
ATTACH;FMTTYPE=image/jpeg:https://centoincroci.regione.lazio.it/app/uploads/2024/04/339737201_1384829545390398_5164164649820751090_n.jpg
END:VEVENT
BEGIN:VEVENT
DTSTART;TZID=Europe/Rome:20250731T090000
DTEND;TZID=Europe/Rome:20250731T200000
DTSTAMP:20260421T071758
CREATED:20250702T122847Z
LAST-MODIFIED:20250805T073124Z
UID:10001171-1753952400-1753992000@centoincroci.regione.lazio.it
SUMMARY:Spazio coworking- orari
DESCRIPTION:Disponibilità dello spazio coworking\, fruibile gratuitamente nei seguenti orari\nlunedì dalle 9 alle 18\ndal martedì al venerdì dalle 9 alle 20\n sabato e domenica dalle 10 alle 20 \nPer maggiori info 3665616955
URL:https://centoincroci.regione.lazio.it/evento/spazio-coworking-12-2-2/
CATEGORIES:Incontri
ATTACH;FMTTYPE=image/jpeg:https://centoincroci.regione.lazio.it/app/uploads/2024/04/339737201_1384829545390398_5164164649820751090_n.jpg
END:VEVENT
BEGIN:VEVENT
DTSTART;TZID=Europe/Rome:20250804T090000
DTEND;TZID=Europe/Rome:20250804T180000
DTSTAMP:20260421T071758
CREATED:20250702T122145Z
LAST-MODIFIED:20250702T123345Z
UID:10001541-1754298000-1754330400@centoincroci.regione.lazio.it
SUMMARY:Spazio coworking - orari
DESCRIPTION:Disponibilità dello spazio coworking\, fruibile gratuitamente nei seguenti orari\nlunedì dalle 9 alle 18\ndal martedì al venerdì dalle 9 alle 20\n sabato e domenica dalle 10 alle 20 \nPer maggiori info 3665616955
URL:https://centoincroci.regione.lazio.it/evento/spazio-coworking-orari-2/2025-08-04/
CATEGORIES:Incontri
ATTACH;FMTTYPE=image/jpeg:https://centoincroci.regione.lazio.it/app/uploads/2024/04/339737201_1384829545390398_5164164649820751090_n.jpg
END:VEVENT
BEGIN:VEVENT
DTSTART;TZID=Europe/Rome:20250811T090000
DTEND;TZID=Europe/Rome:20250811T180000
DTSTAMP:20260421T071758
CREATED:20250702T122145Z
LAST-MODIFIED:20250702T123345Z
UID:10001542-1754902800-1754935200@centoincroci.regione.lazio.it
SUMMARY:Spazio coworking - orari
DESCRIPTION:Disponibilità dello spazio coworking\, fruibile gratuitamente nei seguenti orari\nlunedì dalle 9 alle 18\ndal martedì al venerdì dalle 9 alle 20\n sabato e domenica dalle 10 alle 20 \nPer maggiori info 3665616955
URL:https://centoincroci.regione.lazio.it/evento/spazio-coworking-orari-2/2025-08-11/
CATEGORIES:Incontri
ATTACH;FMTTYPE=image/jpeg:https://centoincroci.regione.lazio.it/app/uploads/2024/04/339737201_1384829545390398_5164164649820751090_n.jpg
END:VEVENT
BEGIN:VEVENT
DTSTART;VALUE=DATE:20250815
DTEND;VALUE=DATE:20250816
DTSTAMP:20260421T071758
CREATED:20250805T071509Z
LAST-MODIFIED:20250805T071557Z
UID:10001715-1755216000-1755302399@centoincroci.regione.lazio.it
SUMMARY:Chiusura Cento Incroci
DESCRIPTION:Il giorno 15 agosto Cento Incroci resterà chiuso. Aperto tutti i weekend (sabato e domenica) di agosto
URL:https://centoincroci.regione.lazio.it/evento/chiusura-cento-incroci/
CATEGORIES:Incontri
ATTACH;FMTTYPE=image/jpeg:https://centoincroci.regione.lazio.it/app/uploads/2024/04/339737201_1384829545390398_5164164649820751090_n.jpg
END:VEVENT
BEGIN:VEVENT
DTSTART;TZID=Europe/Rome:20250818T090000
DTEND;TZID=Europe/Rome:20250818T180000
DTSTAMP:20260421T071758
CREATED:20250702T122145Z
LAST-MODIFIED:20250702T123345Z
UID:10001543-1755507600-1755540000@centoincroci.regione.lazio.it
SUMMARY:Spazio coworking - orari
DESCRIPTION:Disponibilità dello spazio coworking\, fruibile gratuitamente nei seguenti orari\nlunedì dalle 9 alle 18\ndal martedì al venerdì dalle 9 alle 20\n sabato e domenica dalle 10 alle 20 \nPer maggiori info 3665616955
URL:https://centoincroci.regione.lazio.it/evento/spazio-coworking-orari-2/2025-08-18/
CATEGORIES:Incontri
ATTACH;FMTTYPE=image/jpeg:https://centoincroci.regione.lazio.it/app/uploads/2024/04/339737201_1384829545390398_5164164649820751090_n.jpg
END:VEVENT
BEGIN:VEVENT
DTSTART;TZID=Europe/Rome:20250825T090000
DTEND;TZID=Europe/Rome:20250825T180000
DTSTAMP:20260421T071758
CREATED:20250702T122145Z
LAST-MODIFIED:20250702T123345Z
UID:10001544-1756112400-1756144800@centoincroci.regione.lazio.it
SUMMARY:Spazio coworking - orari
DESCRIPTION:Disponibilità dello spazio coworking\, fruibile gratuitamente nei seguenti orari\nlunedì dalle 9 alle 18\ndal martedì al venerdì dalle 9 alle 20\n sabato e domenica dalle 10 alle 20 \nPer maggiori info 3665616955
URL:https://centoincroci.regione.lazio.it/evento/spazio-coworking-orari-2/2025-08-25/
CATEGORIES:Incontri
ATTACH;FMTTYPE=image/jpeg:https://centoincroci.regione.lazio.it/app/uploads/2024/04/339737201_1384829545390398_5164164649820751090_n.jpg
END:VEVENT
BEGIN:VEVENT
DTSTART;TZID=Europe/Rome:20250901T090000
DTEND;TZID=Europe/Rome:20250901T180000
DTSTAMP:20260421T071758
CREATED:20250702T122145Z
LAST-MODIFIED:20250702T123345Z
UID:10001545-1756717200-1756749600@centoincroci.regione.lazio.it
SUMMARY:Spazio coworking - orari
DESCRIPTION:Disponibilità dello spazio coworking\, fruibile gratuitamente nei seguenti orari\nlunedì dalle 9 alle 18\ndal martedì al venerdì dalle 9 alle 20\n sabato e domenica dalle 10 alle 20 \nPer maggiori info 3665616955
URL:https://centoincroci.regione.lazio.it/evento/spazio-coworking-orari-2/2025-09-01/
CATEGORIES:Incontri
ATTACH;FMTTYPE=image/jpeg:https://centoincroci.regione.lazio.it/app/uploads/2024/04/339737201_1384829545390398_5164164649820751090_n.jpg
END:VEVENT
BEGIN:VEVENT
DTSTART;TZID=Europe/Rome:20250908T090000
DTEND;TZID=Europe/Rome:20250908T180000
DTSTAMP:20260421T071758
CREATED:20250702T122145Z
LAST-MODIFIED:20250702T123345Z
UID:10001546-1757322000-1757354400@centoincroci.regione.lazio.it
SUMMARY:Spazio coworking - orari
DESCRIPTION:Disponibilità dello spazio coworking\, fruibile gratuitamente nei seguenti orari\nlunedì dalle 9 alle 18\ndal martedì al venerdì dalle 9 alle 20\n sabato e domenica dalle 10 alle 20 \nPer maggiori info 3665616955
URL:https://centoincroci.regione.lazio.it/evento/spazio-coworking-orari-2/2025-09-08/
CATEGORIES:Incontri
ATTACH;FMTTYPE=image/jpeg:https://centoincroci.regione.lazio.it/app/uploads/2024/04/339737201_1384829545390398_5164164649820751090_n.jpg
END:VEVENT
BEGIN:VEVENT
DTSTART;TZID=Europe/Rome:20250915T090000
DTEND;TZID=Europe/Rome:20250915T180000
DTSTAMP:20260421T071758
CREATED:20250702T122145Z
LAST-MODIFIED:20250702T123345Z
UID:10001547-1757926800-1757959200@centoincroci.regione.lazio.it
SUMMARY:Spazio coworking - orari
DESCRIPTION:Disponibilità dello spazio coworking\, fruibile gratuitamente nei seguenti orari\nlunedì dalle 9 alle 18\ndal martedì al venerdì dalle 9 alle 20\n sabato e domenica dalle 10 alle 20 \nPer maggiori info 3665616955
URL:https://centoincroci.regione.lazio.it/evento/spazio-coworking-orari-2/2025-09-15/
CATEGORIES:Incontri
ATTACH;FMTTYPE=image/jpeg:https://centoincroci.regione.lazio.it/app/uploads/2024/04/339737201_1384829545390398_5164164649820751090_n.jpg
END:VEVENT
BEGIN:VEVENT
DTSTART;TZID=Europe/Rome:20250916T090000
DTEND;TZID=Europe/Rome:20250916T100000
DTSTAMP:20260421T071758
CREATED:20250908T081227Z
LAST-MODIFIED:20260109T082004Z
UID:10002269-1758013200-1758016800@centoincroci.regione.lazio.it
SUMMARY:Sportello di ascolto psicologico
DESCRIPTION:Presso Cento Incroci è attivo uno Sportello di Ascolto psicologico gratuito. La psicologa offrirà ascolto\, supporto emotivo e strumenti per aiutare a gestire difficoltà e migliorare il benessere psicologico. \nAperto tutti i martedì\, dalle ore 9 alle ore 10.
URL:https://centoincroci.regione.lazio.it/evento/sportello-di-ascolto-psicologico-26/2025-09-16/
CATEGORIES:Incontri
ATTACH;FMTTYPE=image/jpeg:https://centoincroci.regione.lazio.it/app/uploads/2022/09/sportellopsicologico-foto.jpg
END:VEVENT
BEGIN:VEVENT
DTSTART;TZID=Europe/Rome:20250920T130000
DTEND;TZID=Europe/Rome:20250920T190000
DTSTAMP:20260421T071758
CREATED:20250916T073206Z
LAST-MODIFIED:20250916T073207Z
UID:10002328-1758373200-1758394800@centoincroci.regione.lazio.it
SUMMARY:Disponibilità sala coworking dalle ore 13
DESCRIPTION:Si comunica che sabato 20 settembre lo spazio coworking di Cento Incroci sarà disponibile a partire dalle ore 13
URL:https://centoincroci.regione.lazio.it/evento/disponibilita-sala-coworking-dalle-ore-13/
CATEGORIES:Gli Sportelli
ATTACH;FMTTYPE=image/jpeg:https://centoincroci.regione.lazio.it/app/uploads/2021/01/image00007-scaled.jpeg
END:VEVENT
BEGIN:VEVENT
DTSTART;TZID=Europe/Rome:20250922T090000
DTEND;TZID=Europe/Rome:20250922T180000
DTSTAMP:20260421T071758
CREATED:20250702T122145Z
LAST-MODIFIED:20250702T123345Z
UID:10001548-1758531600-1758564000@centoincroci.regione.lazio.it
SUMMARY:Spazio coworking - orari
DESCRIPTION:Disponibilità dello spazio coworking\, fruibile gratuitamente nei seguenti orari\nlunedì dalle 9 alle 18\ndal martedì al venerdì dalle 9 alle 20\n sabato e domenica dalle 10 alle 20 \nPer maggiori info 3665616955
URL:https://centoincroci.regione.lazio.it/evento/spazio-coworking-orari-2/2025-09-22/
CATEGORIES:Incontri
ATTACH;FMTTYPE=image/jpeg:https://centoincroci.regione.lazio.it/app/uploads/2024/04/339737201_1384829545390398_5164164649820751090_n.jpg
END:VEVENT
BEGIN:VEVENT
DTSTART;TZID=Europe/Rome:20250922T170000
DTEND;TZID=Europe/Rome:20250922T180000
DTSTAMP:20260421T071758
CREATED:20250908T083415Z
LAST-MODIFIED:20250908T083416Z
UID:10002268-1758560400-1758564000@centoincroci.regione.lazio.it
SUMMARY:Spazio mamme
DESCRIPTION:Lunedì 22 settembre dalle ore 17 alle 18 Cento Incontri ospita “Spazio mamme”\, un corso di supporto e condivisione dedicato alle mamme\, dando consigli pratici e supporti per scoprire come prendersi cura di stessa e del bambino. \nCorso gratuito\, previa prenotazione. \nPrenotazioni tramite telefono o whatsapp al numero 3665616955
URL:https://centoincroci.regione.lazio.it/evento/spazio-mamme-2/
CATEGORIES:Incontri
ATTACH;FMTTYPE=image/jpeg:https://centoincroci.regione.lazio.it/app/uploads/2025/09/vista-dall-alto-della-bambina-che-mette-le-mani-nelle-mani-del-padre-scaled.jpg
END:VEVENT
BEGIN:VEVENT
DTSTART;TZID=Europe/Rome:20250923T090000
DTEND;TZID=Europe/Rome:20250923T100000
DTSTAMP:20260421T071758
CREATED:20250908T081227Z
LAST-MODIFIED:20260109T082004Z
UID:10002270-1758618000-1758621600@centoincroci.regione.lazio.it
SUMMARY:Sportello di ascolto psicologico
DESCRIPTION:Presso Cento Incroci è attivo uno Sportello di Ascolto psicologico gratuito. La psicologa offrirà ascolto\, supporto emotivo e strumenti per aiutare a gestire difficoltà e migliorare il benessere psicologico. \nAperto tutti i martedì\, dalle ore 9 alle ore 10.
URL:https://centoincroci.regione.lazio.it/evento/sportello-di-ascolto-psicologico-26/2025-09-23/
CATEGORIES:Incontri
ATTACH;FMTTYPE=image/jpeg:https://centoincroci.regione.lazio.it/app/uploads/2022/09/sportellopsicologico-foto.jpg
END:VEVENT
BEGIN:VEVENT
DTSTART;TZID=Europe/Rome:20250929T090000
DTEND;TZID=Europe/Rome:20250929T180000
DTSTAMP:20260421T071758
CREATED:20250702T122145Z
LAST-MODIFIED:20250702T123345Z
UID:10001549-1759136400-1759168800@centoincroci.regione.lazio.it
SUMMARY:Spazio coworking - orari
DESCRIPTION:Disponibilità dello spazio coworking\, fruibile gratuitamente nei seguenti orari\nlunedì dalle 9 alle 18\ndal martedì al venerdì dalle 9 alle 20\n sabato e domenica dalle 10 alle 20 \nPer maggiori info 3665616955
URL:https://centoincroci.regione.lazio.it/evento/spazio-coworking-orari-2/2025-09-29/
CATEGORIES:Incontri
ATTACH;FMTTYPE=image/jpeg:https://centoincroci.regione.lazio.it/app/uploads/2024/04/339737201_1384829545390398_5164164649820751090_n.jpg
END:VEVENT
BEGIN:VEVENT
DTSTART;TZID=Europe/Rome:20250929T180000
DTEND;TZID=Europe/Rome:20250929T200000
DTSTAMP:20260421T071758
CREATED:20250908T080717Z
LAST-MODIFIED:20250908T080902Z
UID:10001716-1759168800-1759176000@centoincroci.regione.lazio.it
SUMMARY:Laboratorio di lettura poetica
DESCRIPTION:Ogni lunedì dalle ore 18 alle ore 20 Cento Incroci ospita un Laboratorio di lettura poetica. Uno spazio creativo\,dove i partecipanti possono esplorare la poesia\, condividendo la loro passione\nLaboratorio gratuito\, previa prenotazione. \nPrenotazioni tramite telefono o whatsapp al numero 3665616955
URL:https://centoincroci.regione.lazio.it/evento/laboratorio-di-lettura-poetica-50/2025-09-29/
CATEGORIES:I Laboratori
ATTACH;FMTTYPE=image/jpeg:https://centoincroci.regione.lazio.it/app/uploads/2024/07/5ba7b5ed7357e236133832524f8fc5.jpg
END:VEVENT
BEGIN:VEVENT
DTSTART;TZID=Europe/Rome:20250930T090000
DTEND;TZID=Europe/Rome:20250930T100000
DTSTAMP:20260421T071758
CREATED:20250908T081227Z
LAST-MODIFIED:20260109T082004Z
UID:10002271-1759222800-1759226400@centoincroci.regione.lazio.it
SUMMARY:Sportello di ascolto psicologico
DESCRIPTION:Presso Cento Incroci è attivo uno Sportello di Ascolto psicologico gratuito. La psicologa offrirà ascolto\, supporto emotivo e strumenti per aiutare a gestire difficoltà e migliorare il benessere psicologico. \nAperto tutti i martedì\, dalle ore 9 alle ore 10.
URL:https://centoincroci.regione.lazio.it/evento/sportello-di-ascolto-psicologico-26/2025-09-30/
CATEGORIES:Incontri
ATTACH;FMTTYPE=image/jpeg:https://centoincroci.regione.lazio.it/app/uploads/2022/09/sportellopsicologico-foto.jpg
END:VEVENT
BEGIN:VEVENT
DTSTART;TZID=Europe/Rome:20251001T170000
DTEND;TZID=Europe/Rome:20251001T190000
DTSTAMP:20260421T071758
CREATED:20250908T082417Z
LAST-MODIFIED:20260121T123119Z
UID:10002095-1759338000-1759345200@centoincroci.regione.lazio.it
SUMMARY:Laboratorio di teatro per bambini 6/12 anni
DESCRIPTION:Ogni mercoledì dalle ore 17 alle ore 19 Cento Incroci ospita un laboratorio di teatro per bambini 6/12 anni\, uno spazio creativo e divertente dove i bambini potranno sviluppare abilità sociali\, emotive e comunicative. \nCorso gratuito\, previa prenotazione. \nPrenotazioni tramite telefono o whatsapp al numero 3665616955
URL:https://centoincroci.regione.lazio.it/evento/laboratorio-di-teatro-per-bambini-6-12-anni/2025-10-01/
CATEGORIES:I Laboratori
ATTACH;FMTTYPE=image/jpeg:https://centoincroci.regione.lazio.it/app/uploads/2025/01/laboratorio-teatrale.jpg
END:VEVENT
BEGIN:VEVENT
DTSTART;TZID=Europe/Rome:20251004T100000
DTEND;TZID=Europe/Rome:20251004T123000
DTSTAMP:20260421T071758
CREATED:20250930T085313Z
LAST-MODIFIED:20250930T085313Z
UID:10002332-1759572000-1759581000@centoincroci.regione.lazio.it
SUMMARY:Incontro presentazione Associazione "Alberi in Periferia"
DESCRIPTION:Sabato 4 ottobre dalle ore 10 vieni a conoscere presso Cento Incroci “Alberi in Periferia”\, un’organizzazione di volontariato che porta già nel proprio nome la sua missione: piantare il maggior numero possibile di alberi nelle aree periferiche da riqualificare. Ha realizzato decine di iniziative di messa a dimora in diversi quartieri\, coinvolgendo minori a rischio\, associazioni\, comitati di quartiere e cittadini\, con il supporto dell’amministrazione.
URL:https://centoincroci.regione.lazio.it/evento/incontro-presentazione-associazione-alberi-in-periferia/
CATEGORIES:Incontri
ATTACH;FMTTYPE=image/jpeg:https://centoincroci.regione.lazio.it/app/uploads/2025/09/Riunione-Alberi-in-Periferia-4_10.jpg
END:VEVENT
BEGIN:VEVENT
DTSTART;TZID=Europe/Rome:20251006T090000
DTEND;TZID=Europe/Rome:20251006T180000
DTSTAMP:20260421T071758
CREATED:20250702T122145Z
LAST-MODIFIED:20250702T123345Z
UID:10001550-1759741200-1759773600@centoincroci.regione.lazio.it
SUMMARY:Spazio coworking - orari
DESCRIPTION:Disponibilità dello spazio coworking\, fruibile gratuitamente nei seguenti orari\nlunedì dalle 9 alle 18\ndal martedì al venerdì dalle 9 alle 20\n sabato e domenica dalle 10 alle 20 \nPer maggiori info 3665616955
URL:https://centoincroci.regione.lazio.it/evento/spazio-coworking-orari-2/2025-10-06/
CATEGORIES:Incontri
ATTACH;FMTTYPE=image/jpeg:https://centoincroci.regione.lazio.it/app/uploads/2024/04/339737201_1384829545390398_5164164649820751090_n.jpg
END:VEVENT
BEGIN:VEVENT
DTSTART;TZID=Europe/Rome:20251006T180000
DTEND;TZID=Europe/Rome:20251006T200000
DTSTAMP:20260421T071758
CREATED:20250908T080717Z
LAST-MODIFIED:20250908T080902Z
UID:10001717-1759773600-1759780800@centoincroci.regione.lazio.it
SUMMARY:Laboratorio di lettura poetica
DESCRIPTION:Ogni lunedì dalle ore 18 alle ore 20 Cento Incroci ospita un Laboratorio di lettura poetica. Uno spazio creativo\,dove i partecipanti possono esplorare la poesia\, condividendo la loro passione\nLaboratorio gratuito\, previa prenotazione. \nPrenotazioni tramite telefono o whatsapp al numero 3665616955
URL:https://centoincroci.regione.lazio.it/evento/laboratorio-di-lettura-poetica-50/2025-10-06/
CATEGORIES:I Laboratori
ATTACH;FMTTYPE=image/jpeg:https://centoincroci.regione.lazio.it/app/uploads/2024/07/5ba7b5ed7357e236133832524f8fc5.jpg
END:VEVENT
BEGIN:VEVENT
DTSTART;TZID=Europe/Rome:20251007T090000
DTEND;TZID=Europe/Rome:20251007T100000
DTSTAMP:20260421T071758
CREATED:20250908T081227Z
LAST-MODIFIED:20260109T082004Z
UID:10002272-1759827600-1759831200@centoincroci.regione.lazio.it
SUMMARY:Sportello di ascolto psicologico
DESCRIPTION:Presso Cento Incroci è attivo uno Sportello di Ascolto psicologico gratuito. La psicologa offrirà ascolto\, supporto emotivo e strumenti per aiutare a gestire difficoltà e migliorare il benessere psicologico. \nAperto tutti i martedì\, dalle ore 9 alle ore 10.
URL:https://centoincroci.regione.lazio.it/evento/sportello-di-ascolto-psicologico-26/2025-10-07/
CATEGORIES:Incontri
ATTACH;FMTTYPE=image/jpeg:https://centoincroci.regione.lazio.it/app/uploads/2022/09/sportellopsicologico-foto.jpg
END:VEVENT
BEGIN:VEVENT
DTSTART;TZID=Europe/Rome:20251007T163000
DTEND;TZID=Europe/Rome:20251007T180000
DTSTAMP:20260421T071758
CREATED:20250908T081814Z
LAST-MODIFIED:20260109T082128Z
UID:10002037-1759854600-1759860000@centoincroci.regione.lazio.it
SUMMARY:Corso di inglese base per adulti
DESCRIPTION:Ogni martedì dalle ore 16.30 alle ore 18 Cento Incroci ospita un corso di inglese base per adulti. Attraverso lezioni pratiche e conversazioni reali\,aiuta ad aumentare la confidenza con la lingua inglese\nCorso gratuito\, previa prenotazione. \nPrenotazioni tramite telefono o whatsapp al numero 3665616955
URL:https://centoincroci.regione.lazio.it/evento/corso-di-inglese-base-per-adulti/2025-10-07/
CATEGORIES:I Laboratori
ATTACH;FMTTYPE=image/jpeg:https://centoincroci.regione.lazio.it/app/uploads/2025/09/disposizione-dei-libri-inglesi-vista-dall-alto-scaled-e1757319659105.jpg
END:VEVENT
BEGIN:VEVENT
DTSTART;TZID=Europe/Rome:20251008T170000
DTEND;TZID=Europe/Rome:20251008T190000
DTSTAMP:20260421T071758
CREATED:20250908T082417Z
LAST-MODIFIED:20260121T123119Z
UID:10002096-1759942800-1759950000@centoincroci.regione.lazio.it
SUMMARY:Laboratorio di teatro per bambini 6/12 anni
DESCRIPTION:Ogni mercoledì dalle ore 17 alle ore 19 Cento Incroci ospita un laboratorio di teatro per bambini 6/12 anni\, uno spazio creativo e divertente dove i bambini potranno sviluppare abilità sociali\, emotive e comunicative. \nCorso gratuito\, previa prenotazione. \nPrenotazioni tramite telefono o whatsapp al numero 3665616955
URL:https://centoincroci.regione.lazio.it/evento/laboratorio-di-teatro-per-bambini-6-12-anni/2025-10-08/
CATEGORIES:I Laboratori
ATTACH;FMTTYPE=image/jpeg:https://centoincroci.regione.lazio.it/app/uploads/2025/01/laboratorio-teatrale.jpg
END:VEVENT
BEGIN:VEVENT
DTSTART;TZID=Europe/Rome:20251009T173000
DTEND;TZID=Europe/Rome:20251009T190000
DTSTAMP:20260421T071758
CREATED:20250908T082642Z
LAST-MODIFIED:20250908T082643Z
UID:10002153-1760031000-1760036400@centoincroci.regione.lazio.it
SUMMARY:Corso informatica base
DESCRIPTION:Ogni giovedì dalle ore 17.30 alle ore 19 Cento Incroci ospita un corso informatica base\, progettato per fornire fondamenta per utilizzare il pc\, apprendere a gestire file e cartelle\, posta elettronica e navigare in modo sicuro. \nCorso gratuito\, previa prenotazione. \nPrenotazioni tramite telefono o whatsapp al numero 3665616955 \n 
URL:https://centoincroci.regione.lazio.it/evento/corso-informatica-base/2025-10-09/
CATEGORIES:I Laboratori
ATTACH;FMTTYPE=image/jpeg:https://centoincroci.regione.lazio.it/app/uploads/2024/09/748852_35ba_3.jpg
END:VEVENT
BEGIN:VEVENT
DTSTART;TZID=Europe/Rome:20251011T173000
DTEND;TZID=Europe/Rome:20251011T183000
DTSTAMP:20260421T071758
CREATED:20250918T142823Z
LAST-MODIFIED:20250918T142824Z
UID:10002330-1760203800-1760207400@centoincroci.regione.lazio.it
SUMMARY:Presentazione del libro "Mediterraneo e dintorni" di Claudio Lugi
DESCRIPTION:Sabato 11 ottobre 2025\, alle ore 17:30\, presso Cento Incroci (Via delle Palme\, 158)\, si terrà la presentazione del libro Mediterraneo e dintorni di Claudio Lugi. \nDialogheranno con l’autore Moreno Celletti e Marino Sassi\, con la collaborazione tecnica di Moreno Celletti e Chiara Marasà e le scenografie a cura di Marino Sassi. \nLa serata sarà arricchita dalla lettura di alcune composizioni\, un dibattito aperto con il pubblico e una sessione di firmacopie. \n📍 Cento Incroci – Via delle Palme\, 158\n📞 366 561 6955\n📧 centoincroci@laziocrea.it \nLocandina evento (cliccabile)
URL:https://centoincroci.regione.lazio.it/evento/presentazione-del-libro-mediterraneo-e-dintorni-di-claudio-lugi/
CATEGORIES:Incontri
ATTACH;FMTTYPE=image/jpeg:https://centoincroci.regione.lazio.it/app/uploads/2025/09/Locandina-libro-Cento-Incroci-scaled.jpg
END:VEVENT
BEGIN:VEVENT
DTSTART;TZID=Europe/Rome:20251013T090000
DTEND;TZID=Europe/Rome:20251013T180000
DTSTAMP:20260421T071758
CREATED:20250702T122145Z
LAST-MODIFIED:20250702T123345Z
UID:10001551-1760346000-1760378400@centoincroci.regione.lazio.it
SUMMARY:Spazio coworking - orari
DESCRIPTION:Disponibilità dello spazio coworking\, fruibile gratuitamente nei seguenti orari\nlunedì dalle 9 alle 18\ndal martedì al venerdì dalle 9 alle 20\n sabato e domenica dalle 10 alle 20 \nPer maggiori info 3665616955
URL:https://centoincroci.regione.lazio.it/evento/spazio-coworking-orari-2/2025-10-13/
CATEGORIES:Incontri
ATTACH;FMTTYPE=image/jpeg:https://centoincroci.regione.lazio.it/app/uploads/2024/04/339737201_1384829545390398_5164164649820751090_n.jpg
END:VEVENT
BEGIN:VEVENT
DTSTART;TZID=Europe/Rome:20251013T180000
DTEND;TZID=Europe/Rome:20251013T200000
DTSTAMP:20260421T071758
CREATED:20250908T080717Z
LAST-MODIFIED:20250908T080902Z
UID:10001718-1760378400-1760385600@centoincroci.regione.lazio.it
SUMMARY:Laboratorio di lettura poetica
DESCRIPTION:Ogni lunedì dalle ore 18 alle ore 20 Cento Incroci ospita un Laboratorio di lettura poetica. Uno spazio creativo\,dove i partecipanti possono esplorare la poesia\, condividendo la loro passione\nLaboratorio gratuito\, previa prenotazione. \nPrenotazioni tramite telefono o whatsapp al numero 3665616955
URL:https://centoincroci.regione.lazio.it/evento/laboratorio-di-lettura-poetica-50/2025-10-13/
CATEGORIES:I Laboratori
ATTACH;FMTTYPE=image/jpeg:https://centoincroci.regione.lazio.it/app/uploads/2024/07/5ba7b5ed7357e236133832524f8fc5.jpg
END:VEVENT
BEGIN:VEVENT
DTSTART;TZID=Europe/Rome:20251014T090000
DTEND;TZID=Europe/Rome:20251014T100000
DTSTAMP:20260421T071758
CREATED:20250908T081227Z
LAST-MODIFIED:20260109T082004Z
UID:10002273-1760432400-1760436000@centoincroci.regione.lazio.it
SUMMARY:Sportello di ascolto psicologico
DESCRIPTION:Presso Cento Incroci è attivo uno Sportello di Ascolto psicologico gratuito. La psicologa offrirà ascolto\, supporto emotivo e strumenti per aiutare a gestire difficoltà e migliorare il benessere psicologico. \nAperto tutti i martedì\, dalle ore 9 alle ore 10.
URL:https://centoincroci.regione.lazio.it/evento/sportello-di-ascolto-psicologico-26/2025-10-14/
CATEGORIES:Incontri
ATTACH;FMTTYPE=image/jpeg:https://centoincroci.regione.lazio.it/app/uploads/2022/09/sportellopsicologico-foto.jpg
END:VEVENT
END:VCALENDAR