BEGIN:VCALENDAR
VERSION:2.0
PRODID:-//Cento incroci - ECPv6.8.3//NONSGML v1.0//EN
CALSCALE:GREGORIAN
METHOD:PUBLISH
X-WR-CALNAME:Cento incroci
X-ORIGINAL-URL:https://centoincroci.regione.lazio.it
X-WR-CALDESC:Eventi per Cento incroci
REFRESH-INTERVAL;VALUE=DURATION:PT1H
X-Robots-Tag:noindex
X-PUBLISHED-TTL:PT1H
BEGIN:VTIMEZONE
TZID:Europe/Rome
BEGIN:DAYLIGHT
TZOFFSETFROM:+0100
TZOFFSETTO:+0200
TZNAME:CEST
DTSTART:20260329T010000
END:DAYLIGHT
BEGIN:STANDARD
TZOFFSETFROM:+0200
TZOFFSETTO:+0100
TZNAME:CET
DTSTART:20261025T010000
END:STANDARD
END:VTIMEZONE
BEGIN:VEVENT
DTSTART;TZID=Europe/Rome:20260207T160000
DTEND;TZID=Europe/Rome:20260207T190000
DTSTAMP:20260421T040832
CREATED:20260130T132859Z
LAST-MODIFIED:20260130T132859Z
UID:10003233-1770480000-1770490800@centoincroci.regione.lazio.it
SUMMARY:Accesso al mercato del lavoro in Italia: riflessioni e strategie in prospettiva di genere
DESCRIPTION:L’incontro proposto dall’associazione Binario15 ODV\, si inserisce all’interno del progetto: GOALavoro  (promosso da CISP-Sviluppo dei Popoli in partenariato con ALESS Don Milani ETS e Binario 15 ODV e in collaborazione con ADIFOR). \nL’incontro avrà un approccio laboratoriale\, attiverà riflessione e confronto sulla tematica dell’accesso al mondo del lavoro in prospettiva di genere. \nEvento gratuito riservato esclusivamente a donne della diaspora afghana e iraniana.
URL:https://centoincroci.regione.lazio.it/evento/accesso-al-mercato-del-lavoro-in-italia-riflessioni-e-strategie-in-prospettiva-di-genere/
CATEGORIES:Incontri
ATTACH;FMTTYPE=image/png:https://centoincroci.regione.lazio.it/app/uploads/2026/01/Volantino-per-sessioni-Binario-15-febbraio-2026.png
END:VEVENT
BEGIN:VEVENT
DTSTART;TZID=Europe/Rome:20260208T170000
DTEND;TZID=Europe/Rome:20260208T200000
DTSTAMP:20260421T040832
CREATED:20260130T132541Z
LAST-MODIFIED:20260206T093532Z
UID:10003232-1770570000-1770580800@centoincroci.regione.lazio.it
SUMMARY:Cento Insegne - Istituto Europeo di Design
DESCRIPTION:Cento Incroci domenica 8 febbraio dalle 17 alle 20 ospita “Cento Insegne”. \nNell’ambito del corso di Linguaggi Tipografici presso il Master in Graphic Design dello IED – Istituto Europeo di Design\, la classe dell’anno in corso ha lavorato sul tema delle insegne storiche\, circoscrivendo la ricerca al quartiere di Centocelle\, territorio di riferimento della docente da circa dieci anni. In particolare\, gli studenti hanno indagato sia gli aspetti prettamente tipografici legati alla comunicazione pubblica delle attività commerciali e al loro impatto sul panorama visivo e sull’identità del quartiere\, sia le specifiche realtà dei negozianti attraverso interviste\, ritratti\, fotografie di oggetti e degli interni dei locali. \nIl risultato è un volume cartaceo che raccoglie immagini e testi della ricerca\, da cui emerge una panoramica di Centocelle che affronta temi sociali quali il declino e la scomparsa di alcune tipologie di attività commerciali e\, più in generale\, dei rapporti di prossimità; il valore delle storie peculiari e collettive nella connessione con l’identità di un luogo; e\, nello specifico\, l’importanza delle insegne storiche come veicoli di un’identità visiva capace di trasmettere valori legati all’artigianato e alle relazioni di vicinato. \nSaranno esposti il libro\, alcuni poster e cartoline stampati per l’occasione\, alcuni oggetti donati dai negozianti (bottoni\, stoffe\, tazzine da caffè\, piccoli oggetti semplici) e una mappa interattiva; inoltre\, alcuni dei commercianti intervistati saranno invitati a raccontare le proprie storie. \nMaggiori info: https://www.ied.it/news/cento-insegne
URL:https://centoincroci.regione.lazio.it/evento/cento-insegne-istituto-europeo-di-design/
CATEGORIES:I Laboratori
ATTACH;FMTTYPE=image/jpeg:https://centoincroci.regione.lazio.it/app/uploads/2026/01/locandine-insegne-scaled-e1770370463891.jpg
END:VEVENT
BEGIN:VEVENT
DTSTART;TZID=Europe/Rome:20260209T090000
DTEND;TZID=Europe/Rome:20260209T180000
DTSTAMP:20260421T040832
CREATED:20250702T122145Z
LAST-MODIFIED:20250702T123345Z
UID:10001568-1770627600-1770660000@centoincroci.regione.lazio.it
SUMMARY:Spazio coworking - orari
DESCRIPTION:Disponibilità dello spazio coworking\, fruibile gratuitamente nei seguenti orari\nlunedì dalle 9 alle 18\ndal martedì al venerdì dalle 9 alle 20\n sabato e domenica dalle 10 alle 20 \nPer maggiori info 3665616955
URL:https://centoincroci.regione.lazio.it/evento/spazio-coworking-orari-2/2026-02-09/
CATEGORIES:Incontri
ATTACH;FMTTYPE=image/jpeg:https://centoincroci.regione.lazio.it/app/uploads/2024/04/339737201_1384829545390398_5164164649820751090_n.jpg
END:VEVENT
BEGIN:VEVENT
DTSTART;TZID=Europe/Rome:20260209T180000
DTEND;TZID=Europe/Rome:20260209T200000
DTSTAMP:20260421T040832
CREATED:20260130T124512Z
LAST-MODIFIED:20260130T124618Z
UID:10002559-1770660000-1770667200@centoincroci.regione.lazio.it
SUMMARY:Laboratorio di lettura poetica
DESCRIPTION:Ogni lunedì dalle ore 18.30 alle ore 20 Cento Incroci ospita un Laboratorio di lettura poetica. Uno spazio creativo\, dove i partecipanti possono esplorare la poesia\, condividendo la loro passione\nLaboratorio gratuito\, previa prenotazione. \nPrenotazioni tramite telefono al numero 3665616955
URL:https://centoincroci.regione.lazio.it/evento/laboratorio-di-lettura-poetica-51-2/2026-02-09/
CATEGORIES:I Laboratori
ATTACH;FMTTYPE=image/jpeg:https://centoincroci.regione.lazio.it/app/uploads/2024/07/5ba7b5ed7357e236133832524f8fc5.jpg
END:VEVENT
BEGIN:VEVENT
DTSTART;TZID=Europe/Rome:20260210T090000
DTEND;TZID=Europe/Rome:20260210T163000
DTSTAMP:20260421T040832
CREATED:20260130T124828Z
LAST-MODIFIED:20260130T124859Z
UID:10002615-1770714000-1770741000@centoincroci.regione.lazio.it
SUMMARY:Spazio coworking - dalle ore 9 alle ore 16.30
DESCRIPTION:Disponibilità dello spazio coworking\, fruibile gratuitamente nelle orari indicati\nSi ricorda che gli orari dello spazio coworking sono suscettibili di variazioni\, in base al calendario degli eventi. \nPer maggiori info 3665616955
URL:https://centoincroci.regione.lazio.it/evento/spazio-coworking-3-febbraio-dalle-ore-9-alle-ore-16-30/2026-02-10/
ATTACH;FMTTYPE=image/jpeg:https://centoincroci.regione.lazio.it/app/uploads/2024/04/339737201_1384829545390398_5164164649820751090_n.jpg
END:VEVENT
BEGIN:VEVENT
DTSTART;TZID=Europe/Rome:20260210T163000
DTEND;TZID=Europe/Rome:20260210T193000
DTSTAMP:20260421T040832
CREATED:20260130T130251Z
LAST-MODIFIED:20260130T130328Z
UID:10003120-1770741000-1770751800@centoincroci.regione.lazio.it
SUMMARY:Corso di inglese base per adulti
DESCRIPTION:Ogni martedì dalle ore 16.30 alle ore 19.30 Cento Incroci ospita un corso di inglese base per adulti. Attraverso lezioni pratiche e conversazioni reali\, aiuta ad aumentare la confidenza con la lingua inglese\nCorso gratuito\, previa prenotazione. \nPrenotazioni tramite telefono al numero 3665616955
URL:https://centoincroci.regione.lazio.it/evento/corso-di-inglese-base-per-adulti-2/2026-02-10/
CATEGORIES:I Laboratori
ATTACH;FMTTYPE=image/jpeg:https://centoincroci.regione.lazio.it/app/uploads/2025/09/disposizione-dei-libri-inglesi-vista-dall-alto-scaled-e1757319659105.jpg
END:VEVENT
BEGIN:VEVENT
DTSTART;TZID=Europe/Rome:20260211T090000
DTEND;TZID=Europe/Rome:20260211T170000
DTSTAMP:20260421T040832
CREATED:20260130T125048Z
LAST-MODIFIED:20260220T075455Z
UID:10002728-1770800400-1770829200@centoincroci.regione.lazio.it
SUMMARY:Spazio coworking - dalle ore 9 alle 17
DESCRIPTION:Disponibilità dello spazio coworking\, fruibile gratuitamente nelle orari indicati\nSi ricorda che gli orari dello spazio coworking sono suscettibili di variazioni\, in base al calendario degli eventi. \nPer maggiori info 3665616955
URL:https://centoincroci.regione.lazio.it/evento/spazio-coworking-dalle-ore-9-alle-20-2/2026-02-11/
CATEGORIES:Incontri
ATTACH;FMTTYPE=image/jpeg:https://centoincroci.regione.lazio.it/app/uploads/2024/04/339737201_1384829545390398_5164164649820751090_n.jpg
END:VEVENT
BEGIN:VEVENT
DTSTART;TZID=Europe/Rome:20260212T090000
DTEND;TZID=Europe/Rome:20260212T163000
DTSTAMP:20260421T040832
CREATED:20260130T125337Z
LAST-MODIFIED:20260220T075550Z
UID:10002953-1770886800-1770913800@centoincroci.regione.lazio.it
SUMMARY:Spazio coworking - dalle ore 9 alle ore 16.30
DESCRIPTION:Disponibilità dello spazio coworking\, fruibile gratuitamente nelle orari indicati\nSi ricorda che gli orari dello spazio coworking sono suscettibili di variazioni\, in base al calendario degli eventi. \nPer maggiori info 3665616955
URL:https://centoincroci.regione.lazio.it/evento/spazio-coworking-dalle-ore-9-alle-ore-17-30/2026-02-12/
ATTACH;FMTTYPE=image/jpeg:https://centoincroci.regione.lazio.it/app/uploads/2024/04/339737201_1384829545390398_5164164649820751090_n.jpg
END:VEVENT
BEGIN:VEVENT
DTSTART;TZID=Europe/Rome:20260212T170000
DTEND;TZID=Europe/Rome:20260212T200000
DTSTAMP:20260421T040832
CREATED:20260130T125908Z
LAST-MODIFIED:20260206T125009Z
UID:10003293-1770915600-1770926400@centoincroci.regione.lazio.it
SUMMARY:Corso informatica base
DESCRIPTION:Ogni giovedì dalle ore 17.30 alle ore 20 Cento Incroci ospita un corso informatica base\, progettato per fornire fondamenta per utilizzare il pc\, apprendere a gestire file e cartelle\, posta elettronica e navigare in modo sicuro. \nOgni partecipante deve portare un blocco o un quaderno per prendere appunti e\, se possibile\, un PC portatile o un Tablet \nCorso gratuito\, previa prenotazione. \nPrenotazioni tramite telefono al numero 3665616955 \n 
URL:https://centoincroci.regione.lazio.it/evento/corso-informatica-base-3-3/2026-02-12/
CATEGORIES:I Laboratori
ATTACH;FMTTYPE=image/jpeg:https://centoincroci.regione.lazio.it/app/uploads/2025/12/Locandina-corso-informatica-e1769599043282.jpg
END:VEVENT
BEGIN:VEVENT
DTSTART;TZID=Europe/Rome:20260213T090000
DTEND;TZID=Europe/Rome:20260213T170000
DTSTAMP:20260421T040832
CREATED:20260206T125151Z
LAST-MODIFIED:20260206T130506Z
UID:10003176-1770973200-1771002000@centoincroci.regione.lazio.it
SUMMARY:Spazio coworking - dalle ore 9 alle ore 17.00
DESCRIPTION:Disponibilità dello spazio coworking\, fruibile gratuitamente nelle orari indicati\nSi ricorda che gli orari dello spazio coworking sono suscettibili di variazioni\, in base al calendario degli eventi. \nPer maggiori info 3665616955
URL:https://centoincroci.regione.lazio.it/evento/spazio-coworking-dalle-ore-9-alle-ore-16-30-2/2026-02-13/
CATEGORIES:Incontri
ATTACH;FMTTYPE=image/jpeg:https://centoincroci.regione.lazio.it/app/uploads/2024/04/339737201_1384829545390398_5164164649820751090_n.jpg
END:VEVENT
BEGIN:VEVENT
DTSTART;TZID=Europe/Rome:20260213T170000
DTEND;TZID=Europe/Rome:20260213T200000
DTSTAMP:20260421T040832
CREATED:20251128T100628Z
LAST-MODIFIED:20260130T140200Z
UID:10003235-1771002000-1771012800@centoincroci.regione.lazio.it
SUMMARY:Corso di Italiano per stranieri livello base e avanzato
DESCRIPTION:Ogni venerdì dalle ore 17 alle ore 20 Cento Incroci ospita un corso di Italiano per stranieri livello base e avanzato.\nCorso gratuito\, previa prenotazione. \nPrenotazioni tramite telefono o whatsapp al numero 3665616955
URL:https://centoincroci.regione.lazio.it/evento/corso-di-italiano-per-stranieri-livello-base-e-avanzato/2026-02-13/
ATTACH;FMTTYPE=image/jpeg:https://centoincroci.regione.lazio.it/app/uploads/2024/06/Corso-italiano-per-stranieri.jpg
END:VEVENT
BEGIN:VEVENT
DTSTART;TZID=Europe/Rome:20260214T103000
DTEND;TZID=Europe/Rome:20260214T170000
DTSTAMP:20260421T040832
CREATED:20260121T145040Z
LAST-MODIFIED:20260121T145425Z
UID:10002557-1771065000-1771088400@centoincroci.regione.lazio.it
SUMMARY:Kids Energy Festival
DESCRIPTION:Sabato 14 e domenica 15 Febbraio 2026 dalle 10:30 alle 17:00 Cento Incroci ospita il Kids Energy Festival\, promosso da Explora\, il Museo dei Bambini di Roma. \nDue giornate di laboratori dedicati al movimento\, pensati per bambine e bambini dai 3 anni e famiglie. In entrambe le giornate i laboratori saranno strutturati in 6 turni della durata di 50 minuti ciascuno\, con partecipazione gratuita previa prenotazione obbligatoria tramite eventbrite a questo link \nhttps://www.eventbrite.it/e/kids-energy-festival \nDurante la fascia oraria scelta\, è possibile partecipare ai laboratori: \n\nMuoviamoci insieme : alla scoperta di frutta e verdura\nQuanti colori : per conoscere frutta e verdura giocando\nL’orto creativo: modella e trasforma forme e colori\n\nL’iniziativa si inserisce all’interno del progetto “Storie in Movimento” finanziato dall’impresa sociale Con i Bambini e dalla Fondazione Cariverona\, coordinato dal gruppo Pleiadi\, di cui Explora\, il Museo dei Bambini di Roma\, è partner. \n 
URL:https://centoincroci.regione.lazio.it/evento/kids-energy-festival/2026-02-14/
CATEGORIES:Incontri
ATTACH;FMTTYPE=image/jpeg:https://centoincroci.regione.lazio.it/app/uploads/2026/01/Locandina_KidsEnergyFestival-scaled.jpg
END:VEVENT
BEGIN:VEVENT
DTSTART;TZID=Europe/Rome:20260214T130000
DTEND;TZID=Europe/Rome:20260214T170000
DTSTAMP:20260421T040832
CREATED:20260227T112223Z
LAST-MODIFIED:20260227T112225Z
UID:10003385-1771074000-1771088400@centoincroci.regione.lazio.it
SUMMARY:Spazio coworking – dalle ore 13 alle ore 20.00
DESCRIPTION:Disponibilità dello spazio coworking\, fruibile gratuitamente nelle orari indicati\nSi ricorda che gli orari dello spazio coworking sono suscettibili di variazioni\, in base al calendario degli eventi. \nPer maggiori info 3665616955
URL:https://centoincroci.regione.lazio.it/evento/spazio-coworking-dalle-ore-13-alle-ore-20-00/2026-02-14/
CATEGORIES:I Laboratori
ATTACH;FMTTYPE=image/jpeg:https://centoincroci.regione.lazio.it/app/uploads/2026/01/cento.jpg
END:VEVENT
BEGIN:VEVENT
DTSTART;TZID=Europe/Rome:20260215T103000
DTEND;TZID=Europe/Rome:20260215T170000
DTSTAMP:20260421T040832
CREATED:20260121T145040Z
LAST-MODIFIED:20260121T145425Z
UID:10002558-1771151400-1771174800@centoincroci.regione.lazio.it
SUMMARY:Kids Energy Festival
DESCRIPTION:Sabato 14 e domenica 15 Febbraio 2026 dalle 10:30 alle 17:00 Cento Incroci ospita il Kids Energy Festival\, promosso da Explora\, il Museo dei Bambini di Roma. \nDue giornate di laboratori dedicati al movimento\, pensati per bambine e bambini dai 3 anni e famiglie. In entrambe le giornate i laboratori saranno strutturati in 6 turni della durata di 50 minuti ciascuno\, con partecipazione gratuita previa prenotazione obbligatoria tramite eventbrite a questo link \nhttps://www.eventbrite.it/e/kids-energy-festival \nDurante la fascia oraria scelta\, è possibile partecipare ai laboratori: \n\nMuoviamoci insieme : alla scoperta di frutta e verdura\nQuanti colori : per conoscere frutta e verdura giocando\nL’orto creativo: modella e trasforma forme e colori\n\nL’iniziativa si inserisce all’interno del progetto “Storie in Movimento” finanziato dall’impresa sociale Con i Bambini e dalla Fondazione Cariverona\, coordinato dal gruppo Pleiadi\, di cui Explora\, il Museo dei Bambini di Roma\, è partner. \n 
URL:https://centoincroci.regione.lazio.it/evento/kids-energy-festival/2026-02-15/
CATEGORIES:Incontri
ATTACH;FMTTYPE=image/jpeg:https://centoincroci.regione.lazio.it/app/uploads/2026/01/Locandina_KidsEnergyFestival-scaled.jpg
END:VEVENT
BEGIN:VEVENT
DTSTART;TZID=Europe/Rome:20260216T090000
DTEND;TZID=Europe/Rome:20260216T180000
DTSTAMP:20260421T040832
CREATED:20250702T122145Z
LAST-MODIFIED:20250702T123345Z
UID:10001569-1771232400-1771264800@centoincroci.regione.lazio.it
SUMMARY:Spazio coworking - orari
DESCRIPTION:Disponibilità dello spazio coworking\, fruibile gratuitamente nei seguenti orari\nlunedì dalle 9 alle 18\ndal martedì al venerdì dalle 9 alle 20\n sabato e domenica dalle 10 alle 20 \nPer maggiori info 3665616955
URL:https://centoincroci.regione.lazio.it/evento/spazio-coworking-orari-2/2026-02-16/
CATEGORIES:Incontri
ATTACH;FMTTYPE=image/jpeg:https://centoincroci.regione.lazio.it/app/uploads/2024/04/339737201_1384829545390398_5164164649820751090_n.jpg
END:VEVENT
BEGIN:VEVENT
DTSTART;TZID=Europe/Rome:20260216T180000
DTEND;TZID=Europe/Rome:20260216T200000
DTSTAMP:20260421T040832
CREATED:20260130T124512Z
LAST-MODIFIED:20260130T124618Z
UID:10002560-1771264800-1771272000@centoincroci.regione.lazio.it
SUMMARY:Laboratorio di lettura poetica
DESCRIPTION:Ogni lunedì dalle ore 18.30 alle ore 20 Cento Incroci ospita un Laboratorio di lettura poetica. Uno spazio creativo\, dove i partecipanti possono esplorare la poesia\, condividendo la loro passione\nLaboratorio gratuito\, previa prenotazione. \nPrenotazioni tramite telefono al numero 3665616955
URL:https://centoincroci.regione.lazio.it/evento/laboratorio-di-lettura-poetica-51-2/2026-02-16/
CATEGORIES:I Laboratori
ATTACH;FMTTYPE=image/jpeg:https://centoincroci.regione.lazio.it/app/uploads/2024/07/5ba7b5ed7357e236133832524f8fc5.jpg
END:VEVENT
BEGIN:VEVENT
DTSTART;TZID=Europe/Rome:20260217T090000
DTEND;TZID=Europe/Rome:20260217T163000
DTSTAMP:20260421T040832
CREATED:20260130T124828Z
LAST-MODIFIED:20260130T124859Z
UID:10002616-1771318800-1771345800@centoincroci.regione.lazio.it
SUMMARY:Spazio coworking - dalle ore 9 alle ore 16.30
DESCRIPTION:Disponibilità dello spazio coworking\, fruibile gratuitamente nelle orari indicati\nSi ricorda che gli orari dello spazio coworking sono suscettibili di variazioni\, in base al calendario degli eventi. \nPer maggiori info 3665616955
URL:https://centoincroci.regione.lazio.it/evento/spazio-coworking-3-febbraio-dalle-ore-9-alle-ore-16-30/2026-02-17/
ATTACH;FMTTYPE=image/jpeg:https://centoincroci.regione.lazio.it/app/uploads/2024/04/339737201_1384829545390398_5164164649820751090_n.jpg
END:VEVENT
BEGIN:VEVENT
DTSTART;TZID=Europe/Rome:20260217T163000
DTEND;TZID=Europe/Rome:20260217T193000
DTSTAMP:20260421T040832
CREATED:20260130T130251Z
LAST-MODIFIED:20260130T130328Z
UID:10003121-1771345800-1771356600@centoincroci.regione.lazio.it
SUMMARY:Corso di inglese base per adulti
DESCRIPTION:Ogni martedì dalle ore 16.30 alle ore 19.30 Cento Incroci ospita un corso di inglese base per adulti. Attraverso lezioni pratiche e conversazioni reali\, aiuta ad aumentare la confidenza con la lingua inglese\nCorso gratuito\, previa prenotazione. \nPrenotazioni tramite telefono al numero 3665616955
URL:https://centoincroci.regione.lazio.it/evento/corso-di-inglese-base-per-adulti-2/2026-02-17/
CATEGORIES:I Laboratori
ATTACH;FMTTYPE=image/jpeg:https://centoincroci.regione.lazio.it/app/uploads/2025/09/disposizione-dei-libri-inglesi-vista-dall-alto-scaled-e1757319659105.jpg
END:VEVENT
BEGIN:VEVENT
DTSTART;TZID=Europe/Rome:20260218T090000
DTEND;TZID=Europe/Rome:20260218T170000
DTSTAMP:20260421T040832
CREATED:20260130T125048Z
LAST-MODIFIED:20260220T075455Z
UID:10002729-1771405200-1771434000@centoincroci.regione.lazio.it
SUMMARY:Spazio coworking - dalle ore 9 alle 17
DESCRIPTION:Disponibilità dello spazio coworking\, fruibile gratuitamente nelle orari indicati\nSi ricorda che gli orari dello spazio coworking sono suscettibili di variazioni\, in base al calendario degli eventi. \nPer maggiori info 3665616955
URL:https://centoincroci.regione.lazio.it/evento/spazio-coworking-dalle-ore-9-alle-20-2/2026-02-18/
CATEGORIES:Incontri
ATTACH;FMTTYPE=image/jpeg:https://centoincroci.regione.lazio.it/app/uploads/2024/04/339737201_1384829545390398_5164164649820751090_n.jpg
END:VEVENT
BEGIN:VEVENT
DTSTART;TZID=Europe/Rome:20260218T170000
DTEND;TZID=Europe/Rome:20260218T190000
DTSTAMP:20260421T040832
CREATED:20260220T075329Z
LAST-MODIFIED:20260220T075330Z
UID:10003363-1771434000-1771441200@centoincroci.regione.lazio.it
SUMMARY:Laboratorio teatrale per adulti
DESCRIPTION:Ogni mercoledì dalle 17 alle 19 Cento Incroci ospita un laboratorio teatrale per adulti. \nA fine corso è prevista una rappresentazione teatrale. \nPrenotazioni tramite telefono al numero 3665616955
URL:https://centoincroci.regione.lazio.it/evento/laboratorio-teatrale-per-adulti/2026-02-18/
CATEGORIES:I Laboratori
ATTACH;FMTTYPE=image/jpeg:https://centoincroci.regione.lazio.it/app/uploads/2026/02/locandina-teatro.jpg
END:VEVENT
BEGIN:VEVENT
DTSTART;TZID=Europe/Rome:20260219T090000
DTEND;TZID=Europe/Rome:20260219T163000
DTSTAMP:20260421T040832
CREATED:20260130T125337Z
LAST-MODIFIED:20260220T075550Z
UID:10002954-1771491600-1771518600@centoincroci.regione.lazio.it
SUMMARY:Spazio coworking - dalle ore 9 alle ore 16.30
DESCRIPTION:Disponibilità dello spazio coworking\, fruibile gratuitamente nelle orari indicati\nSi ricorda che gli orari dello spazio coworking sono suscettibili di variazioni\, in base al calendario degli eventi. \nPer maggiori info 3665616955
URL:https://centoincroci.regione.lazio.it/evento/spazio-coworking-dalle-ore-9-alle-ore-17-30/2026-02-19/
ATTACH;FMTTYPE=image/jpeg:https://centoincroci.regione.lazio.it/app/uploads/2024/04/339737201_1384829545390398_5164164649820751090_n.jpg
END:VEVENT
BEGIN:VEVENT
DTSTART;TZID=Europe/Rome:20260219T163000
DTEND;TZID=Europe/Rome:20260219T183000
DTSTAMP:20260421T040832
CREATED:20260219T153726Z
LAST-MODIFIED:20260219T154008Z
UID:10003348-1771518600-1771525800@centoincroci.regione.lazio.it
SUMMARY:Corso informatica base- Uso dello Smartphone e le App
DESCRIPTION:Ogni giovedì dalle ore 16.30 alle ore 18.30 Cento Incroci ospita un corso informatica base\, destinato alle persone che desiderano acquisire conoscenze di base sullo Smartphone e sulle APP di maggior utilità \nCorso gratuito\, previa prenotazione. \nPrenotazioni tramite telefono al numero 3665616955 \n 
URL:https://centoincroci.regione.lazio.it/evento/corso-informatica-base-3-3-2/
CATEGORIES:I Laboratori
ATTACH;FMTTYPE=image/jpeg:https://centoincroci.regione.lazio.it/app/uploads/2026/01/locandina-SMARTPHONE-E-APP-febbraio-2026.jpg
END:VEVENT
BEGIN:VEVENT
DTSTART;TZID=Europe/Rome:20260220T090000
DTEND;TZID=Europe/Rome:20260220T170000
DTSTAMP:20260421T040832
CREATED:20260206T125151Z
LAST-MODIFIED:20260206T130506Z
UID:10003177-1771578000-1771606800@centoincroci.regione.lazio.it
SUMMARY:Spazio coworking - dalle ore 9 alle ore 17.00
DESCRIPTION:Disponibilità dello spazio coworking\, fruibile gratuitamente nelle orari indicati\nSi ricorda che gli orari dello spazio coworking sono suscettibili di variazioni\, in base al calendario degli eventi. \nPer maggiori info 3665616955
URL:https://centoincroci.regione.lazio.it/evento/spazio-coworking-dalle-ore-9-alle-ore-16-30-2/2026-02-20/
CATEGORIES:Incontri
ATTACH;FMTTYPE=image/jpeg:https://centoincroci.regione.lazio.it/app/uploads/2024/04/339737201_1384829545390398_5164164649820751090_n.jpg
END:VEVENT
BEGIN:VEVENT
DTSTART;TZID=Europe/Rome:20260220T170000
DTEND;TZID=Europe/Rome:20260220T200000
DTSTAMP:20260421T040832
CREATED:20251128T100628Z
LAST-MODIFIED:20260130T140200Z
UID:10003236-1771606800-1771617600@centoincroci.regione.lazio.it
SUMMARY:Corso di Italiano per stranieri livello base e avanzato
DESCRIPTION:Ogni venerdì dalle ore 17 alle ore 20 Cento Incroci ospita un corso di Italiano per stranieri livello base e avanzato.\nCorso gratuito\, previa prenotazione. \nPrenotazioni tramite telefono o whatsapp al numero 3665616955
URL:https://centoincroci.regione.lazio.it/evento/corso-di-italiano-per-stranieri-livello-base-e-avanzato/2026-02-20/
ATTACH;FMTTYPE=image/jpeg:https://centoincroci.regione.lazio.it/app/uploads/2024/06/Corso-italiano-per-stranieri.jpg
END:VEVENT
BEGIN:VEVENT
DTSTART;TZID=Europe/Rome:20260221T100000
DTEND;TZID=Europe/Rome:20260221T130000
DTSTAMP:20260421T040832
CREATED:20260121T124756Z
LAST-MODIFIED:20260123T114031Z
UID:10002551-1771668000-1771678800@centoincroci.regione.lazio.it
SUMMARY:Introduzione al linguaggio cinematografico
DESCRIPTION:Cento Incroci a partire dal 31 gennaio ospita un corso di “Introduzione al linguaggio cinematografico” della durata di 8 lezioni complessive che saranno organizzate dalle 10 alle 13\, in  queste date: \n31/1/26 \n07/02/26 \n21/02/26 \n28/02/26 \n07/03/26 \n14/03/26 \n21/03/26 \n28/03/26 \nLe lezioni verteranno su: \n\ngli obiettivi cinematografici\n i montaggi cinematografici\n il filmico e il profilmico\nla cornice\, la finestra e il fuoricampo\nil montaggio classico vs quello contemporaneo\nil cinema della messa in scena\nil montaggio connotativo\nil linguaggio documentarista\n\nCorso gratuito aperto dai 15 anni in su\, con prenotazione al numero 366.56.16.955 
URL:https://centoincroci.regione.lazio.it/evento/corso-cinematografico-presso-cento-incroci/2026-02-21/
CATEGORIES:Incontri
ATTACH;FMTTYPE=application/pdf:https://centoincroci.regione.lazio.it/app/uploads/2026/01/corso-1.pdf
END:VEVENT
BEGIN:VEVENT
DTSTART;TZID=Europe/Rome:20260221T130000
DTEND;TZID=Europe/Rome:20260221T170000
DTSTAMP:20260421T040832
CREATED:20260227T112223Z
LAST-MODIFIED:20260227T112225Z
UID:10003386-1771678800-1771693200@centoincroci.regione.lazio.it
SUMMARY:Spazio coworking – dalle ore 13 alle ore 20.00
DESCRIPTION:Disponibilità dello spazio coworking\, fruibile gratuitamente nelle orari indicati\nSi ricorda che gli orari dello spazio coworking sono suscettibili di variazioni\, in base al calendario degli eventi. \nPer maggiori info 3665616955
URL:https://centoincroci.regione.lazio.it/evento/spazio-coworking-dalle-ore-13-alle-ore-20-00/2026-02-21/
CATEGORIES:I Laboratori
ATTACH;FMTTYPE=image/jpeg:https://centoincroci.regione.lazio.it/app/uploads/2026/01/cento.jpg
END:VEVENT
BEGIN:VEVENT
DTSTART;TZID=Europe/Rome:20260222T100000
DTEND;TZID=Europe/Rome:20260222T130000
DTSTAMP:20260421T040832
CREATED:20260206T094635Z
LAST-MODIFIED:20260206T094637Z
UID:10003290-1771754400-1771765200@centoincroci.regione.lazio.it
SUMMARY:Corso gratuito sulla sicurezza stradale per bambini dai 5 anni in su
DESCRIPTION:Ivan Marcelli\, istruttore della Scuola Acrobatica di Mountain Bike e Frisbee\, insieme alla collaboratrice Francesca Stillitano\, opera da molti anni per sensibilizzare i bambini ai temi della Sicurezza Stradale attraverso l’Associazione ASD – Federitalia Scuola Acrobatica di Mountain Bike e Frisbee\, con l’obiettivo di aiutare i più piccoli ad affrontare fin dalla tenera età i pericoli della strada con maggiore consapevolezza e disinvoltura. \nDomenica 22 Febbraio e domenica 1° marzo dalle ore 10:00 alle ore 13:00 Cento Incroci ospita le due lezioni gratuite dell’ Associazione ASD – Federitalia Scuola Acrobatica di Mountain Bike e Frisbee\, rivolte ai bambini dai 5 anni in su\, durante le quali le tematiche della sicurezza stradale verranno affrontate in modo ludico e coinvolgente. \nIngresso libero fino a esaurimento posti.\nInfo e prenotazioni: Tel. 3665616955 \nAssociazione ASD – Federitalia\nScuola Acrobatica di Mountain Bike e Frisbee\nRiconosciuta dal CONI \n 
URL:https://centoincroci.regione.lazio.it/evento/corso-gratuito-sulla-sicurezza-stradale-per-bambini-dai-5-anni-in-su/2026-02-22/
CATEGORIES:I Laboratori
ATTACH;FMTTYPE=image/jpeg:https://centoincroci.regione.lazio.it/app/uploads/2026/02/Locandina-SICUREZZA-STRADALE-2026-1.jpg
END:VEVENT
BEGIN:VEVENT
DTSTART;TZID=Europe/Rome:20260223T090000
DTEND;TZID=Europe/Rome:20260223T180000
DTSTAMP:20260421T040832
CREATED:20250702T122145Z
LAST-MODIFIED:20250702T123345Z
UID:10001570-1771837200-1771869600@centoincroci.regione.lazio.it
SUMMARY:Spazio coworking - orari
DESCRIPTION:Disponibilità dello spazio coworking\, fruibile gratuitamente nei seguenti orari\nlunedì dalle 9 alle 18\ndal martedì al venerdì dalle 9 alle 20\n sabato e domenica dalle 10 alle 20 \nPer maggiori info 3665616955
URL:https://centoincroci.regione.lazio.it/evento/spazio-coworking-orari-2/2026-02-23/
CATEGORIES:Incontri
ATTACH;FMTTYPE=image/jpeg:https://centoincroci.regione.lazio.it/app/uploads/2024/04/339737201_1384829545390398_5164164649820751090_n.jpg
END:VEVENT
BEGIN:VEVENT
DTSTART;TZID=Europe/Rome:20260223T180000
DTEND;TZID=Europe/Rome:20260223T200000
DTSTAMP:20260421T040832
CREATED:20260130T124512Z
LAST-MODIFIED:20260130T124618Z
UID:10002561-1771869600-1771876800@centoincroci.regione.lazio.it
SUMMARY:Laboratorio di lettura poetica
DESCRIPTION:Ogni lunedì dalle ore 18.30 alle ore 20 Cento Incroci ospita un Laboratorio di lettura poetica. Uno spazio creativo\, dove i partecipanti possono esplorare la poesia\, condividendo la loro passione\nLaboratorio gratuito\, previa prenotazione. \nPrenotazioni tramite telefono al numero 3665616955
URL:https://centoincroci.regione.lazio.it/evento/laboratorio-di-lettura-poetica-51-2/2026-02-23/
CATEGORIES:I Laboratori
ATTACH;FMTTYPE=image/jpeg:https://centoincroci.regione.lazio.it/app/uploads/2024/07/5ba7b5ed7357e236133832524f8fc5.jpg
END:VEVENT
BEGIN:VEVENT
DTSTART;TZID=Europe/Rome:20260224T090000
DTEND;TZID=Europe/Rome:20260224T163000
DTSTAMP:20260421T040832
CREATED:20260130T124828Z
LAST-MODIFIED:20260130T124859Z
UID:10002617-1771923600-1771950600@centoincroci.regione.lazio.it
SUMMARY:Spazio coworking - dalle ore 9 alle ore 16.30
DESCRIPTION:Disponibilità dello spazio coworking\, fruibile gratuitamente nelle orari indicati\nSi ricorda che gli orari dello spazio coworking sono suscettibili di variazioni\, in base al calendario degli eventi. \nPer maggiori info 3665616955
URL:https://centoincroci.regione.lazio.it/evento/spazio-coworking-3-febbraio-dalle-ore-9-alle-ore-16-30/2026-02-24/
ATTACH;FMTTYPE=image/jpeg:https://centoincroci.regione.lazio.it/app/uploads/2024/04/339737201_1384829545390398_5164164649820751090_n.jpg
END:VEVENT
END:VCALENDAR