BEGIN:VCALENDAR
VERSION:2.0
PRODID:-//Cento incroci - ECPv6.8.3//NONSGML v1.0//EN
CALSCALE:GREGORIAN
METHOD:PUBLISH
X-WR-CALNAME:Cento incroci
X-ORIGINAL-URL:https://centoincroci.regione.lazio.it
X-WR-CALDESC:Eventi per Cento incroci
REFRESH-INTERVAL;VALUE=DURATION:PT1H
X-Robots-Tag:noindex
X-PUBLISHED-TTL:PT1H
BEGIN:VTIMEZONE
TZID:Europe/Rome
BEGIN:DAYLIGHT
TZOFFSETFROM:+0100
TZOFFSETTO:+0200
TZNAME:CEST
DTSTART:20260329T010000
END:DAYLIGHT
BEGIN:STANDARD
TZOFFSETFROM:+0200
TZOFFSETTO:+0100
TZNAME:CET
DTSTART:20261025T010000
END:STANDARD
END:VTIMEZONE
BEGIN:VEVENT
DTSTART;TZID=Europe/Rome:20260127T090000
DTEND;TZID=Europe/Rome:20260127T100000
DTSTAMP:20260421T023724
CREATED:20250908T081227Z
LAST-MODIFIED:20260109T082004Z
UID:10002288-1769504400-1769508000@centoincroci.regione.lazio.it
SUMMARY:Sportello di ascolto psicologico
DESCRIPTION:Presso Cento Incroci è attivo uno Sportello di Ascolto psicologico gratuito. La psicologa offrirà ascolto\, supporto emotivo e strumenti per aiutare a gestire difficoltà e migliorare il benessere psicologico. \nAperto tutti i martedì\, dalle ore 9 alle ore 10.
URL:https://centoincroci.regione.lazio.it/evento/sportello-di-ascolto-psicologico-26/2026-01-27/
CATEGORIES:Incontri
ATTACH;FMTTYPE=image/jpeg:https://centoincroci.regione.lazio.it/app/uploads/2022/09/sportellopsicologico-foto.jpg
END:VEVENT
BEGIN:VEVENT
DTSTART;TZID=Europe/Rome:20260127T100000
DTEND;TZID=Europe/Rome:20260127T163000
DTSTAMP:20260421T023724
CREATED:20260121T122214Z
LAST-MODIFIED:20260121T122310Z
UID:10002544-1769508000-1769531400@centoincroci.regione.lazio.it
SUMMARY:Spazio coworking - 27 gennaio dalle ore 10 alle ore 16.30
DESCRIPTION:Disponibilità dello spazio coworking\, fruibile gratuitamente nelle orari indicati\nSi ricorda che gli orari dello spazio coworking sono suscettibili di variazioni\, in base al calendario degli eventi. \nPer maggiori info 3665616955
URL:https://centoincroci.regione.lazio.it/evento/spazio-coworking-27-gennaio-dalle-ore-10-alle-ore-16-30/
CATEGORIES:Incontri
ATTACH;FMTTYPE=image/jpeg:https://centoincroci.regione.lazio.it/app/uploads/2024/04/339737201_1384829545390398_5164164649820751090_n.jpg
END:VEVENT
BEGIN:VEVENT
DTSTART;TZID=Europe/Rome:20260128T090000
DTEND;TZID=Europe/Rome:20260128T170000
DTSTAMP:20260421T023724
CREATED:20260121T121640Z
LAST-MODIFIED:20260121T122411Z
UID:10001566-1769590800-1769619600@centoincroci.regione.lazio.it
SUMMARY:Spazio coworking - 28 gennaio dalle ore 9 alle ore 17
DESCRIPTION:Disponibilità dello spazio coworking\, fruibile gratuitamente nelle orari indicati\nSi ricorda che gli orari dello spazio coworking sono suscettibili di variazioni\, in base al calendario degli eventi. \nPer maggiori info 3665616955
URL:https://centoincroci.regione.lazio.it/evento/spazio-coworking-orari-2-2/
CATEGORIES:Incontri
ATTACH;FMTTYPE=image/jpeg:https://centoincroci.regione.lazio.it/app/uploads/2024/04/339737201_1384829545390398_5164164649820751090_n.jpg
END:VEVENT
BEGIN:VEVENT
DTSTART;TZID=Europe/Rome:20260128T170000
DTEND;TZID=Europe/Rome:20260128T190000
DTSTAMP:20260421T023724
CREATED:20250908T082417Z
LAST-MODIFIED:20260121T123119Z
UID:10002112-1769619600-1769626800@centoincroci.regione.lazio.it
SUMMARY:Laboratorio di teatro per bambini 6/12 anni
DESCRIPTION:Ogni mercoledì dalle ore 17 alle ore 19 Cento Incroci ospita un laboratorio di teatro per bambini 6/12 anni\, uno spazio creativo e divertente dove i bambini potranno sviluppare abilità sociali\, emotive e comunicative. \nCorso gratuito\, previa prenotazione. \nPrenotazioni tramite telefono o whatsapp al numero 3665616955
URL:https://centoincroci.regione.lazio.it/evento/laboratorio-di-teatro-per-bambini-6-12-anni/2026-01-28/
CATEGORIES:I Laboratori
ATTACH;FMTTYPE=image/jpeg:https://centoincroci.regione.lazio.it/app/uploads/2025/01/laboratorio-teatrale.jpg
END:VEVENT
BEGIN:VEVENT
DTSTART;TZID=Europe/Rome:20260129T090000
DTEND;TZID=Europe/Rome:20260129T173000
DTSTAMP:20260421T023724
CREATED:20260121T122701Z
LAST-MODIFIED:20260121T122701Z
UID:10002546-1769677200-1769707800@centoincroci.regione.lazio.it
SUMMARY:Spazio coworking - 29 gennaio dalle ore 9 alle ore 17.30
DESCRIPTION:Disponibilità dello spazio coworking\, fruibile gratuitamente nelle orari indicati\nSi ricorda che gli orari dello spazio coworking sono suscettibili di variazioni\, in base al calendario degli eventi. \nPer maggiori info 3665616955
URL:https://centoincroci.regione.lazio.it/evento/spazio-coworking-29-gennaio-dalle-ore-9-alle-ore-17-30/
CATEGORIES:Incontri
ATTACH;FMTTYPE=image/jpeg:https://centoincroci.regione.lazio.it/app/uploads/2024/04/339737201_1384829545390398_5164164649820751090_n.jpg
END:VEVENT
BEGIN:VEVENT
DTSTART;TZID=Europe/Rome:20260130T090000
DTEND;TZID=Europe/Rome:20260130T170000
DTSTAMP:20260421T023724
CREATED:20260121T122803Z
LAST-MODIFIED:20260121T122803Z
UID:10002547-1769763600-1769792400@centoincroci.regione.lazio.it
SUMMARY:Spazio coworking - 30 gennaio dalle ore 9 alle ore 17
DESCRIPTION:Disponibilità dello spazio coworking\, fruibile gratuitamente nelle orari indicati\nSi ricorda che gli orari dello spazio coworking sono suscettibili di variazioni\, in base al calendario degli eventi. \nPer maggiori info 3665616955
URL:https://centoincroci.regione.lazio.it/evento/spazio-coworking-30-gennaio-dalle-ore-9-alle-ore-17/
CATEGORIES:Incontri
ATTACH;FMTTYPE=image/jpeg:https://centoincroci.regione.lazio.it/app/uploads/2024/04/339737201_1384829545390398_5164164649820751090_n.jpg
END:VEVENT
BEGIN:VEVENT
DTSTART;TZID=Europe/Rome:20260131T100000
DTEND;TZID=Europe/Rome:20260131T130000
DTSTAMP:20260421T023724
CREATED:20260121T124756Z
LAST-MODIFIED:20260123T114031Z
UID:10002549-1769853600-1769864400@centoincroci.regione.lazio.it
SUMMARY:Introduzione al linguaggio cinematografico
DESCRIPTION:Cento Incroci a partire dal 31 gennaio ospita un corso di “Introduzione al linguaggio cinematografico” della durata di 8 lezioni complessive che saranno organizzate dalle 10 alle 13\, in  queste date: \n31/1/26 \n07/02/26 \n21/02/26 \n28/02/26 \n07/03/26 \n14/03/26 \n21/03/26 \n28/03/26 \nLe lezioni verteranno su: \n\ngli obiettivi cinematografici\n i montaggi cinematografici\n il filmico e il profilmico\nla cornice\, la finestra e il fuoricampo\nil montaggio classico vs quello contemporaneo\nil cinema della messa in scena\nil montaggio connotativo\nil linguaggio documentarista\n\nCorso gratuito aperto dai 15 anni in su\, con prenotazione al numero 366.56.16.955 
URL:https://centoincroci.regione.lazio.it/evento/corso-cinematografico-presso-cento-incroci/2026-01-31/
CATEGORIES:Incontri
ATTACH;FMTTYPE=application/pdf:https://centoincroci.regione.lazio.it/app/uploads/2026/01/corso-1.pdf
END:VEVENT
BEGIN:VEVENT
DTSTART;TZID=Europe/Rome:20260131T140000
DTEND;TZID=Europe/Rome:20260131T160000
DTSTAMP:20260421T023724
CREATED:20260113T092850Z
LAST-MODIFIED:20260113T092850Z
UID:10002533-1769868000-1769875200@centoincroci.regione.lazio.it
SUMMARY:WeArt – Laboratorio artistico espressivo
DESCRIPTION:Cento Incroci ospita “WeArt – Laboratorio esperienziale di arte cooperativa e relazionale”\, un percorso artistico-espressivo ispirato alla Gestalt Art Therapy\, pensato per donne con background migratorio (prevalentemente o esclusivamente donne)\, con l’obiettivo di favorire consapevolezza\, espressione e rafforzamento dei legami affettivi e interculturali. Attraverso pittura\, manipolazione\, collage e fotografia\, le partecipanti potranno esplorare emozioni e relazioni\, costruendo uno spazio di socialità\, fiducia e condivisione. \nOrganizzato dal Consiglio Italiano per i Rifugiati ETS \n  \nDATE LABORATORIO\n15/11/2025 h: 14 – 16\n22/11/2025 h: 14 – 16\n30/11/2025 h: 14 – 16\n06/12/2025 h: 14 – 16\n13/12/2025 h: 14 – 16\n20/12/2025 h: 14 – 16\n03/01/2026 h: 14 – 16\n10/01/2026 h: 14 – 16\n18/01/2026 h: 14 – 16\n24/01/2026 h: 14 – 16\n31/01/2026 h: 14 – 16\n07/02/2026 h: 14 – 16 \n  \nCorso gratuito\, previa prenotazione. \nPrenotazioni tramite telefono o whatsapp al numero 3665616955
URL:https://centoincroci.regione.lazio.it/evento/weart-laboratorio-artistico-espressivo-4/
CATEGORIES:I Laboratori
ATTACH;FMTTYPE=image/jpeg:https://centoincroci.regione.lazio.it/app/uploads/2025/11/vista-dall-alto-delle-mani-di-una-donna-attraente-che-disegnano-un-immagine-straordinaria-su-tela-un-moderno-laboratorio-d-arte-accogliente-scaled.jpg
END:VEVENT
BEGIN:VEVENT
DTSTART;TZID=Europe/Rome:20260131T173000
DTEND;TZID=Europe/Rome:20260131T183000
DTSTAMP:20260421T023724
CREATED:20260121T083801Z
LAST-MODIFIED:20260121T083802Z
UID:10002536-1769880600-1769884200@centoincroci.regione.lazio.it
SUMMARY:Incontro poetico - APPUNTI DI UN VIAGGIO con Giuseppe Spinillo
DESCRIPTION:Sabato 31 gennaio alle ore 17.30 Cento Incroci ospita “APPUNTI DI UN VIAGGIO”\, incontro poetico legato alle raccolte poetiche di Giuseppe Spinillo.\nL’incontro si inserisce nell’ambito del Laboratorio di lettura scrittura e ascolto poetico del Piccolo teatro della Parola.
URL:https://centoincroci.regione.lazio.it/evento/incontro-poetico-appunti-di-un-viaggio-con-giuseppe-spinillo/
CATEGORIES:Incontri
ATTACH;FMTTYPE=image/jpeg:https://centoincroci.regione.lazio.it/app/uploads/2026/01/31-gennaio-2026.jpg
END:VEVENT
BEGIN:VEVENT
DTSTART;TZID=Europe/Rome:20260201T100000
DTEND;TZID=Europe/Rome:20260201T200000
DTSTAMP:20260421T023724
CREATED:20260121T122936Z
LAST-MODIFIED:20260121T122936Z
UID:10002548-1769940000-1769976000@centoincroci.regione.lazio.it
SUMMARY:Spazio coworking - 1 febbraio gennaio dalle ore 10 alle ore 20
DESCRIPTION:Disponibilità dello spazio coworking\, fruibile gratuitamente nelle orari indicati\nSi ricorda che gli orari dello spazio coworking sono suscettibili di variazioni\, in base al calendario degli eventi. \nPer maggiori info 3665616955
URL:https://centoincroci.regione.lazio.it/evento/spazio-coworking-1-febbraio-gennaio-dalle-ore-10-alle-ore-20/
CATEGORIES:Incontri
ATTACH;FMTTYPE=image/jpeg:https://centoincroci.regione.lazio.it/app/uploads/2024/04/339737201_1384829545390398_5164164649820751090_n.jpg
END:VEVENT
BEGIN:VEVENT
DTSTART;TZID=Europe/Rome:20260202T090000
DTEND;TZID=Europe/Rome:20260202T180000
DTSTAMP:20260421T023724
CREATED:20250702T122145Z
LAST-MODIFIED:20250702T123345Z
UID:10001567-1770022800-1770055200@centoincroci.regione.lazio.it
SUMMARY:Spazio coworking - orari
DESCRIPTION:Disponibilità dello spazio coworking\, fruibile gratuitamente nei seguenti orari\nlunedì dalle 9 alle 18\ndal martedì al venerdì dalle 9 alle 20\n sabato e domenica dalle 10 alle 20 \nPer maggiori info 3665616955
URL:https://centoincroci.regione.lazio.it/evento/spazio-coworking-orari-2/2026-02-02/
CATEGORIES:Incontri
ATTACH;FMTTYPE=image/jpeg:https://centoincroci.regione.lazio.it/app/uploads/2024/04/339737201_1384829545390398_5164164649820751090_n.jpg
END:VEVENT
BEGIN:VEVENT
DTSTART;TZID=Europe/Rome:20260202T180000
DTEND;TZID=Europe/Rome:20260202T200000
DTSTAMP:20260421T023724
CREATED:20260130T124512Z
LAST-MODIFIED:20260130T124618Z
UID:10002543-1770055200-1770062400@centoincroci.regione.lazio.it
SUMMARY:Laboratorio di lettura poetica
DESCRIPTION:Ogni lunedì dalle ore 18.30 alle ore 20 Cento Incroci ospita un Laboratorio di lettura poetica. Uno spazio creativo\, dove i partecipanti possono esplorare la poesia\, condividendo la loro passione\nLaboratorio gratuito\, previa prenotazione. \nPrenotazioni tramite telefono al numero 3665616955
URL:https://centoincroci.regione.lazio.it/evento/laboratorio-di-lettura-poetica-51-2/2026-02-02/
CATEGORIES:I Laboratori
ATTACH;FMTTYPE=image/jpeg:https://centoincroci.regione.lazio.it/app/uploads/2024/07/5ba7b5ed7357e236133832524f8fc5.jpg
END:VEVENT
BEGIN:VEVENT
DTSTART;TZID=Europe/Rome:20260203T090000
DTEND;TZID=Europe/Rome:20260203T163000
DTSTAMP:20260421T023724
CREATED:20260130T124828Z
LAST-MODIFIED:20260130T124859Z
UID:10002614-1770109200-1770136200@centoincroci.regione.lazio.it
SUMMARY:Spazio coworking - dalle ore 9 alle ore 16.30
DESCRIPTION:Disponibilità dello spazio coworking\, fruibile gratuitamente nelle orari indicati\nSi ricorda che gli orari dello spazio coworking sono suscettibili di variazioni\, in base al calendario degli eventi. \nPer maggiori info 3665616955
URL:https://centoincroci.regione.lazio.it/evento/spazio-coworking-3-febbraio-dalle-ore-9-alle-ore-16-30/2026-02-03/
ATTACH;FMTTYPE=image/jpeg:https://centoincroci.regione.lazio.it/app/uploads/2024/04/339737201_1384829545390398_5164164649820751090_n.jpg
END:VEVENT
BEGIN:VEVENT
DTSTART;TZID=Europe/Rome:20260203T163000
DTEND;TZID=Europe/Rome:20260203T193000
DTSTAMP:20260421T023724
CREATED:20260130T130251Z
LAST-MODIFIED:20260130T130328Z
UID:10002053-1770136200-1770147000@centoincroci.regione.lazio.it
SUMMARY:Corso di inglese base per adulti
DESCRIPTION:Ogni martedì dalle ore 16.30 alle ore 19.30 Cento Incroci ospita un corso di inglese base per adulti. Attraverso lezioni pratiche e conversazioni reali\, aiuta ad aumentare la confidenza con la lingua inglese\nCorso gratuito\, previa prenotazione. \nPrenotazioni tramite telefono al numero 3665616955
URL:https://centoincroci.regione.lazio.it/evento/corso-di-inglese-base-per-adulti-2/2026-02-03/
CATEGORIES:I Laboratori
ATTACH;FMTTYPE=image/jpeg:https://centoincroci.regione.lazio.it/app/uploads/2025/09/disposizione-dei-libri-inglesi-vista-dall-alto-scaled-e1757319659105.jpg
END:VEVENT
BEGIN:VEVENT
DTSTART;TZID=Europe/Rome:20260204T090000
DTEND;TZID=Europe/Rome:20260204T170000
DTSTAMP:20260421T023724
CREATED:20260130T125048Z
LAST-MODIFIED:20260220T075455Z
UID:10002783-1770195600-1770224400@centoincroci.regione.lazio.it
SUMMARY:Spazio coworking - dalle ore 9 alle 17
DESCRIPTION:Disponibilità dello spazio coworking\, fruibile gratuitamente nelle orari indicati\nSi ricorda che gli orari dello spazio coworking sono suscettibili di variazioni\, in base al calendario degli eventi. \nPer maggiori info 3665616955
URL:https://centoincroci.regione.lazio.it/evento/spazio-coworking-dalle-ore-9-alle-20-2/2026-02-04/
CATEGORIES:Incontri
ATTACH;FMTTYPE=image/jpeg:https://centoincroci.regione.lazio.it/app/uploads/2024/04/339737201_1384829545390398_5164164649820751090_n.jpg
END:VEVENT
BEGIN:VEVENT
DTSTART;TZID=Europe/Rome:20260205T090000
DTEND;TZID=Europe/Rome:20260205T163000
DTSTAMP:20260421T023724
CREATED:20260130T125337Z
LAST-MODIFIED:20260220T075550Z
UID:10002952-1770282000-1770309000@centoincroci.regione.lazio.it
SUMMARY:Spazio coworking - dalle ore 9 alle ore 16.30
DESCRIPTION:Disponibilità dello spazio coworking\, fruibile gratuitamente nelle orari indicati\nSi ricorda che gli orari dello spazio coworking sono suscettibili di variazioni\, in base al calendario degli eventi. \nPer maggiori info 3665616955
URL:https://centoincroci.regione.lazio.it/evento/spazio-coworking-dalle-ore-9-alle-ore-17-30/2026-02-05/
ATTACH;FMTTYPE=image/jpeg:https://centoincroci.regione.lazio.it/app/uploads/2024/04/339737201_1384829545390398_5164164649820751090_n.jpg
END:VEVENT
BEGIN:VEVENT
DTSTART;TZID=Europe/Rome:20260205T170000
DTEND;TZID=Europe/Rome:20260205T200000
DTSTAMP:20260421T023724
CREATED:20260130T125908Z
LAST-MODIFIED:20260206T125009Z
UID:10003292-1770310800-1770321600@centoincroci.regione.lazio.it
SUMMARY:Corso informatica base
DESCRIPTION:Ogni giovedì dalle ore 17.30 alle ore 20 Cento Incroci ospita un corso informatica base\, progettato per fornire fondamenta per utilizzare il pc\, apprendere a gestire file e cartelle\, posta elettronica e navigare in modo sicuro. \nOgni partecipante deve portare un blocco o un quaderno per prendere appunti e\, se possibile\, un PC portatile o un Tablet \nCorso gratuito\, previa prenotazione. \nPrenotazioni tramite telefono al numero 3665616955 \n 
URL:https://centoincroci.regione.lazio.it/evento/corso-informatica-base-3-3/2026-02-05/
CATEGORIES:I Laboratori
ATTACH;FMTTYPE=image/jpeg:https://centoincroci.regione.lazio.it/app/uploads/2025/12/Locandina-corso-informatica-e1769599043282.jpg
END:VEVENT
BEGIN:VEVENT
DTSTART;TZID=Europe/Rome:20260206T090000
DTEND;TZID=Europe/Rome:20260206T163000
DTSTAMP:20260421T023724
CREATED:20260130T130559Z
LAST-MODIFIED:20260130T130600Z
UID:10003175-1770368400-1770395400@centoincroci.regione.lazio.it
SUMMARY:Spazio coworking - dalle ore 9 alle ore 16.30
DESCRIPTION:Disponibilità dello spazio coworking\, fruibile gratuitamente nelle orari indicati\nSi ricorda che gli orari dello spazio coworking sono suscettibili di variazioni\, in base al calendario degli eventi. \nPer maggiori info 3665616955
URL:https://centoincroci.regione.lazio.it/evento/spazio-coworking-dalle-ore-9-alle-ore-16-30/
CATEGORIES:Incontri
ATTACH;FMTTYPE=image/jpeg:https://centoincroci.regione.lazio.it/app/uploads/2024/04/339737201_1384829545390398_5164164649820751090_n.jpg
END:VEVENT
BEGIN:VEVENT
DTSTART;TZID=Europe/Rome:20260206T170000
DTEND;TZID=Europe/Rome:20260206T200000
DTSTAMP:20260421T023724
CREATED:20260130T131759Z
LAST-MODIFIED:20260130T131800Z
UID:10003231-1770397200-1770408000@centoincroci.regione.lazio.it
SUMMARY:Riunione V municipio - riqualificazione aree verdi Via delle palme
DESCRIPTION:Cento Incroci ospita dalle ore 17 alle ore 20 la riunione del V municipio per la riqualificazione aree verdi Via delle Palme
URL:https://centoincroci.regione.lazio.it/evento/riunione-v-municipio-riqualificazione-aree-verdi-via-delle-palme/
CATEGORIES:Incontri
ATTACH;FMTTYPE=image/jpeg:https://centoincroci.regione.lazio.it/app/uploads/2026/01/cento.jpg
END:VEVENT
BEGIN:VEVENT
DTSTART;TZID=Europe/Rome:20260207T100000
DTEND;TZID=Europe/Rome:20260207T130000
DTSTAMP:20260421T023725
CREATED:20260121T124756Z
LAST-MODIFIED:20260123T114031Z
UID:10002550-1770458400-1770469200@centoincroci.regione.lazio.it
SUMMARY:Introduzione al linguaggio cinematografico
DESCRIPTION:Cento Incroci a partire dal 31 gennaio ospita un corso di “Introduzione al linguaggio cinematografico” della durata di 8 lezioni complessive che saranno organizzate dalle 10 alle 13\, in  queste date: \n31/1/26 \n07/02/26 \n21/02/26 \n28/02/26 \n07/03/26 \n14/03/26 \n21/03/26 \n28/03/26 \nLe lezioni verteranno su: \n\ngli obiettivi cinematografici\n i montaggi cinematografici\n il filmico e il profilmico\nla cornice\, la finestra e il fuoricampo\nil montaggio classico vs quello contemporaneo\nil cinema della messa in scena\nil montaggio connotativo\nil linguaggio documentarista\n\nCorso gratuito aperto dai 15 anni in su\, con prenotazione al numero 366.56.16.955 
URL:https://centoincroci.regione.lazio.it/evento/corso-cinematografico-presso-cento-incroci/2026-02-07/
CATEGORIES:Incontri
ATTACH;FMTTYPE=application/pdf:https://centoincroci.regione.lazio.it/app/uploads/2026/01/corso-1.pdf
END:VEVENT
BEGIN:VEVENT
DTSTART;TZID=Europe/Rome:20260207T130000
DTEND;TZID=Europe/Rome:20260207T170000
DTSTAMP:20260421T023725
CREATED:20260227T112223Z
LAST-MODIFIED:20260227T112225Z
UID:10003384-1770469200-1770483600@centoincroci.regione.lazio.it
SUMMARY:Spazio coworking – dalle ore 13 alle ore 20.00
DESCRIPTION:Disponibilità dello spazio coworking\, fruibile gratuitamente nelle orari indicati\nSi ricorda che gli orari dello spazio coworking sono suscettibili di variazioni\, in base al calendario degli eventi. \nPer maggiori info 3665616955
URL:https://centoincroci.regione.lazio.it/evento/spazio-coworking-dalle-ore-13-alle-ore-20-00/2026-02-07/
CATEGORIES:I Laboratori
ATTACH;FMTTYPE=image/jpeg:https://centoincroci.regione.lazio.it/app/uploads/2026/01/cento.jpg
END:VEVENT
BEGIN:VEVENT
DTSTART;TZID=Europe/Rome:20260207T133000
DTEND;TZID=Europe/Rome:20260207T160000
DTSTAMP:20260421T023725
CREATED:20260113T092930Z
LAST-MODIFIED:20260130T130925Z
UID:10002534-1770471000-1770480000@centoincroci.regione.lazio.it
SUMMARY:WeArt – Laboratorio artistico espressivo
DESCRIPTION:Cento Incroci ospita “WeArt – Laboratorio esperienziale di arte cooperativa e relazionale”\, un percorso artistico-espressivo ispirato alla Gestalt Art Therapy\, pensato per donne con background migratorio (prevalentemente o esclusivamente donne)\, con l’obiettivo di favorire consapevolezza\, espressione e rafforzamento dei legami affettivi e interculturali. Attraverso pittura\, manipolazione\, collage e fotografia\, le partecipanti potranno esplorare emozioni e relazioni\, costruendo uno spazio di socialità\, fiducia e condivisione. \nOrganizzato dal Consiglio Italiano per i Rifugiati ETS \n  \nDATE LABORATORIO \nCorso gratuito\, previa prenotazione. \nPrenotazioni tramite telefono  al numero 3665616955
URL:https://centoincroci.regione.lazio.it/evento/weart-laboratorio-artistico-espressivo-5/
CATEGORIES:I Laboratori
ATTACH;FMTTYPE=image/jpeg:https://centoincroci.regione.lazio.it/app/uploads/2025/11/vista-dall-alto-delle-mani-di-una-donna-attraente-che-disegnano-un-immagine-straordinaria-su-tela-un-moderno-laboratorio-d-arte-accogliente-scaled.jpg
END:VEVENT
BEGIN:VEVENT
DTSTART;TZID=Europe/Rome:20260207T160000
DTEND;TZID=Europe/Rome:20260207T190000
DTSTAMP:20260421T023725
CREATED:20260130T132859Z
LAST-MODIFIED:20260130T132859Z
UID:10003233-1770480000-1770490800@centoincroci.regione.lazio.it
SUMMARY:Accesso al mercato del lavoro in Italia: riflessioni e strategie in prospettiva di genere
DESCRIPTION:L’incontro proposto dall’associazione Binario15 ODV\, si inserisce all’interno del progetto: GOALavoro  (promosso da CISP-Sviluppo dei Popoli in partenariato con ALESS Don Milani ETS e Binario 15 ODV e in collaborazione con ADIFOR). \nL’incontro avrà un approccio laboratoriale\, attiverà riflessione e confronto sulla tematica dell’accesso al mondo del lavoro in prospettiva di genere. \nEvento gratuito riservato esclusivamente a donne della diaspora afghana e iraniana.
URL:https://centoincroci.regione.lazio.it/evento/accesso-al-mercato-del-lavoro-in-italia-riflessioni-e-strategie-in-prospettiva-di-genere/
CATEGORIES:Incontri
ATTACH;FMTTYPE=image/png:https://centoincroci.regione.lazio.it/app/uploads/2026/01/Volantino-per-sessioni-Binario-15-febbraio-2026.png
END:VEVENT
BEGIN:VEVENT
DTSTART;TZID=Europe/Rome:20260208T170000
DTEND;TZID=Europe/Rome:20260208T200000
DTSTAMP:20260421T023725
CREATED:20260130T132541Z
LAST-MODIFIED:20260206T093532Z
UID:10003232-1770570000-1770580800@centoincroci.regione.lazio.it
SUMMARY:Cento Insegne - Istituto Europeo di Design
DESCRIPTION:Cento Incroci domenica 8 febbraio dalle 17 alle 20 ospita “Cento Insegne”. \nNell’ambito del corso di Linguaggi Tipografici presso il Master in Graphic Design dello IED – Istituto Europeo di Design\, la classe dell’anno in corso ha lavorato sul tema delle insegne storiche\, circoscrivendo la ricerca al quartiere di Centocelle\, territorio di riferimento della docente da circa dieci anni. In particolare\, gli studenti hanno indagato sia gli aspetti prettamente tipografici legati alla comunicazione pubblica delle attività commerciali e al loro impatto sul panorama visivo e sull’identità del quartiere\, sia le specifiche realtà dei negozianti attraverso interviste\, ritratti\, fotografie di oggetti e degli interni dei locali. \nIl risultato è un volume cartaceo che raccoglie immagini e testi della ricerca\, da cui emerge una panoramica di Centocelle che affronta temi sociali quali il declino e la scomparsa di alcune tipologie di attività commerciali e\, più in generale\, dei rapporti di prossimità; il valore delle storie peculiari e collettive nella connessione con l’identità di un luogo; e\, nello specifico\, l’importanza delle insegne storiche come veicoli di un’identità visiva capace di trasmettere valori legati all’artigianato e alle relazioni di vicinato. \nSaranno esposti il libro\, alcuni poster e cartoline stampati per l’occasione\, alcuni oggetti donati dai negozianti (bottoni\, stoffe\, tazzine da caffè\, piccoli oggetti semplici) e una mappa interattiva; inoltre\, alcuni dei commercianti intervistati saranno invitati a raccontare le proprie storie. \nMaggiori info: https://www.ied.it/news/cento-insegne
URL:https://centoincroci.regione.lazio.it/evento/cento-insegne-istituto-europeo-di-design/
CATEGORIES:I Laboratori
ATTACH;FMTTYPE=image/jpeg:https://centoincroci.regione.lazio.it/app/uploads/2026/01/locandine-insegne-scaled-e1770370463891.jpg
END:VEVENT
BEGIN:VEVENT
DTSTART;TZID=Europe/Rome:20260209T090000
DTEND;TZID=Europe/Rome:20260209T180000
DTSTAMP:20260421T023725
CREATED:20250702T122145Z
LAST-MODIFIED:20250702T123345Z
UID:10001568-1770627600-1770660000@centoincroci.regione.lazio.it
SUMMARY:Spazio coworking - orari
DESCRIPTION:Disponibilità dello spazio coworking\, fruibile gratuitamente nei seguenti orari\nlunedì dalle 9 alle 18\ndal martedì al venerdì dalle 9 alle 20\n sabato e domenica dalle 10 alle 20 \nPer maggiori info 3665616955
URL:https://centoincroci.regione.lazio.it/evento/spazio-coworking-orari-2/2026-02-09/
CATEGORIES:Incontri
ATTACH;FMTTYPE=image/jpeg:https://centoincroci.regione.lazio.it/app/uploads/2024/04/339737201_1384829545390398_5164164649820751090_n.jpg
END:VEVENT
BEGIN:VEVENT
DTSTART;TZID=Europe/Rome:20260209T180000
DTEND;TZID=Europe/Rome:20260209T200000
DTSTAMP:20260421T023725
CREATED:20260130T124512Z
LAST-MODIFIED:20260130T124618Z
UID:10002559-1770660000-1770667200@centoincroci.regione.lazio.it
SUMMARY:Laboratorio di lettura poetica
DESCRIPTION:Ogni lunedì dalle ore 18.30 alle ore 20 Cento Incroci ospita un Laboratorio di lettura poetica. Uno spazio creativo\, dove i partecipanti possono esplorare la poesia\, condividendo la loro passione\nLaboratorio gratuito\, previa prenotazione. \nPrenotazioni tramite telefono al numero 3665616955
URL:https://centoincroci.regione.lazio.it/evento/laboratorio-di-lettura-poetica-51-2/2026-02-09/
CATEGORIES:I Laboratori
ATTACH;FMTTYPE=image/jpeg:https://centoincroci.regione.lazio.it/app/uploads/2024/07/5ba7b5ed7357e236133832524f8fc5.jpg
END:VEVENT
BEGIN:VEVENT
DTSTART;TZID=Europe/Rome:20260210T090000
DTEND;TZID=Europe/Rome:20260210T163000
DTSTAMP:20260421T023725
CREATED:20260130T124828Z
LAST-MODIFIED:20260130T124859Z
UID:10002615-1770714000-1770741000@centoincroci.regione.lazio.it
SUMMARY:Spazio coworking - dalle ore 9 alle ore 16.30
DESCRIPTION:Disponibilità dello spazio coworking\, fruibile gratuitamente nelle orari indicati\nSi ricorda che gli orari dello spazio coworking sono suscettibili di variazioni\, in base al calendario degli eventi. \nPer maggiori info 3665616955
URL:https://centoincroci.regione.lazio.it/evento/spazio-coworking-3-febbraio-dalle-ore-9-alle-ore-16-30/2026-02-10/
ATTACH;FMTTYPE=image/jpeg:https://centoincroci.regione.lazio.it/app/uploads/2024/04/339737201_1384829545390398_5164164649820751090_n.jpg
END:VEVENT
BEGIN:VEVENT
DTSTART;TZID=Europe/Rome:20260210T163000
DTEND;TZID=Europe/Rome:20260210T193000
DTSTAMP:20260421T023725
CREATED:20260130T130251Z
LAST-MODIFIED:20260130T130328Z
UID:10003120-1770741000-1770751800@centoincroci.regione.lazio.it
SUMMARY:Corso di inglese base per adulti
DESCRIPTION:Ogni martedì dalle ore 16.30 alle ore 19.30 Cento Incroci ospita un corso di inglese base per adulti. Attraverso lezioni pratiche e conversazioni reali\, aiuta ad aumentare la confidenza con la lingua inglese\nCorso gratuito\, previa prenotazione. \nPrenotazioni tramite telefono al numero 3665616955
URL:https://centoincroci.regione.lazio.it/evento/corso-di-inglese-base-per-adulti-2/2026-02-10/
CATEGORIES:I Laboratori
ATTACH;FMTTYPE=image/jpeg:https://centoincroci.regione.lazio.it/app/uploads/2025/09/disposizione-dei-libri-inglesi-vista-dall-alto-scaled-e1757319659105.jpg
END:VEVENT
BEGIN:VEVENT
DTSTART;TZID=Europe/Rome:20260211T090000
DTEND;TZID=Europe/Rome:20260211T170000
DTSTAMP:20260421T023725
CREATED:20260130T125048Z
LAST-MODIFIED:20260220T075455Z
UID:10002728-1770800400-1770829200@centoincroci.regione.lazio.it
SUMMARY:Spazio coworking - dalle ore 9 alle 17
DESCRIPTION:Disponibilità dello spazio coworking\, fruibile gratuitamente nelle orari indicati\nSi ricorda che gli orari dello spazio coworking sono suscettibili di variazioni\, in base al calendario degli eventi. \nPer maggiori info 3665616955
URL:https://centoincroci.regione.lazio.it/evento/spazio-coworking-dalle-ore-9-alle-20-2/2026-02-11/
CATEGORIES:Incontri
ATTACH;FMTTYPE=image/jpeg:https://centoincroci.regione.lazio.it/app/uploads/2024/04/339737201_1384829545390398_5164164649820751090_n.jpg
END:VEVENT
BEGIN:VEVENT
DTSTART;TZID=Europe/Rome:20260212T090000
DTEND;TZID=Europe/Rome:20260212T163000
DTSTAMP:20260421T023725
CREATED:20260130T125337Z
LAST-MODIFIED:20260220T075550Z
UID:10002953-1770886800-1770913800@centoincroci.regione.lazio.it
SUMMARY:Spazio coworking - dalle ore 9 alle ore 16.30
DESCRIPTION:Disponibilità dello spazio coworking\, fruibile gratuitamente nelle orari indicati\nSi ricorda che gli orari dello spazio coworking sono suscettibili di variazioni\, in base al calendario degli eventi. \nPer maggiori info 3665616955
URL:https://centoincroci.regione.lazio.it/evento/spazio-coworking-dalle-ore-9-alle-ore-17-30/2026-02-12/
ATTACH;FMTTYPE=image/jpeg:https://centoincroci.regione.lazio.it/app/uploads/2024/04/339737201_1384829545390398_5164164649820751090_n.jpg
END:VEVENT
END:VCALENDAR