BEGIN:VCALENDAR
VERSION:2.0
PRODID:-//Cento incroci - ECPv6.8.3//NONSGML v1.0//EN
CALSCALE:GREGORIAN
METHOD:PUBLISH
X-WR-CALNAME:Cento incroci
X-ORIGINAL-URL:https://centoincroci.regione.lazio.it
X-WR-CALDESC:Eventi per Cento incroci
REFRESH-INTERVAL;VALUE=DURATION:PT1H
X-Robots-Tag:noindex
X-PUBLISHED-TTL:PT1H
BEGIN:VTIMEZONE
TZID:Europe/Rome
BEGIN:DAYLIGHT
TZOFFSETFROM:+0100
TZOFFSETTO:+0200
TZNAME:CEST
DTSTART:20250330T010000
END:DAYLIGHT
BEGIN:STANDARD
TZOFFSETFROM:+0200
TZOFFSETTO:+0100
TZNAME:CET
DTSTART:20251026T010000
END:STANDARD
BEGIN:DAYLIGHT
TZOFFSETFROM:+0100
TZOFFSETTO:+0200
TZNAME:CEST
DTSTART:20260329T010000
END:DAYLIGHT
BEGIN:STANDARD
TZOFFSETFROM:+0200
TZOFFSETTO:+0100
TZNAME:CET
DTSTART:20261025T010000
END:STANDARD
END:VTIMEZONE
BEGIN:VEVENT
DTSTART;TZID=Europe/Rome:20260112T090000
DTEND;TZID=Europe/Rome:20260112T180000
DTSTAMP:20260421T054513
CREATED:20250702T122145Z
LAST-MODIFIED:20250702T123345Z
UID:10001564-1768208400-1768240800@centoincroci.regione.lazio.it
SUMMARY:Spazio coworking - orari
DESCRIPTION:Disponibilità dello spazio coworking\, fruibile gratuitamente nei seguenti orari\nlunedì dalle 9 alle 18\ndal martedì al venerdì dalle 9 alle 20\n sabato e domenica dalle 10 alle 20 \nPer maggiori info 3665616955
URL:https://centoincroci.regione.lazio.it/evento/spazio-coworking-orari-2/2026-01-12/
CATEGORIES:Incontri
ATTACH;FMTTYPE=image/jpeg:https://centoincroci.regione.lazio.it/app/uploads/2024/04/339737201_1384829545390398_5164164649820751090_n.jpg
END:VEVENT
BEGIN:VEVENT
DTSTART;TZID=Europe/Rome:20260108T173000
DTEND;TZID=Europe/Rome:20260108T200000
DTSTAMP:20260421T054513
CREATED:20251205T081300Z
LAST-MODIFIED:20260130T125748Z
UID:10002472-1767893400-1767902400@centoincroci.regione.lazio.it
SUMMARY:Corso informatica base
DESCRIPTION:Ogni giovedì dalle ore 17.30 alle ore 20 Cento Incroci ospita un corso informatica base\, progettato per fornire fondamenta per utilizzare il pc\, apprendere a gestire file e cartelle\, posta elettronica e navigare in modo sicuro. \nOgni partecipante deve portare un blocco o un quaderno per prendere appunti e\, se possibile\, un PC portatile o un Tablet \nCorso gratuito\, previa prenotazione. \nPrenotazioni tramite telefono al numero 3665616955 \n 
URL:https://centoincroci.regione.lazio.it/evento/corso-informatica-base-3/2026-01-08/
CATEGORIES:I Laboratori
ATTACH;FMTTYPE=image/jpeg:https://centoincroci.regione.lazio.it/app/uploads/2025/12/Locandina-corso-informatica-e1769599043282.jpg
END:VEVENT
BEGIN:VEVENT
DTSTART;TZID=Europe/Rome:20260107T170000
DTEND;TZID=Europe/Rome:20260107T190000
DTSTAMP:20260421T054513
CREATED:20250908T082417Z
LAST-MODIFIED:20260121T123119Z
UID:10002109-1767805200-1767812400@centoincroci.regione.lazio.it
SUMMARY:Laboratorio di teatro per bambini 6/12 anni
DESCRIPTION:Ogni mercoledì dalle ore 17 alle ore 19 Cento Incroci ospita un laboratorio di teatro per bambini 6/12 anni\, uno spazio creativo e divertente dove i bambini potranno sviluppare abilità sociali\, emotive e comunicative. \nCorso gratuito\, previa prenotazione. \nPrenotazioni tramite telefono o whatsapp al numero 3665616955
URL:https://centoincroci.regione.lazio.it/evento/laboratorio-di-teatro-per-bambini-6-12-anni/2026-01-07/
CATEGORIES:I Laboratori
ATTACH;FMTTYPE=image/jpeg:https://centoincroci.regione.lazio.it/app/uploads/2025/01/laboratorio-teatrale.jpg
END:VEVENT
BEGIN:VEVENT
DTSTART;TZID=Europe/Rome:20260106T163000
DTEND;TZID=Europe/Rome:20260106T180000
DTSTAMP:20260421T054513
CREATED:20250908T081814Z
LAST-MODIFIED:20260109T082128Z
UID:10002050-1767717000-1767722400@centoincroci.regione.lazio.it
SUMMARY:Corso di inglese base per adulti
DESCRIPTION:Ogni martedì dalle ore 16.30 alle ore 18 Cento Incroci ospita un corso di inglese base per adulti. Attraverso lezioni pratiche e conversazioni reali\,aiuta ad aumentare la confidenza con la lingua inglese\nCorso gratuito\, previa prenotazione. \nPrenotazioni tramite telefono o whatsapp al numero 3665616955
URL:https://centoincroci.regione.lazio.it/evento/corso-di-inglese-base-per-adulti/2026-01-06/
CATEGORIES:I Laboratori
ATTACH;FMTTYPE=image/jpeg:https://centoincroci.regione.lazio.it/app/uploads/2025/09/disposizione-dei-libri-inglesi-vista-dall-alto-scaled-e1757319659105.jpg
END:VEVENT
BEGIN:VEVENT
DTSTART;TZID=Europe/Rome:20260106T090000
DTEND;TZID=Europe/Rome:20260106T100000
DTSTAMP:20260421T054513
CREATED:20250908T081227Z
LAST-MODIFIED:20260109T082004Z
UID:10002285-1767690000-1767693600@centoincroci.regione.lazio.it
SUMMARY:Sportello di ascolto psicologico
DESCRIPTION:Presso Cento Incroci è attivo uno Sportello di Ascolto psicologico gratuito. La psicologa offrirà ascolto\, supporto emotivo e strumenti per aiutare a gestire difficoltà e migliorare il benessere psicologico. \nAperto tutti i martedì\, dalle ore 9 alle ore 10.
URL:https://centoincroci.regione.lazio.it/evento/sportello-di-ascolto-psicologico-26/2026-01-06/
CATEGORIES:Incontri
ATTACH;FMTTYPE=image/jpeg:https://centoincroci.regione.lazio.it/app/uploads/2022/09/sportellopsicologico-foto.jpg
END:VEVENT
BEGIN:VEVENT
DTSTART;VALUE=DATE:20260106
DTEND;VALUE=DATE:20260107
DTSTAMP:20260421T054513
CREATED:20251128T100726Z
LAST-MODIFIED:20251128T100726Z
UID:10002455-1767657600-1767743999@centoincroci.regione.lazio.it
SUMMARY:Chiusure Cento Incroci per festività
DESCRIPTION:Si comunica che nelle seguenti giornate Cento Incroci resterà chiuso per festività: \n8 Dicembre  \n25 e 26  Dicembre  \n1 e 6 Gennaio. \n 
URL:https://centoincroci.regione.lazio.it/evento/chiusure-cento-incroci-per-festivita-5/
CATEGORIES:Incontri
END:VEVENT
BEGIN:VEVENT
DTSTART;TZID=Europe/Rome:20260105T163000
DTEND;TZID=Europe/Rome:20260105T180000
DTSTAMP:20260421T054513
CREATED:20251205T082325Z
LAST-MODIFIED:20251205T082326Z
UID:10002466-1767630600-1767636000@centoincroci.regione.lazio.it
SUMMARY:Corso di Découpage Natalizio
DESCRIPTION:Cento Incroci a partire dal 15 dicembre dalle 16:30 alle 18:00 ospita un corso di Découpage Natalizio. \nIl découpage è l’arte di decorare oggetti i più diversi tra loro\, con ritagli di carta o tovaglioli di carta\, con la finalità di dare all’oggetto una nuova immagine con effetti decorativi unici. Questa tecnica è applicabile a qualsiasi supporto dal vetro al coccio per arrivare alla plastica\, legno\, ceramica e oggetti di gesso. Anche oggetti come caffettiere\, piatti\, borse ecc. La prima fase sarà scegliere l’oggetto e la carta d’applicare\, si farà aderire con una colla specifica e dopo l’asciugatura si passerà alla rifinitura. Con il découpage si vive un’esperienza legata alla pazienza\, all’attenzione nei particolari\, alla condivisione\, in quanto saranno persone anche sconosciute tra di loro ma che alla fine si troveranno a vivere un’esperienza di creatività collettiva e coinvolgente in quattro appuntamenti nelle seguenti date:\nLunedì 15 dicembre\nLunedì 22 dicembre\nLunedì 29 dicembre 2025\nLunedì 5 Gennaio 2026 \nPer aderire al corso non ci sono limiti d’età e la partecipazione è gratuita fino ad esaurimento posti.\nPrenotazioni tramite telefono o whatsapp al numero 3665616955
URL:https://centoincroci.regione.lazio.it/evento/corso-di-decoupage-natalizio/2026-01-05/
CATEGORIES:I Laboratori
ATTACH;FMTTYPE=image/png:https://centoincroci.regione.lazio.it/app/uploads/2025/12/LocDecoupageNatalizio152229.12.2025e5.01.2026_02.png
END:VEVENT
BEGIN:VEVENT
DTSTART;TZID=Europe/Rome:20260105T090000
DTEND;TZID=Europe/Rome:20260105T180000
DTSTAMP:20260421T054513
CREATED:20250702T122145Z
LAST-MODIFIED:20250702T123345Z
UID:10001563-1767603600-1767636000@centoincroci.regione.lazio.it
SUMMARY:Spazio coworking - orari
DESCRIPTION:Disponibilità dello spazio coworking\, fruibile gratuitamente nei seguenti orari\nlunedì dalle 9 alle 18\ndal martedì al venerdì dalle 9 alle 20\n sabato e domenica dalle 10 alle 20 \nPer maggiori info 3665616955
URL:https://centoincroci.regione.lazio.it/evento/spazio-coworking-orari-2/2026-01-05/
CATEGORIES:Incontri
ATTACH;FMTTYPE=image/jpeg:https://centoincroci.regione.lazio.it/app/uploads/2024/04/339737201_1384829545390398_5164164649820751090_n.jpg
END:VEVENT
BEGIN:VEVENT
DTSTART;TZID=Europe/Rome:20260104T160000
DTEND;TZID=Europe/Rome:20260104T200000
DTSTAMP:20260421T054513
CREATED:20251210T132607Z
LAST-MODIFIED:20251210T132917Z
UID:10002467-1767542400-1767556800@centoincroci.regione.lazio.it
SUMMARY:Tombolata del riciclo e del riuso
DESCRIPTION:Domenica 4 gennaio dalle 16 alle 20 si terrà presso Cento Incroci una Tombolata del riciclo e del riuso\, pensata per coinvolgere famiglie e ragazzi con fragilità. Il tabellone non seguirà la tradizionale Smorfia napoletana\, ma proporrà frasi ispirate a temi ambientali. Non è previsto l’uso di denaro: ogni partecipante porterà un piccolo regalo indesiderato\, da incartare e mettere in palio\, così da favorire il riuso e l’effetto sorpresa al momento della vincita. \nL’iniziativa è realizzata da Retake Roma Centocelle \nInformazioni tramite telefono o whatsapp al numero 3665616955
URL:https://centoincroci.regione.lazio.it/evento/tombolata-del-riciclo-e-del-riuso/
CATEGORIES:Incontri
ATTACH;FMTTYPE=image/jpeg:https://centoincroci.regione.lazio.it/app/uploads/2025/12/Rosso-Illustrato-Gatto-Natale-Festa-Evento-Volantino-1.jpg
END:VEVENT
BEGIN:VEVENT
DTSTART;TZID=Europe/Rome:20260101T173000
DTEND;TZID=Europe/Rome:20260101T200000
DTSTAMP:20260421T054513
CREATED:20251205T081300Z
LAST-MODIFIED:20260130T125748Z
UID:10002471-1767288600-1767297600@centoincroci.regione.lazio.it
SUMMARY:Corso informatica base
DESCRIPTION:Ogni giovedì dalle ore 17.30 alle ore 20 Cento Incroci ospita un corso informatica base\, progettato per fornire fondamenta per utilizzare il pc\, apprendere a gestire file e cartelle\, posta elettronica e navigare in modo sicuro. \nOgni partecipante deve portare un blocco o un quaderno per prendere appunti e\, se possibile\, un PC portatile o un Tablet \nCorso gratuito\, previa prenotazione. \nPrenotazioni tramite telefono al numero 3665616955 \n 
URL:https://centoincroci.regione.lazio.it/evento/corso-informatica-base-3/2026-01-01/
CATEGORIES:I Laboratori
ATTACH;FMTTYPE=image/jpeg:https://centoincroci.regione.lazio.it/app/uploads/2025/12/Locandina-corso-informatica-e1769599043282.jpg
END:VEVENT
BEGIN:VEVENT
DTSTART;TZID=Europe/Rome:20251231T170000
DTEND;TZID=Europe/Rome:20251231T190000
DTSTAMP:20260421T054513
CREATED:20250908T082417Z
LAST-MODIFIED:20260121T123119Z
UID:10002108-1767200400-1767207600@centoincroci.regione.lazio.it
SUMMARY:Laboratorio di teatro per bambini 6/12 anni
DESCRIPTION:Ogni mercoledì dalle ore 17 alle ore 19 Cento Incroci ospita un laboratorio di teatro per bambini 6/12 anni\, uno spazio creativo e divertente dove i bambini potranno sviluppare abilità sociali\, emotive e comunicative. \nCorso gratuito\, previa prenotazione. \nPrenotazioni tramite telefono o whatsapp al numero 3665616955
URL:https://centoincroci.regione.lazio.it/evento/laboratorio-di-teatro-per-bambini-6-12-anni/2025-12-31/
CATEGORIES:I Laboratori
ATTACH;FMTTYPE=image/jpeg:https://centoincroci.regione.lazio.it/app/uploads/2025/01/laboratorio-teatrale.jpg
END:VEVENT
BEGIN:VEVENT
DTSTART;TZID=Europe/Rome:20251230T163000
DTEND;TZID=Europe/Rome:20251230T180000
DTSTAMP:20260421T054513
CREATED:20250908T081814Z
LAST-MODIFIED:20260109T082128Z
UID:10002049-1767112200-1767117600@centoincroci.regione.lazio.it
SUMMARY:Corso di inglese base per adulti
DESCRIPTION:Ogni martedì dalle ore 16.30 alle ore 18 Cento Incroci ospita un corso di inglese base per adulti. Attraverso lezioni pratiche e conversazioni reali\,aiuta ad aumentare la confidenza con la lingua inglese\nCorso gratuito\, previa prenotazione. \nPrenotazioni tramite telefono o whatsapp al numero 3665616955
URL:https://centoincroci.regione.lazio.it/evento/corso-di-inglese-base-per-adulti/2025-12-30/
CATEGORIES:I Laboratori
ATTACH;FMTTYPE=image/jpeg:https://centoincroci.regione.lazio.it/app/uploads/2025/09/disposizione-dei-libri-inglesi-vista-dall-alto-scaled-e1757319659105.jpg
END:VEVENT
BEGIN:VEVENT
DTSTART;TZID=Europe/Rome:20251230T090000
DTEND;TZID=Europe/Rome:20251230T100000
DTSTAMP:20260421T054513
CREATED:20250908T081227Z
LAST-MODIFIED:20260109T082004Z
UID:10002284-1767085200-1767088800@centoincroci.regione.lazio.it
SUMMARY:Sportello di ascolto psicologico
DESCRIPTION:Presso Cento Incroci è attivo uno Sportello di Ascolto psicologico gratuito. La psicologa offrirà ascolto\, supporto emotivo e strumenti per aiutare a gestire difficoltà e migliorare il benessere psicologico. \nAperto tutti i martedì\, dalle ore 9 alle ore 10.
URL:https://centoincroci.regione.lazio.it/evento/sportello-di-ascolto-psicologico-26/2025-12-30/
CATEGORIES:Incontri
ATTACH;FMTTYPE=image/jpeg:https://centoincroci.regione.lazio.it/app/uploads/2022/09/sportellopsicologico-foto.jpg
END:VEVENT
BEGIN:VEVENT
DTSTART;TZID=Europe/Rome:20251229T163000
DTEND;TZID=Europe/Rome:20251229T180000
DTSTAMP:20260421T054513
CREATED:20251205T082325Z
LAST-MODIFIED:20251205T082326Z
UID:10002465-1767025800-1767031200@centoincroci.regione.lazio.it
SUMMARY:Corso di Découpage Natalizio
DESCRIPTION:Cento Incroci a partire dal 15 dicembre dalle 16:30 alle 18:00 ospita un corso di Découpage Natalizio. \nIl découpage è l’arte di decorare oggetti i più diversi tra loro\, con ritagli di carta o tovaglioli di carta\, con la finalità di dare all’oggetto una nuova immagine con effetti decorativi unici. Questa tecnica è applicabile a qualsiasi supporto dal vetro al coccio per arrivare alla plastica\, legno\, ceramica e oggetti di gesso. Anche oggetti come caffettiere\, piatti\, borse ecc. La prima fase sarà scegliere l’oggetto e la carta d’applicare\, si farà aderire con una colla specifica e dopo l’asciugatura si passerà alla rifinitura. Con il découpage si vive un’esperienza legata alla pazienza\, all’attenzione nei particolari\, alla condivisione\, in quanto saranno persone anche sconosciute tra di loro ma che alla fine si troveranno a vivere un’esperienza di creatività collettiva e coinvolgente in quattro appuntamenti nelle seguenti date:\nLunedì 15 dicembre\nLunedì 22 dicembre\nLunedì 29 dicembre 2025\nLunedì 5 Gennaio 2026 \nPer aderire al corso non ci sono limiti d’età e la partecipazione è gratuita fino ad esaurimento posti.\nPrenotazioni tramite telefono o whatsapp al numero 3665616955
URL:https://centoincroci.regione.lazio.it/evento/corso-di-decoupage-natalizio/2025-12-29/
CATEGORIES:I Laboratori
ATTACH;FMTTYPE=image/png:https://centoincroci.regione.lazio.it/app/uploads/2025/12/LocDecoupageNatalizio152229.12.2025e5.01.2026_02.png
END:VEVENT
BEGIN:VEVENT
DTSTART;TZID=Europe/Rome:20251229T090000
DTEND;TZID=Europe/Rome:20251229T180000
DTSTAMP:20260421T054513
CREATED:20250702T122145Z
LAST-MODIFIED:20250702T123345Z
UID:10001562-1766998800-1767031200@centoincroci.regione.lazio.it
SUMMARY:Spazio coworking - orari
DESCRIPTION:Disponibilità dello spazio coworking\, fruibile gratuitamente nei seguenti orari\nlunedì dalle 9 alle 18\ndal martedì al venerdì dalle 9 alle 20\n sabato e domenica dalle 10 alle 20 \nPer maggiori info 3665616955
URL:https://centoincroci.regione.lazio.it/evento/spazio-coworking-orari-2/2025-12-29/
CATEGORIES:Incontri
ATTACH;FMTTYPE=image/jpeg:https://centoincroci.regione.lazio.it/app/uploads/2024/04/339737201_1384829545390398_5164164649820751090_n.jpg
END:VEVENT
BEGIN:VEVENT
DTSTART;TZID=Europe/Rome:20251226T080000
DTEND;TZID=Europe/Rome:20251226T170000
DTSTAMP:20260421T054513
CREATED:20251205T081300Z
LAST-MODIFIED:20260130T125748Z
UID:10003064-1766736000-1766768400@centoincroci.regione.lazio.it
SUMMARY:Corso informatica base
DESCRIPTION:Ogni giovedì dalle ore 17.30 alle ore 20 Cento Incroci ospita un corso informatica base\, progettato per fornire fondamenta per utilizzare il pc\, apprendere a gestire file e cartelle\, posta elettronica e navigare in modo sicuro. \nOgni partecipante deve portare un blocco o un quaderno per prendere appunti e\, se possibile\, un PC portatile o un Tablet \nCorso gratuito\, previa prenotazione. \nPrenotazioni tramite telefono al numero 3665616955 \n 
URL:https://centoincroci.regione.lazio.it/evento/corso-informatica-base-3/2025-12-26/
CATEGORIES:I Laboratori
ATTACH;FMTTYPE=image/jpeg:https://centoincroci.regione.lazio.it/app/uploads/2025/12/Locandina-corso-informatica-e1769599043282.jpg
END:VEVENT
BEGIN:VEVENT
DTSTART;VALUE=DATE:20251226
DTEND;VALUE=DATE:20251227
DTSTAMP:20260421T054513
CREATED:20251128T100600Z
LAST-MODIFIED:20251128T100600Z
UID:10002453-1766707200-1766793599@centoincroci.regione.lazio.it
SUMMARY:Chiusure Cento Incroci per festività
DESCRIPTION:Si comunica che nelle seguenti giornate Cento Incroci resterà chiuso per festività: \n8 Dicembre  \n25 e 26  Dicembre  \n1 e 6 Gennaio. \n 
URL:https://centoincroci.regione.lazio.it/evento/chiusure-cento-incroci-per-festivita-3/
CATEGORIES:Incontri
END:VEVENT
BEGIN:VEVENT
DTSTART;TZID=Europe/Rome:20251225T173000
DTEND;TZID=Europe/Rome:20251225T200000
DTSTAMP:20260421T054513
CREATED:20251205T081300Z
LAST-MODIFIED:20260130T125748Z
UID:10002470-1766683800-1766692800@centoincroci.regione.lazio.it
SUMMARY:Corso informatica base
DESCRIPTION:Ogni giovedì dalle ore 17.30 alle ore 20 Cento Incroci ospita un corso informatica base\, progettato per fornire fondamenta per utilizzare il pc\, apprendere a gestire file e cartelle\, posta elettronica e navigare in modo sicuro. \nOgni partecipante deve portare un blocco o un quaderno per prendere appunti e\, se possibile\, un PC portatile o un Tablet \nCorso gratuito\, previa prenotazione. \nPrenotazioni tramite telefono al numero 3665616955 \n 
URL:https://centoincroci.regione.lazio.it/evento/corso-informatica-base-3/2025-12-25/
CATEGORIES:I Laboratori
ATTACH;FMTTYPE=image/jpeg:https://centoincroci.regione.lazio.it/app/uploads/2025/12/Locandina-corso-informatica-e1769599043282.jpg
END:VEVENT
BEGIN:VEVENT
DTSTART;VALUE=DATE:20251225
DTEND;VALUE=DATE:20251226
DTSTAMP:20260421T054513
CREATED:20251128T100539Z
LAST-MODIFIED:20251128T100539Z
UID:10002452-1766620800-1766707199@centoincroci.regione.lazio.it
SUMMARY:Chiusure Cento Incroci per festività
DESCRIPTION:Si comunica che nelle seguenti giornate Cento Incroci resterà chiuso per festività: \n8 Dicembre  \n25 e 26  Dicembre  \n1 e 6 Gennaio. \n 
URL:https://centoincroci.regione.lazio.it/evento/chiusure-cento-incroci-per-festivita-2/
CATEGORIES:Incontri
END:VEVENT
BEGIN:VEVENT
DTSTART;TZID=Europe/Rome:20251224T170000
DTEND;TZID=Europe/Rome:20251224T190000
DTSTAMP:20260421T054513
CREATED:20250908T082417Z
LAST-MODIFIED:20260121T123119Z
UID:10002107-1766595600-1766602800@centoincroci.regione.lazio.it
SUMMARY:Laboratorio di teatro per bambini 6/12 anni
DESCRIPTION:Ogni mercoledì dalle ore 17 alle ore 19 Cento Incroci ospita un laboratorio di teatro per bambini 6/12 anni\, uno spazio creativo e divertente dove i bambini potranno sviluppare abilità sociali\, emotive e comunicative. \nCorso gratuito\, previa prenotazione. \nPrenotazioni tramite telefono o whatsapp al numero 3665616955
URL:https://centoincroci.regione.lazio.it/evento/laboratorio-di-teatro-per-bambini-6-12-anni/2025-12-24/
CATEGORIES:I Laboratori
ATTACH;FMTTYPE=image/jpeg:https://centoincroci.regione.lazio.it/app/uploads/2025/01/laboratorio-teatrale.jpg
END:VEVENT
BEGIN:VEVENT
DTSTART;TZID=Europe/Rome:20251223T163000
DTEND;TZID=Europe/Rome:20251223T180000
DTSTAMP:20260421T054513
CREATED:20250908T081814Z
LAST-MODIFIED:20260109T082128Z
UID:10002048-1766507400-1766512800@centoincroci.regione.lazio.it
SUMMARY:Corso di inglese base per adulti
DESCRIPTION:Ogni martedì dalle ore 16.30 alle ore 18 Cento Incroci ospita un corso di inglese base per adulti. Attraverso lezioni pratiche e conversazioni reali\,aiuta ad aumentare la confidenza con la lingua inglese\nCorso gratuito\, previa prenotazione. \nPrenotazioni tramite telefono o whatsapp al numero 3665616955
URL:https://centoincroci.regione.lazio.it/evento/corso-di-inglese-base-per-adulti/2025-12-23/
CATEGORIES:I Laboratori
ATTACH;FMTTYPE=image/jpeg:https://centoincroci.regione.lazio.it/app/uploads/2025/09/disposizione-dei-libri-inglesi-vista-dall-alto-scaled-e1757319659105.jpg
END:VEVENT
BEGIN:VEVENT
DTSTART;TZID=Europe/Rome:20251223T090000
DTEND;TZID=Europe/Rome:20251223T100000
DTSTAMP:20260421T054513
CREATED:20250908T081227Z
LAST-MODIFIED:20260109T082004Z
UID:10002283-1766480400-1766484000@centoincroci.regione.lazio.it
SUMMARY:Sportello di ascolto psicologico
DESCRIPTION:Presso Cento Incroci è attivo uno Sportello di Ascolto psicologico gratuito. La psicologa offrirà ascolto\, supporto emotivo e strumenti per aiutare a gestire difficoltà e migliorare il benessere psicologico. \nAperto tutti i martedì\, dalle ore 9 alle ore 10.
URL:https://centoincroci.regione.lazio.it/evento/sportello-di-ascolto-psicologico-26/2025-12-23/
CATEGORIES:Incontri
ATTACH;FMTTYPE=image/jpeg:https://centoincroci.regione.lazio.it/app/uploads/2022/09/sportellopsicologico-foto.jpg
END:VEVENT
BEGIN:VEVENT
DTSTART;TZID=Europe/Rome:20251222T163000
DTEND;TZID=Europe/Rome:20251222T180000
DTSTAMP:20260421T054513
CREATED:20251205T082325Z
LAST-MODIFIED:20251205T082326Z
UID:10002464-1766421000-1766426400@centoincroci.regione.lazio.it
SUMMARY:Corso di Découpage Natalizio
DESCRIPTION:Cento Incroci a partire dal 15 dicembre dalle 16:30 alle 18:00 ospita un corso di Découpage Natalizio. \nIl découpage è l’arte di decorare oggetti i più diversi tra loro\, con ritagli di carta o tovaglioli di carta\, con la finalità di dare all’oggetto una nuova immagine con effetti decorativi unici. Questa tecnica è applicabile a qualsiasi supporto dal vetro al coccio per arrivare alla plastica\, legno\, ceramica e oggetti di gesso. Anche oggetti come caffettiere\, piatti\, borse ecc. La prima fase sarà scegliere l’oggetto e la carta d’applicare\, si farà aderire con una colla specifica e dopo l’asciugatura si passerà alla rifinitura. Con il découpage si vive un’esperienza legata alla pazienza\, all’attenzione nei particolari\, alla condivisione\, in quanto saranno persone anche sconosciute tra di loro ma che alla fine si troveranno a vivere un’esperienza di creatività collettiva e coinvolgente in quattro appuntamenti nelle seguenti date:\nLunedì 15 dicembre\nLunedì 22 dicembre\nLunedì 29 dicembre 2025\nLunedì 5 Gennaio 2026 \nPer aderire al corso non ci sono limiti d’età e la partecipazione è gratuita fino ad esaurimento posti.\nPrenotazioni tramite telefono o whatsapp al numero 3665616955
URL:https://centoincroci.regione.lazio.it/evento/corso-di-decoupage-natalizio/2025-12-22/
CATEGORIES:I Laboratori
ATTACH;FMTTYPE=image/png:https://centoincroci.regione.lazio.it/app/uploads/2025/12/LocDecoupageNatalizio152229.12.2025e5.01.2026_02.png
END:VEVENT
BEGIN:VEVENT
DTSTART;TZID=Europe/Rome:20251222T090000
DTEND;TZID=Europe/Rome:20251222T180000
DTSTAMP:20260421T054513
CREATED:20250702T122145Z
LAST-MODIFIED:20250702T123345Z
UID:10001561-1766394000-1766426400@centoincroci.regione.lazio.it
SUMMARY:Spazio coworking - orari
DESCRIPTION:Disponibilità dello spazio coworking\, fruibile gratuitamente nei seguenti orari\nlunedì dalle 9 alle 18\ndal martedì al venerdì dalle 9 alle 20\n sabato e domenica dalle 10 alle 20 \nPer maggiori info 3665616955
URL:https://centoincroci.regione.lazio.it/evento/spazio-coworking-orari-2/2025-12-22/
CATEGORIES:Incontri
ATTACH;FMTTYPE=image/jpeg:https://centoincroci.regione.lazio.it/app/uploads/2024/04/339737201_1384829545390398_5164164649820751090_n.jpg
END:VEVENT
BEGIN:VEVENT
DTSTART;TZID=Europe/Rome:20251218T173000
DTEND;TZID=Europe/Rome:20251218T200000
DTSTAMP:20260421T054513
CREATED:20251205T081300Z
LAST-MODIFIED:20260130T125748Z
UID:10002469-1766079000-1766088000@centoincroci.regione.lazio.it
SUMMARY:Corso informatica base
DESCRIPTION:Ogni giovedì dalle ore 17.30 alle ore 20 Cento Incroci ospita un corso informatica base\, progettato per fornire fondamenta per utilizzare il pc\, apprendere a gestire file e cartelle\, posta elettronica e navigare in modo sicuro. \nOgni partecipante deve portare un blocco o un quaderno per prendere appunti e\, se possibile\, un PC portatile o un Tablet \nCorso gratuito\, previa prenotazione. \nPrenotazioni tramite telefono al numero 3665616955 \n 
URL:https://centoincroci.regione.lazio.it/evento/corso-informatica-base-3/2025-12-18/
CATEGORIES:I Laboratori
ATTACH;FMTTYPE=image/jpeg:https://centoincroci.regione.lazio.it/app/uploads/2025/12/Locandina-corso-informatica-e1769599043282.jpg
END:VEVENT
BEGIN:VEVENT
DTSTART;TZID=Europe/Rome:20251217T170000
DTEND;TZID=Europe/Rome:20251217T190000
DTSTAMP:20260421T054513
CREATED:20250908T082417Z
LAST-MODIFIED:20260121T123119Z
UID:10002106-1765990800-1765998000@centoincroci.regione.lazio.it
SUMMARY:Laboratorio di teatro per bambini 6/12 anni
DESCRIPTION:Ogni mercoledì dalle ore 17 alle ore 19 Cento Incroci ospita un laboratorio di teatro per bambini 6/12 anni\, uno spazio creativo e divertente dove i bambini potranno sviluppare abilità sociali\, emotive e comunicative. \nCorso gratuito\, previa prenotazione. \nPrenotazioni tramite telefono o whatsapp al numero 3665616955
URL:https://centoincroci.regione.lazio.it/evento/laboratorio-di-teatro-per-bambini-6-12-anni/2025-12-17/
CATEGORIES:I Laboratori
ATTACH;FMTTYPE=image/jpeg:https://centoincroci.regione.lazio.it/app/uploads/2025/01/laboratorio-teatrale.jpg
END:VEVENT
BEGIN:VEVENT
DTSTART;TZID=Europe/Rome:20251216T163000
DTEND;TZID=Europe/Rome:20251216T180000
DTSTAMP:20260421T054513
CREATED:20250908T081814Z
LAST-MODIFIED:20260109T082128Z
UID:10002047-1765902600-1765908000@centoincroci.regione.lazio.it
SUMMARY:Corso di inglese base per adulti
DESCRIPTION:Ogni martedì dalle ore 16.30 alle ore 18 Cento Incroci ospita un corso di inglese base per adulti. Attraverso lezioni pratiche e conversazioni reali\,aiuta ad aumentare la confidenza con la lingua inglese\nCorso gratuito\, previa prenotazione. \nPrenotazioni tramite telefono o whatsapp al numero 3665616955
URL:https://centoincroci.regione.lazio.it/evento/corso-di-inglese-base-per-adulti/2025-12-16/
CATEGORIES:I Laboratori
ATTACH;FMTTYPE=image/jpeg:https://centoincroci.regione.lazio.it/app/uploads/2025/09/disposizione-dei-libri-inglesi-vista-dall-alto-scaled-e1757319659105.jpg
END:VEVENT
BEGIN:VEVENT
DTSTART;TZID=Europe/Rome:20251216T090000
DTEND;TZID=Europe/Rome:20251216T100000
DTSTAMP:20260421T054513
CREATED:20250908T081227Z
LAST-MODIFIED:20260109T082004Z
UID:10002282-1765875600-1765879200@centoincroci.regione.lazio.it
SUMMARY:Sportello di ascolto psicologico
DESCRIPTION:Presso Cento Incroci è attivo uno Sportello di Ascolto psicologico gratuito. La psicologa offrirà ascolto\, supporto emotivo e strumenti per aiutare a gestire difficoltà e migliorare il benessere psicologico. \nAperto tutti i martedì\, dalle ore 9 alle ore 10.
URL:https://centoincroci.regione.lazio.it/evento/sportello-di-ascolto-psicologico-26/2025-12-16/
CATEGORIES:Incontri
ATTACH;FMTTYPE=image/jpeg:https://centoincroci.regione.lazio.it/app/uploads/2022/09/sportellopsicologico-foto.jpg
END:VEVENT
BEGIN:VEVENT
DTSTART;TZID=Europe/Rome:20251215T163000
DTEND;TZID=Europe/Rome:20251215T180000
DTSTAMP:20260421T054513
CREATED:20251205T082325Z
LAST-MODIFIED:20251205T082326Z
UID:10002463-1765816200-1765821600@centoincroci.regione.lazio.it
SUMMARY:Corso di Découpage Natalizio
DESCRIPTION:Cento Incroci a partire dal 15 dicembre dalle 16:30 alle 18:00 ospita un corso di Découpage Natalizio. \nIl découpage è l’arte di decorare oggetti i più diversi tra loro\, con ritagli di carta o tovaglioli di carta\, con la finalità di dare all’oggetto una nuova immagine con effetti decorativi unici. Questa tecnica è applicabile a qualsiasi supporto dal vetro al coccio per arrivare alla plastica\, legno\, ceramica e oggetti di gesso. Anche oggetti come caffettiere\, piatti\, borse ecc. La prima fase sarà scegliere l’oggetto e la carta d’applicare\, si farà aderire con una colla specifica e dopo l’asciugatura si passerà alla rifinitura. Con il découpage si vive un’esperienza legata alla pazienza\, all’attenzione nei particolari\, alla condivisione\, in quanto saranno persone anche sconosciute tra di loro ma che alla fine si troveranno a vivere un’esperienza di creatività collettiva e coinvolgente in quattro appuntamenti nelle seguenti date:\nLunedì 15 dicembre\nLunedì 22 dicembre\nLunedì 29 dicembre 2025\nLunedì 5 Gennaio 2026 \nPer aderire al corso non ci sono limiti d’età e la partecipazione è gratuita fino ad esaurimento posti.\nPrenotazioni tramite telefono o whatsapp al numero 3665616955
URL:https://centoincroci.regione.lazio.it/evento/corso-di-decoupage-natalizio/2025-12-15/
CATEGORIES:I Laboratori
ATTACH;FMTTYPE=image/png:https://centoincroci.regione.lazio.it/app/uploads/2025/12/LocDecoupageNatalizio152229.12.2025e5.01.2026_02.png
END:VEVENT
BEGIN:VEVENT
DTSTART;TZID=Europe/Rome:20251215T090000
DTEND;TZID=Europe/Rome:20251215T180000
DTSTAMP:20260421T054513
CREATED:20250702T122145Z
LAST-MODIFIED:20250702T123345Z
UID:10001560-1765789200-1765821600@centoincroci.regione.lazio.it
SUMMARY:Spazio coworking - orari
DESCRIPTION:Disponibilità dello spazio coworking\, fruibile gratuitamente nei seguenti orari\nlunedì dalle 9 alle 18\ndal martedì al venerdì dalle 9 alle 20\n sabato e domenica dalle 10 alle 20 \nPer maggiori info 3665616955
URL:https://centoincroci.regione.lazio.it/evento/spazio-coworking-orari-2/2025-12-15/
CATEGORIES:Incontri
ATTACH;FMTTYPE=image/jpeg:https://centoincroci.regione.lazio.it/app/uploads/2024/04/339737201_1384829545390398_5164164649820751090_n.jpg
END:VEVENT
END:VCALENDAR