BEGIN:VCALENDAR
VERSION:2.0
PRODID:-//Cento incroci - ECPv6.8.3//NONSGML v1.0//EN
CALSCALE:GREGORIAN
METHOD:PUBLISH
X-WR-CALNAME:Cento incroci
X-ORIGINAL-URL:https://centoincroci.regione.lazio.it
X-WR-CALDESC:Eventi per Cento incroci
REFRESH-INTERVAL;VALUE=DURATION:PT1H
X-Robots-Tag:noindex
X-PUBLISHED-TTL:PT1H
BEGIN:VTIMEZONE
TZID:Europe/Rome
BEGIN:DAYLIGHT
TZOFFSETFROM:+0100
TZOFFSETTO:+0200
TZNAME:CEST
DTSTART:20250330T010000
END:DAYLIGHT
BEGIN:STANDARD
TZOFFSETFROM:+0200
TZOFFSETTO:+0100
TZNAME:CET
DTSTART:20251026T010000
END:STANDARD
END:VTIMEZONE
BEGIN:VEVENT
DTSTART;TZID=Europe/Rome:20250507T170000
DTEND;TZID=Europe/Rome:20250507T190000
DTSTAMP:20260421T073139
CREATED:20250507T071634Z
LAST-MODIFIED:20250507T071634Z
UID:10001134-1746637200-1746644400@centoincroci.regione.lazio.it
SUMMARY:Laboratorio di teatro
DESCRIPTION:Ogni mercoledì dalle ore 17 alle ore 19 Cento Incroci ospita un Laboratorio di teatro rivolto a giovani e adulti.\nLaboratorio gratuito\, previa prenotazione. \nPrenotazioni tramite telefono o whatsapp al numero 3665616955
URL:https://centoincroci.regione.lazio.it/evento/laboratorio-di-teatro-11/
CATEGORIES:Leggiamo insieme
ATTACH;FMTTYPE=image/jpeg:https://centoincroci.regione.lazio.it/app/uploads/2025/01/laboratorio-teatrale.jpg
END:VEVENT
BEGIN:VEVENT
DTSTART;TZID=Europe/Rome:20250228T170000
DTEND;TZID=Europe/Rome:20250228T200000
DTSTAMP:20260421T073139
CREATED:20250123T150106Z
LAST-MODIFIED:20250123T150107Z
UID:10001125-1740762000-1740772800@centoincroci.regione.lazio.it
SUMMARY:Corso di italiano per stranieri
DESCRIPTION:Ogni venerdì dalle ore 17 alle ore 20 Cento Incroci ospita un corso di Italiano per stranieri livello base e intermedio svolto da Pina Frattale ente ANPI.\nCorso gratuito\, previa prenotazione. \nPrenotazioni tramite telefono o whatsapp al numero 3665616955
URL:https://centoincroci.regione.lazio.it/evento/corso-di-italiano-per-stranieri-32/
CATEGORIES:I Laboratori
ATTACH;FMTTYPE=image/jpeg:https://centoincroci.regione.lazio.it/app/uploads/2024/06/Corso-italiano-per-stranieri.jpg
END:VEVENT
BEGIN:VEVENT
DTSTART;TZID=Europe/Rome:20250227T170000
DTEND;TZID=Europe/Rome:20250227T190000
DTSTAMP:20260421T073139
CREATED:20250123T145441Z
LAST-MODIFIED:20250123T145442Z
UID:10001119-1740675600-1740682800@centoincroci.regione.lazio.it
SUMMARY:Laboratorio di uncinetto
DESCRIPTION:Ogni giovedì dalle ore 17 alle ore 19 Cento Incroci ospita un Laboratorio creativo per tramandare l’arte dell’uncinetto alle nuove generazioni.\nLaboratorio gratuito\, previa prenotazione. \nPrenotazioni tramite telefono o whatsapp al numero 3665616955
URL:https://centoincroci.regione.lazio.it/evento/laboratorio-di-uncinetto-5/
CATEGORIES:I Laboratori
ATTACH;FMTTYPE=image/jpeg:https://centoincroci.regione.lazio.it/app/uploads/2025/01/uncinetto.jpg
END:VEVENT
BEGIN:VEVENT
DTSTART;TZID=Europe/Rome:20250226T170000
DTEND;TZID=Europe/Rome:20250226T190000
DTSTAMP:20260421T073139
CREATED:20250123T144910Z
LAST-MODIFIED:20250123T144910Z
UID:10001115-1740589200-1740596400@centoincroci.regione.lazio.it
SUMMARY:Laboratorio di teatro
DESCRIPTION:Ogni mercoledì dalle ore 17 alle ore 19 Cento Incroci ospita un Laboratorio di teatro rivolto a giovani e adulti.\nLaboratorio gratuito\, previa prenotazione. \nPrenotazioni tramite telefono o whatsapp al numero 3665616955
URL:https://centoincroci.regione.lazio.it/evento/laboratorio-di-teatro-10/
CATEGORIES:I Laboratori
ATTACH;FMTTYPE=image/jpeg:https://centoincroci.regione.lazio.it/app/uploads/2025/01/laboratorio-teatrale.jpg
END:VEVENT
BEGIN:VEVENT
DTSTART;TZID=Europe/Rome:20250225T170000
DTEND;TZID=Europe/Rome:20250225T183000
DTSTAMP:20260421T073139
CREATED:20250124T103316Z
LAST-MODIFIED:20250124T103317Z
UID:10001130-1740502800-1740508200@centoincroci.regione.lazio.it
SUMMARY:Laboratorio creativo bambini 5/10 anni
DESCRIPTION:Martedì 25 febbraio dalle ore 17 alle ore 18.30 Cento Incroci ospita un laboratorio creativo per bambini dai 5 ai 10 anni. \nVi aspettiamo per colorare insieme. Laboratorio gratuito\, previa prenotazione. \nPrenotazioni tramite telefono o whatsapp al numero 3665616955
URL:https://centoincroci.regione.lazio.it/evento/laboratorio-creativo-bambini-5-10-anni/
CATEGORIES:I Laboratori
ATTACH;FMTTYPE=image/jpeg:https://centoincroci.regione.lazio.it/app/uploads/2025/01/ragazzo-e-ragazza-che-dipingono-insieme-da-vicino_23-2149027482.jpg
END:VEVENT
BEGIN:VEVENT
DTSTART;TZID=Europe/Rome:20250224T180000
DTEND;TZID=Europe/Rome:20250224T200000
DTSTAMP:20260421T073139
CREATED:20250123T144111Z
LAST-MODIFIED:20250123T144112Z
UID:10001110-1740420000-1740427200@centoincroci.regione.lazio.it
SUMMARY:Laboratorio di lettura\, ascolto e scrittura poetica
DESCRIPTION:Ogni lunedì dalle ore 18 alle ore 20 Cento Incroci ospita un Laboratorio di lettura poetica.\nLaboratorio gratuito\, previa prenotazione. \nPrenotazioni tramite telefono o whatsapp al numero 3665616955
URL:https://centoincroci.regione.lazio.it/evento/laboratorio-di-lettura-ascolto-e-scrittura-poetica-5/
CATEGORIES:Leggiamo insieme
ATTACH;FMTTYPE=image/jpeg:https://centoincroci.regione.lazio.it/app/uploads/2024/07/5ba7b5ed7357e236133832524f8fc5.jpg
END:VEVENT
BEGIN:VEVENT
DTSTART;TZID=Europe/Rome:20250224T170000
DTEND;TZID=Europe/Rome:20250224T180000
DTSTAMP:20260421T073139
CREATED:20250124T102227Z
LAST-MODIFIED:20250124T102227Z
UID:10001128-1740416400-1740420000@centoincroci.regione.lazio.it
SUMMARY:Spazio mamme
DESCRIPTION:Lunedì 24 febbraio dalle ore 17 alle ore 1 a Cento Incroci ospitiamo “Spazio Mamme”\, un momento per mamme e i loro bambini con letture e canzoncine.\nLaboratorio gratuito\, previa prenotazione. \nPrenotazioni tramite telefono o whatsapp al numero 3665616955
URL:https://centoincroci.regione.lazio.it/evento/spazio-mamme/
CATEGORIES:Leggiamo insieme
ATTACH;FMTTYPE=image/jpeg:https://centoincroci.regione.lazio.it/app/uploads/2025/01/natura-morta-di-peluche-al-gancio_23-2151091202.jpg
END:VEVENT
BEGIN:VEVENT
DTSTART;TZID=Europe/Rome:20250222T170000
DTEND;TZID=Europe/Rome:20250222T190000
DTSTAMP:20260421T073139
CREATED:20250124T101713Z
LAST-MODIFIED:20250124T101714Z
UID:10001129-1740243600-1740250800@centoincroci.regione.lazio.it
SUMMARY:Fare Fiosìn
DESCRIPTION:Sabato 8 febbraio e 22 febbraio dalle ore 17 alle ore 19 a Cento Incroci ospitiamo “Fare Filosìn”\, arte pratica con composizioni per scoprirsi creativi\nLaboratorio gratuito\, previa prenotazione. \nPrenotazioni tramite telefono o whatsapp al numero 3665616955
URL:https://centoincroci.regione.lazio.it/evento/fare-fiosin/
CATEGORIES:I Laboratori
ATTACH;FMTTYPE=image/jpeg:https://centoincroci.regione.lazio.it/app/uploads/2025/01/cerveau-creatif-1024x777-2.jpg
END:VEVENT
BEGIN:VEVENT
DTSTART;TZID=Europe/Rome:20250221T170000
DTEND;TZID=Europe/Rome:20250221T200000
DTSTAMP:20260421T073139
CREATED:20250123T145956Z
LAST-MODIFIED:20250123T145956Z
UID:10001124-1740157200-1740168000@centoincroci.regione.lazio.it
SUMMARY:Corso di italiano per stranieri
DESCRIPTION:Ogni venerdì dalle ore 17 alle ore 20 Cento Incroci ospita un corso di Italiano per stranieri livello base e intermedio svolto da Pina Frattale ente ANPI.\nCorso gratuito\, previa prenotazione. \nPrenotazioni tramite telefono o whatsapp al numero 3665616955
URL:https://centoincroci.regione.lazio.it/evento/corso-di-italiano-per-stranieri-31/
CATEGORIES:I Laboratori
ATTACH;FMTTYPE=image/jpeg:https://centoincroci.regione.lazio.it/app/uploads/2024/06/Corso-italiano-per-stranieri.jpg
END:VEVENT
BEGIN:VEVENT
DTSTART;TZID=Europe/Rome:20250220T170000
DTEND;TZID=Europe/Rome:20250220T190000
DTSTAMP:20260421T073139
CREATED:20250123T145413Z
LAST-MODIFIED:20250123T145413Z
UID:10001120-1740070800-1740078000@centoincroci.regione.lazio.it
SUMMARY:Laboratorio di uncinetto
DESCRIPTION:Ogni giovedì dalle ore 17 alle ore 19 Cento Incroci ospita un Laboratorio creativo per tramandare l’arte dell’uncinetto alle nuove generazioni.\nLaboratorio gratuito\, previa prenotazione. \nPrenotazioni tramite telefono o whatsapp al numero 3665616955
URL:https://centoincroci.regione.lazio.it/evento/laboratorio-di-uncinetto-4/
CATEGORIES:I Laboratori
ATTACH;FMTTYPE=image/jpeg:https://centoincroci.regione.lazio.it/app/uploads/2025/01/uncinetto.jpg
END:VEVENT
BEGIN:VEVENT
DTSTART;TZID=Europe/Rome:20250219T170000
DTEND;TZID=Europe/Rome:20250219T190000
DTSTAMP:20260421T073139
CREATED:20250123T144832Z
LAST-MODIFIED:20250123T144833Z
UID:10001114-1739984400-1739991600@centoincroci.regione.lazio.it
SUMMARY:Laboratorio di teatro
DESCRIPTION:Ogni mercoledì dalle ore 17 alle ore 19 Cento Incroci ospita un Laboratorio di teatro rivolto a giovani e adulti.\nLaboratorio gratuito\, previa prenotazione. \nPrenotazioni tramite telefono o whatsapp al numero 3665616955
URL:https://centoincroci.regione.lazio.it/evento/laboratorio-di-teatro-9/
CATEGORIES:I Laboratori
ATTACH;FMTTYPE=image/jpeg:https://centoincroci.regione.lazio.it/app/uploads/2025/01/laboratorio-teatrale.jpg
END:VEVENT
BEGIN:VEVENT
DTSTART;TZID=Europe/Rome:20250217T180000
DTEND;TZID=Europe/Rome:20250217T200000
DTSTAMP:20260421T073139
CREATED:20250123T143952Z
LAST-MODIFIED:20250123T143953Z
UID:10001109-1739815200-1739822400@centoincroci.regione.lazio.it
SUMMARY:Laboratorio di lettura\, ascolto e scrittura poetica
DESCRIPTION:Ogni lunedì dalle ore 18 alle ore 20 Cento Incroci ospita un Laboratorio di lettura poetica.\nLaboratorio gratuito\, previa prenotazione. \nPrenotazioni tramite telefono o whatsapp al numero 3665616955
URL:https://centoincroci.regione.lazio.it/evento/laboratorio-di-lettura-ascolto-e-scrittura-poetica-4/
CATEGORIES:Leggiamo insieme
ATTACH;FMTTYPE=image/jpeg:https://centoincroci.regione.lazio.it/app/uploads/2024/07/5ba7b5ed7357e236133832524f8fc5.jpg
END:VEVENT
BEGIN:VEVENT
DTSTART;TZID=Europe/Rome:20250214T170000
DTEND;TZID=Europe/Rome:20250214T200000
DTSTAMP:20260421T073139
CREATED:20250123T145851Z
LAST-MODIFIED:20250123T145852Z
UID:10001123-1739552400-1739563200@centoincroci.regione.lazio.it
SUMMARY:Corso di italiano per stranieri
DESCRIPTION:Ogni venerdì dalle ore 17 alle ore 20 Cento Incroci ospita un corso di Italiano per stranieri livello base e intermedio svolto da Pina Frattale ente ANPI.\nCorso gratuito\, previa prenotazione. \nPrenotazioni tramite telefono o whatsapp al numero 3665616955
URL:https://centoincroci.regione.lazio.it/evento/corso-di-italiano-per-stranieri-30/
CATEGORIES:I Laboratori
ATTACH;FMTTYPE=image/jpeg:https://centoincroci.regione.lazio.it/app/uploads/2024/06/Corso-italiano-per-stranieri.jpg
END:VEVENT
BEGIN:VEVENT
DTSTART;TZID=Europe/Rome:20250213T170000
DTEND;TZID=Europe/Rome:20250213T190000
DTSTAMP:20260421T073139
CREATED:20250123T145339Z
LAST-MODIFIED:20250123T145340Z
UID:10001118-1739466000-1739473200@centoincroci.regione.lazio.it
SUMMARY:Laboratorio di uncinetto
DESCRIPTION:Ogni giovedì dalle ore 17 alle ore 19 Cento Incroci ospita un Laboratorio creativo per tramandare l’arte dell’uncinetto alle nuove generazioni.\nLaboratorio gratuito\, previa prenotazione. \nPrenotazioni tramite telefono o whatsapp al numero 3665616955
URL:https://centoincroci.regione.lazio.it/evento/laboratorio-di-uncinetto-3/
CATEGORIES:I Laboratori
ATTACH;FMTTYPE=image/jpeg:https://centoincroci.regione.lazio.it/app/uploads/2025/01/uncinetto.jpg
END:VEVENT
BEGIN:VEVENT
DTSTART;TZID=Europe/Rome:20250212T170000
DTEND;TZID=Europe/Rome:20250212T190000
DTSTAMP:20260421T073139
CREATED:20250123T144742Z
LAST-MODIFIED:20250123T144743Z
UID:10001113-1739379600-1739386800@centoincroci.regione.lazio.it
SUMMARY:Laboratorio di teatro
DESCRIPTION:Ogni mercoledì dalle ore 17 alle ore 19 Cento Incroci ospita un Laboratorio di teatro rivolto a giovani e adulti.\nLaboratorio gratuito\, previa prenotazione. \nPrenotazioni tramite telefono o whatsapp al numero 3665616955
URL:https://centoincroci.regione.lazio.it/evento/laboratorio-di-teatro-8/
CATEGORIES:I Laboratori
ATTACH;FMTTYPE=image/jpeg:https://centoincroci.regione.lazio.it/app/uploads/2025/01/laboratorio-teatrale.jpg
END:VEVENT
BEGIN:VEVENT
DTSTART;TZID=Europe/Rome:20250210T180000
DTEND;TZID=Europe/Rome:20250210T200000
DTSTAMP:20260421T073139
CREATED:20250123T143918Z
LAST-MODIFIED:20250123T143918Z
UID:10001108-1739210400-1739217600@centoincroci.regione.lazio.it
SUMMARY:Laboratorio di lettura\, ascolto e scrittura poetica
DESCRIPTION:Ogni lunedì dalle ore 18 alle ore 20 Cento Incroci ospita un Laboratorio di lettura poetica.\nLaboratorio gratuito\, previa prenotazione. \nPrenotazioni tramite telefono o whatsapp al numero 3665616955
URL:https://centoincroci.regione.lazio.it/evento/laboratorio-di-lettura-ascolto-e-scrittura-poetica-3/
CATEGORIES:Leggiamo insieme
ATTACH;FMTTYPE=image/jpeg:https://centoincroci.regione.lazio.it/app/uploads/2024/07/5ba7b5ed7357e236133832524f8fc5.jpg
END:VEVENT
BEGIN:VEVENT
DTSTART;TZID=Europe/Rome:20250208T170000
DTEND;TZID=Europe/Rome:20250208T190000
DTSTAMP:20260421T073139
CREATED:20250124T101637Z
LAST-MODIFIED:20250124T101638Z
UID:10001127-1739034000-1739041200@centoincroci.regione.lazio.it
SUMMARY:Fare Filosìn
DESCRIPTION:Sabato 8 febbraio e 22 febbraio dalle ore 17 alle ore 19 a Cento Incroci ospitiamo “Fare Filosìn”\, arte pratica con composizioni per scoprirsi creativi\nLaboratorio gratuito\, previa prenotazione. \nPrenotazioni tramite telefono o whatsapp al numero 3665616955
URL:https://centoincroci.regione.lazio.it/evento/fare-filosin/
CATEGORIES:I Laboratori
ATTACH;FMTTYPE=image/jpeg:https://centoincroci.regione.lazio.it/app/uploads/2025/01/cerveau-creatif-1024x777-2.jpg
END:VEVENT
BEGIN:VEVENT
DTSTART;TZID=Europe/Rome:20250207T170000
DTEND;TZID=Europe/Rome:20250207T200000
DTSTAMP:20260421T073140
CREATED:20250123T145759Z
LAST-MODIFIED:20250123T145800Z
UID:10001122-1738947600-1738958400@centoincroci.regione.lazio.it
SUMMARY:Corso di italiano per stranieri
DESCRIPTION:Ogni venerdì dalle ore 17 alle ore 20 Cento Incroci ospita un corso di Italiano per stranieri livello base e intermedio svolto da Pina Frattale ente ANPI.\nCorso gratuito\, previa prenotazione. \nPrenotazioni tramite telefono o whatsapp al numero 3665616955
URL:https://centoincroci.regione.lazio.it/evento/corso-di-italiano-per-stranieri-29/
CATEGORIES:I Laboratori
ATTACH;FMTTYPE=image/jpeg:https://centoincroci.regione.lazio.it/app/uploads/2024/06/Corso-italiano-per-stranieri.jpg
END:VEVENT
BEGIN:VEVENT
DTSTART;TZID=Europe/Rome:20250206T170000
DTEND;TZID=Europe/Rome:20250206T190000
DTSTAMP:20260421T073140
CREATED:20250123T145251Z
LAST-MODIFIED:20250123T145252Z
UID:10001117-1738861200-1738868400@centoincroci.regione.lazio.it
SUMMARY:Laboratorio di uncinetto
DESCRIPTION:Ogni giovedì dalle ore 17 alle ore 19 Cento Incroci ospita un Laboratorio creativo per tramandare l’arte dell’uncinetto alle nuove generazioni.\nLaboratorio gratuito\, previa prenotazione. \nPrenotazioni tramite telefono o whatsapp al numero 3665616955
URL:https://centoincroci.regione.lazio.it/evento/laboratorio-di-uncinetto-2/
CATEGORIES:I Laboratori
ATTACH;FMTTYPE=image/jpeg:https://centoincroci.regione.lazio.it/app/uploads/2025/01/uncinetto.jpg
END:VEVENT
BEGIN:VEVENT
DTSTART;TZID=Europe/Rome:20250205T170000
DTEND;TZID=Europe/Rome:20250205T200000
DTSTAMP:20260421T073140
CREATED:20250123T144707Z
LAST-MODIFIED:20250123T144708Z
UID:10001112-1738774800-1738785600@centoincroci.regione.lazio.it
SUMMARY:Laboratorio di teatro
DESCRIPTION:Ogni mercoledì dalle ore 17 alle ore 19 Cento Incroci ospita un Laboratorio di teatro rivolto a giovani e adulti.\nLaboratorio gratuito\, previa prenotazione. \nPrenotazioni tramite telefono o whatsapp al numero 3665616955
URL:https://centoincroci.regione.lazio.it/evento/laboratorio-di-teatro-7/
CATEGORIES:I Laboratori
ATTACH;FMTTYPE=image/jpeg:https://centoincroci.regione.lazio.it/app/uploads/2025/01/laboratorio-teatrale.jpg
END:VEVENT
BEGIN:VEVENT
DTSTART;TZID=Europe/Rome:20250203T180000
DTEND;TZID=Europe/Rome:20250203T200000
DTSTAMP:20260421T073140
CREATED:20250123T143837Z
LAST-MODIFIED:20250123T143838Z
UID:10001107-1738605600-1738612800@centoincroci.regione.lazio.it
SUMMARY:Laboratorio di lettura\, ascolto e scrittura poetica
DESCRIPTION:Ogni lunedì dalle ore 18 alle ore 20 Cento Incroci ospita un Laboratorio di lettura poetica.\nLaboratorio gratuito\, previa prenotazione. \nPrenotazioni tramite telefono o whatsapp al numero 3665616955
URL:https://centoincroci.regione.lazio.it/evento/laboratorio-di-lettura-ascolto-e-scrittura-poetica-2/
CATEGORIES:Leggiamo insieme
ATTACH;FMTTYPE=image/jpeg:https://centoincroci.regione.lazio.it/app/uploads/2024/07/5ba7b5ed7357e236133832524f8fc5.jpg
END:VEVENT
BEGIN:VEVENT
DTSTART;TZID=Europe/Rome:20250131T170000
DTEND;TZID=Europe/Rome:20250131T200000
DTSTAMP:20260421T073140
CREATED:20250123T145704Z
LAST-MODIFIED:20250123T145705Z
UID:10001121-1738342800-1738353600@centoincroci.regione.lazio.it
SUMMARY:Corso di italiano per stranieri
DESCRIPTION:Ogni venerdì dalle ore 17 alle ore 20 Cento Incroci ospita un corso di Italiano per stranieri livello base e intermedio svolto da Pina Frattale ente ANPI.\nLaboratorio gratuito\, previa prenotazione. \nPrenotazioni tramite telefono o whatsapp al numero 3665616955
URL:https://centoincroci.regione.lazio.it/evento/corso-di-italiano-per-stranieri-28/
CATEGORIES:I Laboratori
ATTACH;FMTTYPE=image/jpeg:https://centoincroci.regione.lazio.it/app/uploads/2024/06/Corso-italiano-per-stranieri.jpg
END:VEVENT
BEGIN:VEVENT
DTSTART;TZID=Europe/Rome:20250130T170000
DTEND;TZID=Europe/Rome:20250130T190000
DTSTAMP:20260421T073140
CREATED:20250123T145219Z
LAST-MODIFIED:20250123T145220Z
UID:10001116-1738256400-1738263600@centoincroci.regione.lazio.it
SUMMARY:Laboratorio di uncinetto
DESCRIPTION:Ogni giovedì dalle ore 17 alle ore 19 Cento Incroci ospita un Laboratorio creativo per tramandare l’arte dell’uncinetto alle nuove generazioni.\nLaboratorio gratuito\, previa prenotazione. \nPrenotazioni tramite telefono o whatsapp al numero 3665616955
URL:https://centoincroci.regione.lazio.it/evento/laboratorio-di-uncinetto/
CATEGORIES:I Laboratori
ATTACH;FMTTYPE=image/jpeg:https://centoincroci.regione.lazio.it/app/uploads/2025/01/uncinetto.jpg
END:VEVENT
BEGIN:VEVENT
DTSTART;TZID=Europe/Rome:20250129T170000
DTEND;TZID=Europe/Rome:20250129T190000
DTSTAMP:20260421T073140
CREATED:20250123T144617Z
LAST-MODIFIED:20250123T144617Z
UID:10001111-1738170000-1738177200@centoincroci.regione.lazio.it
SUMMARY:Laboratorio di teatro
DESCRIPTION:Ogni mercoledì dalle ore 17 alle ore 19 Cento Incroci ospita un Laboratorio di teatro rivolto a giovani e adulti.\nLaboratorio gratuito\, previa prenotazione. \nPrenotazioni tramite telefono o whatsapp al numero 3665616955
URL:https://centoincroci.regione.lazio.it/evento/laboratorio-di-teatro-6/
CATEGORIES:I Laboratori
ATTACH;FMTTYPE=image/jpeg:https://centoincroci.regione.lazio.it/app/uploads/2025/01/laboratorio-teatrale.jpg
END:VEVENT
BEGIN:VEVENT
DTSTART;TZID=Europe/Rome:20250127T180000
DTEND;TZID=Europe/Rome:20250127T200000
DTSTAMP:20260421T073140
CREATED:20250123T143721Z
LAST-MODIFIED:20250123T143722Z
UID:10001106-1738000800-1738008000@centoincroci.regione.lazio.it
SUMMARY:Laboratorio di lettura\, ascolto e scrittura poetica
DESCRIPTION:Ogni lunedì dalle ore 18 alle ore 20 Cento Incroci ospita un Laboratorio di lettura poetica. \nPrenotazioni tramite telefono o whatsapp al numero 3665616955
URL:https://centoincroci.regione.lazio.it/evento/laboratorio-di-lettura-ascolto-e-scrittura-poetica/
CATEGORIES:Leggiamo insieme
ATTACH;FMTTYPE=image/jpeg:https://centoincroci.regione.lazio.it/app/uploads/2024/07/5ba7b5ed7357e236133832524f8fc5.jpg
END:VEVENT
BEGIN:VEVENT
DTSTART;TZID=Europe/Rome:20250125T163000
DTEND;TZID=Europe/Rome:20250125T190000
DTSTAMP:20260421T073140
CREATED:20250123T150356Z
LAST-MODIFIED:20250123T150357Z
UID:10001126-1737822600-1737831600@centoincroci.regione.lazio.it
SUMMARY:Giuseppe Spinillo: lettura delle sue poesie
DESCRIPTION:Sabato 25 gennaio dalle ore 16:30 alle ore 19:00 Giuseppe Spinillo\, presso Cento Incroci\, propone letture delle sue poesie.\nInformazioni tramite telefono o whatsapp al numero 3665616955
URL:https://centoincroci.regione.lazio.it/evento/giuseppe-spinillo-lettura-delle-sue-poesie/
CATEGORIES:Leggiamo insieme
ATTACH;FMTTYPE=image/jpeg:https://centoincroci.regione.lazio.it/app/uploads/2025/01/1679358561-tea-time-g78646d070-1920.jpg
END:VEVENT
BEGIN:VEVENT
DTSTART;TZID=Europe/Rome:20250107T080000
DTEND;TZID=Europe/Rome:20250108T200000
DTSTAMP:20260421T073140
CREATED:20241218T154721Z
LAST-MODIFIED:20241218T154722Z
UID:10000883-1736236800-1736366400@centoincroci.regione.lazio.it
SUMMARY:Spazio coworking
DESCRIPTION:Disponibilità dello spazio coworking\, fruibile gratuitamente. \nPer maggiori info 3665616955
URL:https://centoincroci.regione.lazio.it/evento/spazio-coworking-6/
CATEGORIES:Incontri
ATTACH;FMTTYPE=image/jpeg:https://centoincroci.regione.lazio.it/app/uploads/2024/04/339737201_1384829545390398_5164164649820751090_n.jpg
END:VEVENT
BEGIN:VEVENT
DTSTART;VALUE=DATE:20250106
DTEND;VALUE=DATE:20250107
DTSTAMP:20260421T073140
CREATED:20241218T154100Z
LAST-MODIFIED:20241218T154749Z
UID:10000878-1736121600-1736207999@centoincroci.regione.lazio.it
SUMMARY:Chiusura Festività Cento Incroci
DESCRIPTION:Nelle giornate del 25\, 26 dicembre e 1 e 6 gennaio Cento Incroci resterà chiuso per le festività di Natale
URL:https://centoincroci.regione.lazio.it/evento/chiusura-festivita-cento-incroci-2/
CATEGORIES:Incontri
ATTACH;FMTTYPE=image/jpeg:https://centoincroci.regione.lazio.it/app/uploads/2021/01/image00009-scaled.jpeg
END:VEVENT
BEGIN:VEVENT
DTSTART;TZID=Europe/Rome:20250102T170000
DTEND;TZID=Europe/Rome:20250102T180000
DTSTAMP:20260421T073140
CREATED:20241218T153217Z
LAST-MODIFIED:20241218T154317Z
UID:10001102-1735837200-1735840800@centoincroci.regione.lazio.it
SUMMARY:Sportello di ascolto psicologico
DESCRIPTION:Presso Cento Incroci è attivo uno Sportello di Ascolto psicologico gratuito. Lo sportello è curato dall’Associazione Ce.R.F. \nAperto tutti i giovedì\, dalle ore 17 alle ore 18.\nPer maggiori info 3665616955
URL:https://centoincroci.regione.lazio.it/evento/sportello-di-ascolto-psicologico-24/
CATEGORIES:Gli Sportelli
ATTACH;FMTTYPE=image/jpeg:https://centoincroci.regione.lazio.it/app/uploads/2022/09/sportellopsicologico-foto.jpg
END:VEVENT
BEGIN:VEVENT
DTSTART;TZID=Europe/Rome:20250102T080000
DTEND;TZID=Europe/Rome:20250102T170000
DTSTAMP:20260421T073140
CREATED:20241218T152942Z
LAST-MODIFIED:20241218T155409Z
UID:10001101-1735804800-1735837200@centoincroci.regione.lazio.it
SUMMARY:Spazio coworking
DESCRIPTION:Disponibilità dello spazio coworking\, fruibile gratuitamente. \nPer questa giornata lo spazio è disponibile dalle ore 8 alle 17 e dalle 18 alle 20 \nPer maggiori info 3665616955.
URL:https://centoincroci.regione.lazio.it/evento/spazio-coworking-3/
CATEGORIES:Incontri
ATTACH;FMTTYPE=image/jpeg:https://centoincroci.regione.lazio.it/app/uploads/2024/04/339737201_1384829545390398_5164164649820751090_n.jpg
END:VEVENT
END:VCALENDAR