BEGIN:VCALENDAR
VERSION:2.0
PRODID:-//Cento incroci - ECPv6.8.3//NONSGML v1.0//EN
CALSCALE:GREGORIAN
METHOD:PUBLISH
X-WR-CALNAME:Cento incroci
X-ORIGINAL-URL:https://centoincroci.regione.lazio.it
X-WR-CALDESC:Eventi per Cento incroci
REFRESH-INTERVAL;VALUE=DURATION:PT1H
X-Robots-Tag:noindex
X-PUBLISHED-TTL:PT1H
BEGIN:VTIMEZONE
TZID:Europe/Rome
BEGIN:DAYLIGHT
TZOFFSETFROM:+0100
TZOFFSETTO:+0200
TZNAME:CEST
DTSTART:20230326T010000
END:DAYLIGHT
BEGIN:STANDARD
TZOFFSETFROM:+0200
TZOFFSETTO:+0100
TZNAME:CET
DTSTART:20231029T010000
END:STANDARD
END:VTIMEZONE
BEGIN:VEVENT
DTSTART;TZID=Europe/Rome:20230422T170000
DTEND;TZID=Europe/Rome:20230422T183000
DTSTAMP:20260422T061530
CREATED:20230314T133011Z
LAST-MODIFIED:20230314T133011Z
UID:10001006-1682182800-1682188200@centoincroci.regione.lazio.it
SUMMARY:CORSO DI CANTO PER ADULTI
DESCRIPTION:Presso Cento Incroci\, dalle h 17 alle h 18.30\, si terrà un Corso di Canto per adulti. \nPer informazioni e prenotazioni: 366 5616955.
URL:https://centoincroci.regione.lazio.it/evento/corso-di-canto-per-adulti-3/
CATEGORIES:I Laboratori
ATTACH;FMTTYPE=image/png:https://centoincroci.regione.lazio.it/app/uploads/2023/03/canto.png
END:VEVENT
BEGIN:VEVENT
DTSTART;TZID=Europe/Rome:20230422T103000
DTEND;TZID=Europe/Rome:20230422T140000
DTSTAMP:20260422T061530
CREATED:20230412T070852Z
LAST-MODIFIED:20230412T103430Z
UID:10000799-1682159400-1682172000@centoincroci.regione.lazio.it
SUMMARY:Interviste di quartiere: corso di produzione video per bambini
DESCRIPTION:Presso Centro Incroci dalle h 10:30 alle h 14:00 si terrà Interviste di quartiere: corso di produzione video per bambini dai 7 ai 12 anni.\nPer info e prenotazioni: 366 5616955.
URL:https://centoincroci.regione.lazio.it/evento/interviste-di-quartiere-corso-di-produzione-video-per-bambini/
CATEGORIES:I Laboratori
ATTACH;FMTTYPE=image/jpeg:https://centoincroci.regione.lazio.it/app/uploads/2023/04/evento-22-23-Aprile-2023.jpg
END:VEVENT
BEGIN:VEVENT
DTSTART;TZID=Europe/Rome:20230421T170000
DTEND;TZID=Europe/Rome:20230421T200000
DTSTAMP:20260422T061530
CREATED:20230330T095509Z
LAST-MODIFIED:20230330T095509Z
UID:10001023-1682096400-1682107200@centoincroci.regione.lazio.it
SUMMARY:CORSO DI ITALIANO PER STRANIERI
DESCRIPTION:Presso Centro Incroci dalle ore 17 alle ore 20 ogni venerdì si tiene un corso di italiano base ed avanzato  per stranieri. \nPer info e prenotazioni: 366 5616955
URL:https://centoincroci.regione.lazio.it/evento/corso-di-italiano-per-stranieri-16/
CATEGORIES:Incontri
ATTACH;FMTTYPE=image/jpeg:https://centoincroci.regione.lazio.it/app/uploads/2022/06/italiano.jpg
END:VEVENT
BEGIN:VEVENT
DTSTART;TZID=Europe/Rome:20230420T093000
DTEND;TZID=Europe/Rome:20230420T200000
DTSTAMP:20260422T061530
CREATED:20230330T094721Z
LAST-MODIFIED:20230330T094721Z
UID:10001020-1681983000-1682020800@centoincroci.regione.lazio.it
SUMMARY:Coworking
DESCRIPTION:Tra le attività di Cento Incroci c’è anche uno spazio dedicato al coworking\, fruibile gratuitamente. \nPer maggiori info 3665616955.
URL:https://centoincroci.regione.lazio.it/evento/coworking-11/
ATTACH;FMTTYPE=image/jpeg:https://centoincroci.regione.lazio.it/app/uploads/2021/01/image00003-scaled.jpeg
END:VEVENT
BEGIN:VEVENT
DTSTART;TZID=Europe/Rome:20230419T170000
DTEND;TZID=Europe/Rome:20230419T180000
DTSTAMP:20260422T061530
CREATED:20230330T092959Z
LAST-MODIFIED:20230330T092959Z
UID:10001016-1681923600-1681927200@centoincroci.regione.lazio.it
SUMMARY:SPORTELLO DI ASCOLTO PSICOLOGICO
DESCRIPTION:Presso Cento Incroci in Via delle Palme n. 158 è attivo uno Sportello di Ascolto psicologico gratuito. Lo sportello è curato dall’Associazione Ce.R.F. Aperto tutti i mercoledì dalle ore 17 alle ore 18.\nPer info e prenotazioni contattare: Dott.ssa Ilaria Avincola 3420432209\nAssociazione Ce.R.F. 0631054515\nemail: associazionecerf@gmail.com
URL:https://centoincroci.regione.lazio.it/evento/sportello-di-ascolto-psicologico-17/
CATEGORIES:Gli Sportelli
ATTACH;FMTTYPE=image/jpeg:https://centoincroci.regione.lazio.it/app/uploads/2022/09/sportellopsicologico-foto.jpg
END:VEVENT
BEGIN:VEVENT
DTSTART;TZID=Europe/Rome:20230417T180000
DTEND;TZID=Europe/Rome:20230417T200000
DTSTAMP:20260422T061530
CREATED:20230330T091642Z
LAST-MODIFIED:20230330T091643Z
UID:10001010-1681754400-1681761600@centoincroci.regione.lazio.it
SUMMARY:SCEGLIAMO IL POETA- LABORATORIO POESIA
DESCRIPTION:A Cento Incroci scegliamo il poeta da impersonare e la poesia da cui iniziare\, con la consapevolezza di volerci confrontare con questa identità poetica. \nDalle h 18:00 alle h 20:00. \nPrenotazioni: 3665616955
URL:https://centoincroci.regione.lazio.it/evento/scegliamo-il-poeta-laboratorio-poesia-6/
CATEGORIES:I Laboratori,Leggiamo insieme
ATTACH;FMTTYPE=image/jpeg:https://centoincroci.regione.lazio.it/app/uploads/2022/09/incontriottobre-foto.jpg
END:VEVENT
BEGIN:VEVENT
DTSTART;TZID=Europe/Rome:20230415T170000
DTEND;TZID=Europe/Rome:20230415T183000
DTSTAMP:20260422T061530
CREATED:20230330T100625Z
LAST-MODIFIED:20230330T100626Z
UID:10001026-1681578000-1681583400@centoincroci.regione.lazio.it
SUMMARY:CORSO DI CANTO PER ADULTI
DESCRIPTION:Presso Cento Incroci\, dalle h 17 alle h 18.30\, si terrà un Corso di Canto per adulti. \nPer informazioni e prenotazioni: 366 5616955.
URL:https://centoincroci.regione.lazio.it/evento/corso-di-canto-per-adulti-7/
CATEGORIES:I Laboratori
ATTACH;FMTTYPE=image/png:https://centoincroci.regione.lazio.it/app/uploads/2023/03/canto.png
END:VEVENT
BEGIN:VEVENT
DTSTART;TZID=Europe/Rome:20230414T170000
DTEND;TZID=Europe/Rome:20230414T200000
DTSTAMP:20260422T061530
CREATED:20230330T095405Z
LAST-MODIFIED:20230330T095405Z
UID:10001022-1681491600-1681502400@centoincroci.regione.lazio.it
SUMMARY:CORSO DI ITALIANO PER STRANIERI
DESCRIPTION:Presso Centro Incroci dalle ore 17 alle ore 20 ogni venerdì si tiene un corso di italiano base ed avanzato  per stranieri. \nPer info e prenotazioni: 366 5616955
URL:https://centoincroci.regione.lazio.it/evento/corso-di-italiano-per-stranieri-15/
CATEGORIES:Incontri
ATTACH;FMTTYPE=image/jpeg:https://centoincroci.regione.lazio.it/app/uploads/2022/06/italiano.jpg
END:VEVENT
BEGIN:VEVENT
DTSTART;TZID=Europe/Rome:20230413T093000
DTEND;TZID=Europe/Rome:20230413T200000
DTSTAMP:20260422T061530
CREATED:20230403T101720Z
LAST-MODIFIED:20230403T101847Z
UID:10001028-1681378200-1681416000@centoincroci.regione.lazio.it
SUMMARY:Coworking
DESCRIPTION:Tra le attività di Cento Incroci c’è anche uno spazio dedicato al coworking\, fruibile gratuitamente. \nPer maggiori info 3665616955.
URL:https://centoincroci.regione.lazio.it/evento/coworking-13/
ATTACH;FMTTYPE=image/jpeg:https://centoincroci.regione.lazio.it/app/uploads/2021/01/image00003-scaled.jpeg
END:VEVENT
BEGIN:VEVENT
DTSTART;TZID=Europe/Rome:20230412T170000
DTEND;TZID=Europe/Rome:20230412T180000
DTSTAMP:20260422T061530
CREATED:20230330T092906Z
LAST-MODIFIED:20230330T092906Z
UID:10001015-1681318800-1681322400@centoincroci.regione.lazio.it
SUMMARY:SPORTELLO DI ASCOLTO PSICOLOGICO
DESCRIPTION:Presso Cento Incroci in Via delle Palme n. 158 è attivo uno Sportello di Ascolto psicologico gratuito. Lo sportello è curato dall’Associazione Ce.R.F. Aperto tutti i mercoledì dalle ore 17 alle ore 18.\nPer info e prenotazioni contattare: Dott.ssa Ilaria Avincola 3420432209\nAssociazione Ce.R.F. 0631054515\nemail: associazionecerf@gmail.com
URL:https://centoincroci.regione.lazio.it/evento/sportello-di-ascolto-psicologico-16/
CATEGORIES:Gli Sportelli
ATTACH;FMTTYPE=image/jpeg:https://centoincroci.regione.lazio.it/app/uploads/2022/09/sportellopsicologico-foto.jpg
END:VEVENT
BEGIN:VEVENT
DTSTART;TZID=Europe/Rome:20230408T170000
DTEND;TZID=Europe/Rome:20230408T183000
DTSTAMP:20260422T061530
CREATED:20230330T100525Z
LAST-MODIFIED:20230330T100525Z
UID:10001025-1680973200-1680978600@centoincroci.regione.lazio.it
SUMMARY:CORSO DI CANTO PER ADULTI
DESCRIPTION:Presso Cento Incroci\, dalle h 17 alle h 18.30\, si terrà un Corso di Canto per adulti. \nPer informazioni e prenotazioni: 366 5616955.
URL:https://centoincroci.regione.lazio.it/evento/corso-di-canto-per-adulti-6/
CATEGORIES:Incontri
ATTACH;FMTTYPE=image/png:https://centoincroci.regione.lazio.it/app/uploads/2023/03/canto.png
END:VEVENT
BEGIN:VEVENT
DTSTART;TZID=Europe/Rome:20230407T170000
DTEND;TZID=Europe/Rome:20230407T200000
DTSTAMP:20260422T061530
CREATED:20230330T095233Z
LAST-MODIFIED:20230330T095304Z
UID:10001021-1680886800-1680897600@centoincroci.regione.lazio.it
SUMMARY:CORSO DI ITALIANO PER STRANIERI
DESCRIPTION:Presso Centro Incroci dalle ore 17 alle ore 20 ogni venerdì si tiene un corso di italiano base ed avanzato  per stranieri. \nPer info e prenotazioni: 366 5616955
URL:https://centoincroci.regione.lazio.it/evento/corso-di-italiano-per-stranieri-14/
CATEGORIES:Incontri
ATTACH;FMTTYPE=image/jpeg:https://centoincroci.regione.lazio.it/app/uploads/2022/06/italiano.jpg
END:VEVENT
BEGIN:VEVENT
DTSTART;TZID=Europe/Rome:20230406T093000
DTEND;TZID=Europe/Rome:20230406T200000
DTSTAMP:20260422T061530
CREATED:20230330T093748Z
LAST-MODIFIED:20230330T093748Z
UID:10001018-1680773400-1680811200@centoincroci.regione.lazio.it
SUMMARY:Coworking
DESCRIPTION:Tra le attività di Cento Incroci c’è anche uno spazio dedicato al coworking\, fruibile gratuitamente. \nPer maggiori info 3665616955.
URL:https://centoincroci.regione.lazio.it/evento/coworking-9/
ATTACH;FMTTYPE=image/jpeg:https://centoincroci.regione.lazio.it/app/uploads/2021/01/image00003-scaled.jpeg
END:VEVENT
BEGIN:VEVENT
DTSTART;TZID=Europe/Rome:20230405T170000
DTEND;TZID=Europe/Rome:20230405T180000
DTSTAMP:20260422T061530
CREATED:20230330T092807Z
LAST-MODIFIED:20230330T092807Z
UID:10001014-1680714000-1680717600@centoincroci.regione.lazio.it
SUMMARY:SPORTELLO DI ASCOLTO PSICOLOGICO
DESCRIPTION:Presso Cento Incroci in Via delle Palme n. 158 è attivo uno Sportello di Ascolto psicologico gratuito. Lo sportello è curato dall’Associazione Ce.R.F. Aperto tutti i mercoledì dalle ore 17 alle ore 18.\nPer info e prenotazioni contattare: Dott.ssa Ilaria Avincola 3420432209\nAssociazione Ce.R.F. 0631054515\nemail: associazionecerf@gmail.com
URL:https://centoincroci.regione.lazio.it/evento/sportello-di-ascolto-psicologico-15/
CATEGORIES:Gli Sportelli
ATTACH;FMTTYPE=image/jpeg:https://centoincroci.regione.lazio.it/app/uploads/2022/09/sportellopsicologico-foto.jpg
END:VEVENT
BEGIN:VEVENT
DTSTART;TZID=Europe/Rome:20230404T180000
DTEND;TZID=Europe/Rome:20230404T190000
DTSTAMP:20260422T061530
CREATED:20230330T092623Z
LAST-MODIFIED:20230330T092703Z
UID:10001013-1680631200-1680634800@centoincroci.regione.lazio.it
SUMMARY:CORSO BASE UNCINETTO
DESCRIPTION:Martedì 4 aprile\, presso Cento Incroci\,  si tiene l’ultima lezione del Corso base di uncinetto dalle ore 18. Corso per adulti (dai 16 anni in su) \nIngresso libero\, su prenotazione\, fino ad esaurimento posti. \nPer prenotazioni scrivici su WhatsApp 3665616955
URL:https://centoincroci.regione.lazio.it/evento/corso-base-uncinetto-11/
CATEGORIES:I Laboratori
ATTACH;FMTTYPE=image/jpeg:https://centoincroci.regione.lazio.it/app/uploads/2023/01/corsouncinetto.jpg
END:VEVENT
BEGIN:VEVENT
DTSTART;TZID=Europe/Rome:20230403T180000
DTEND;TZID=Europe/Rome:20230403T200000
DTSTAMP:20260422T061530
CREATED:20230330T091201Z
LAST-MODIFIED:20230330T091541Z
UID:10001009-1680544800-1680552000@centoincroci.regione.lazio.it
SUMMARY:SCEGLIAMO IL POETA- LABORATORIO POESIA
DESCRIPTION:A Cento Incroci scegliamo il poeta da impersonare e la poesia da cui iniziare\, con la consapevolezza di volerci confrontare con questa identità poetica. \nDalle h 18:00 alle h 20:00. \nPrenotazioni: 3665616955
URL:https://centoincroci.regione.lazio.it/evento/scegliamo-il-poeta-14/
CATEGORIES:I Laboratori
ATTACH;FMTTYPE=image/jpeg:https://centoincroci.regione.lazio.it/app/uploads/2022/09/incontriottobre-foto.jpg
END:VEVENT
BEGIN:VEVENT
DTSTART;TZID=Europe/Rome:20230403T093000
DTEND;TZID=Europe/Rome:20230403T200000
DTSTAMP:20260422T061530
CREATED:20230403T101414Z
LAST-MODIFIED:20230403T101419Z
UID:10001027-1680514200-1680552000@centoincroci.regione.lazio.it
SUMMARY:Coworking
DESCRIPTION:Tra le attività di Cento Incroci c’è anche uno spazio dedicato al coworking\, fruibile gratuitamente. \nPer maggiori info 3665616955.
URL:https://centoincroci.regione.lazio.it/evento/coworking-12/
ATTACH;FMTTYPE=image/jpeg:https://centoincroci.regione.lazio.it/app/uploads/2021/01/image00003-scaled.jpeg
END:VEVENT
BEGIN:VEVENT
DTSTART;TZID=Europe/Rome:20230401T170000
DTEND;TZID=Europe/Rome:20230401T183000
DTSTAMP:20260422T061530
CREATED:20230314T132657Z
LAST-MODIFIED:20230314T132658Z
UID:10001005-1680368400-1680373800@centoincroci.regione.lazio.it
SUMMARY:CORSO DI CANTO PER ADULTI
DESCRIPTION:Presso Cento Incroci\, dalle h 17 alle h 18.30\, si terrà un Corso di Canto per adulti. \nPer informazioni e prenotazioni: 366 5616955.
URL:https://centoincroci.regione.lazio.it/evento/corso-di-canto-per-adulti/
CATEGORIES:I Laboratori
ATTACH;FMTTYPE=image/png:https://centoincroci.regione.lazio.it/app/uploads/2023/03/canto.png
END:VEVENT
BEGIN:VEVENT
DTSTART;TZID=Europe/Rome:20230401T103000
DTEND;TZID=Europe/Rome:20230401T123000
DTSTAMP:20260422T061530
CREATED:20230330T055209Z
LAST-MODIFIED:20230330T055220Z
UID:10001008-1680345000-1680352200@centoincroci.regione.lazio.it
SUMMARY:Presentazione del libro “Centocelle”
DESCRIPTION:Sabato 1 aprile alle h ore 10:30 presso  Cento Incroci presentazione del libro “Centocelle” racconti di un quartiere che resiste”. \nUn Racconto di Centocelle\, delle sue vite\, dei suoi volti. \nInterverranno: Stefania Ficacci storica – Gruppo Appoggio Muto GAM – LAC – Lorenzo Bellosono – artista – Uzzal Gazi – Centocelle Tigers.
URL:https://centoincroci.regione.lazio.it/evento/presentazione-del-libro-centocelle/
CATEGORIES:Incontri
ATTACH;FMTTYPE=image/jpeg:https://centoincroci.regione.lazio.it/app/uploads/2023/03/EVENTO-1-APRILE-scaled.jpg
END:VEVENT
BEGIN:VEVENT
DTSTART;TZID=Europe/Rome:20230331T170000
DTEND;TZID=Europe/Rome:20230331T200000
DTSTAMP:20260422T061530
CREATED:20230301T105934Z
LAST-MODIFIED:20230301T105934Z
UID:10001002-1680282000-1680292800@centoincroci.regione.lazio.it
SUMMARY:CORSO DI ITALIANO PER STRANIERI
DESCRIPTION:Presso Centro Incroci dalle ore 17 alle ore 20 ogni venerdì si tiene un corso di italiano per stranieri. \nPer info e prenotazioni: 366 5616955
URL:https://centoincroci.regione.lazio.it/evento/corso-di-italiano-per-stranieri-13/
CATEGORIES:I Laboratori
ATTACH;FMTTYPE=image/jpeg:https://centoincroci.regione.lazio.it/app/uploads/2022/06/italiano.jpg
END:VEVENT
BEGIN:VEVENT
DTSTART;TZID=Europe/Rome:20230330T180000
DTEND;TZID=Europe/Rome:20230330T200000
DTSTAMP:20260422T061530
CREATED:20230330T091750Z
LAST-MODIFIED:20230330T091750Z
UID:10001011-1680199200-1680206400@centoincroci.regione.lazio.it
SUMMARY:SCEGLIAMO IL POETA- LABORATORIO POESIA
DESCRIPTION:A Cento Incroci scegliamo il poeta da impersonare e la poesia da cui iniziare\, con la consapevolezza di volerci confrontare con questa identità poetica. \nDalle h 18:00 alle h 20:00. \nPrenotazioni: 3665616955
URL:https://centoincroci.regione.lazio.it/evento/scegliamo-il-poeta-laboratorio-poesia-7/
CATEGORIES:I Laboratori,Leggiamo insieme
ATTACH;FMTTYPE=image/jpeg:https://centoincroci.regione.lazio.it/app/uploads/2022/09/incontriottobre-foto.jpg
END:VEVENT
BEGIN:VEVENT
DTSTART;TZID=Europe/Rome:20230330T180000
DTEND;TZID=Europe/Rome:20230330T200000
DTSTAMP:20260422T061530
CREATED:20230301T105455Z
LAST-MODIFIED:20230301T105455Z
UID:10000998-1680199200-1680206400@centoincroci.regione.lazio.it
SUMMARY:CORSO BASE DI FOTOGRAFIA DIGITALE
DESCRIPTION:Presso Cento incroci ogni giovedì\, dalle 18:00 alle 20:00\, si terrà un corso base di fotografia digitale. \nPer partecipare è necessario prenotarsi chiamando Cento Incroci al numero 366 5616955.
URL:https://centoincroci.regione.lazio.it/evento/corso-base-di-fotografia-digitale-13/
CATEGORIES:I Laboratori
ATTACH;FMTTYPE=image/jpeg:https://centoincroci.regione.lazio.it/app/uploads/2023/01/corsofotografia.jpg
END:VEVENT
BEGIN:VEVENT
DTSTART;TZID=Europe/Rome:20230329T170000
DTEND;TZID=Europe/Rome:20230329T180000
DTSTAMP:20260422T061530
CREATED:20230301T105258Z
LAST-MODIFIED:20230301T105258Z
UID:10000997-1680109200-1680112800@centoincroci.regione.lazio.it
SUMMARY:SPORTELLO DI ASCOLTO PSICOLOGICO
DESCRIPTION:Presso Cento Incroci in Via delle Palme n. 158 è attivo uno Sportello di Ascolto psicologico gratuito. Lo sportello è curato dall’Associazione Ce.R.F. Aperto tutti i mercoledì dalle ore 17 alle ore 18.\nPer info e prenotazioni contattare: Dott.ssa Ilaria Avincola 3420432209\nAssociazione Ce.R.F. 0631054515\nemail: associazionecerf@gmail.com
URL:https://centoincroci.regione.lazio.it/evento/sportello-di-ascolto-psicologico-14/
CATEGORIES:Incontri
ATTACH;FMTTYPE=image/jpeg:https://centoincroci.regione.lazio.it/app/uploads/2022/09/sportellopsicologico-foto.jpg
END:VEVENT
BEGIN:VEVENT
DTSTART;TZID=Europe/Rome:20230328T180000
DTEND;TZID=Europe/Rome:20230328T190000
DTSTAMP:20260422T061530
CREATED:20230301T104736Z
LAST-MODIFIED:20230301T104736Z
UID:10000779-1680026400-1680030000@centoincroci.regione.lazio.it
SUMMARY:CORSO BASE UNCINETTO
DESCRIPTION:Ogni martedì presso Cento Incroci si tiene un Corso base di uncinetto dalle ore 18. Corso per adulti (dai 16 anni in su) \nIngresso libero\, su prenotazione\, fino ad esaurimento posti. \nPer prenotazioni scrivici su WhatsApp 3665616955
URL:https://centoincroci.regione.lazio.it/evento/corso-base-uncinetto-10/
CATEGORIES:I Laboratori
ATTACH;FMTTYPE=image/jpeg:https://centoincroci.regione.lazio.it/app/uploads/2023/01/corsouncinetto.jpg
END:VEVENT
BEGIN:VEVENT
DTSTART;TZID=Europe/Rome:20230327T180000
DTEND;TZID=Europe/Rome:20230327T190000
DTSTAMP:20260422T061530
CREATED:20230223T085808Z
LAST-MODIFIED:20230223T085808Z
UID:10000770-1679940000-1679943600@centoincroci.regione.lazio.it
SUMMARY:SCEGLIAMO IL POETA- LABORATORIO POESIA
DESCRIPTION:A Cento Incroci scegliamo il poeta da impersonare e la poesia da cui iniziare\, con la consapevolezza di volerci confrontare con questa identità poetica. \nInizio corso ore 18:00. \nPrenotazioni: 3665616955
URL:https://centoincroci.regione.lazio.it/evento/scegliamo-il-poeta-laboratorio-poesia-4/
CATEGORIES:I Laboratori
ATTACH;FMTTYPE=image/jpeg:https://centoincroci.regione.lazio.it/app/uploads/2022/09/incontriottobre-foto.jpg
END:VEVENT
BEGIN:VEVENT
DTSTART;TZID=Europe/Rome:20230324T170000
DTEND;TZID=Europe/Rome:20230324T200000
DTSTAMP:20260422T061530
CREATED:20230301T105843Z
LAST-MODIFIED:20230301T105843Z
UID:10001001-1679677200-1679688000@centoincroci.regione.lazio.it
SUMMARY:CORSO DI ITALIANO PER STRANIERI
DESCRIPTION:Presso Centro Incroci dalle ore 17 alle ore 20 ogni venerdì si tiene un corso di italiano per stranieri. \nPer info e prenotazioni: 366 5616955
URL:https://centoincroci.regione.lazio.it/evento/corso-di-italiano-per-stranieri-12/
CATEGORIES:I Laboratori
ATTACH;FMTTYPE=image/jpeg:https://centoincroci.regione.lazio.it/app/uploads/2022/06/italiano.jpg
END:VEVENT
BEGIN:VEVENT
DTSTART;TZID=Europe/Rome:20230323T180000
DTEND;TZID=Europe/Rome:20230323T200000
DTSTAMP:20260422T061530
CREATED:20230109T094931Z
LAST-MODIFIED:20230117T075525Z
UID:10000741-1679594400-1679601600@centoincroci.regione.lazio.it
SUMMARY:CORSO BASE DI FOTOGRAFIA DIGITALE
DESCRIPTION:Presso Cento incroci ogni giovedì\, dalle 18:00 alle 20:00\, si terrà un corso base di fotografia digitale. \nPer partecipare è necessario prenotarsi chiamando Cento Incroci al numero 366 5616955.
URL:https://centoincroci.regione.lazio.it/evento/corso-base-di-fotografia-digitale-12/
CATEGORIES:I Laboratori
ATTACH;FMTTYPE=image/jpeg:https://centoincroci.regione.lazio.it/app/uploads/2023/01/corsofotografia.jpg
END:VEVENT
BEGIN:VEVENT
DTSTART;TZID=Europe/Rome:20230322T170000
DTEND;TZID=Europe/Rome:20230322T180000
DTSTAMP:20260422T061530
CREATED:20230301T105228Z
LAST-MODIFIED:20230301T105228Z
UID:10000996-1679504400-1679508000@centoincroci.regione.lazio.it
SUMMARY:SPORTELLO DI ASCOLTO PSICOLOGICO
DESCRIPTION:Presso Cento Incroci in Via delle Palme n. 158 è attivo uno Sportello di Ascolto psicologico gratuito. Lo sportello è curato dall’Associazione Ce.R.F. Aperto tutti i mercoledì dalle ore 17 alle ore 18.\nPer info e prenotazioni contattare: Dott.ssa Ilaria Avincola 3420432209\nAssociazione Ce.R.F. 0631054515\nemail: associazionecerf@gmail.com
URL:https://centoincroci.regione.lazio.it/evento/sportello-di-ascolto-psicologico-13/
CATEGORIES:Incontri
ATTACH;FMTTYPE=image/jpeg:https://centoincroci.regione.lazio.it/app/uploads/2022/09/sportellopsicologico-foto.jpg
END:VEVENT
BEGIN:VEVENT
DTSTART;TZID=Europe/Rome:20230321T180000
DTEND;TZID=Europe/Rome:20230321T190000
DTSTAMP:20260422T061530
CREATED:20230301T104704Z
LAST-MODIFIED:20230301T104705Z
UID:10000777-1679421600-1679425200@centoincroci.regione.lazio.it
SUMMARY:CORSO BASE UNCINETTO
DESCRIPTION:Ogni martedì presso Cento Incroci si tiene un Corso base di uncinetto dalle ore 18. Corso per adulti (dai 16 anni in su) \nIngresso libero\, su prenotazione\, fino ad esaurimento posti. \nPer prenotazioni scrivici su WhatsApp 3665616955
URL:https://centoincroci.regione.lazio.it/evento/corso-base-uncinetto-9/
CATEGORIES:I Laboratori
ATTACH;FMTTYPE=image/jpeg:https://centoincroci.regione.lazio.it/app/uploads/2023/01/corsouncinetto.jpg
END:VEVENT
BEGIN:VEVENT
DTSTART;TZID=Europe/Rome:20230321T173000
DTEND;TZID=Europe/Rome:20230321T190000
DTSTAMP:20260422T061530
CREATED:20230307T083927Z
LAST-MODIFIED:20230307T084152Z
UID:10001003-1679419800-1679425200@centoincroci.regione.lazio.it
SUMMARY:“Breve viaggio tra le più belle parole in versi”
DESCRIPTION:Martedì 21 marzo ore 17.30\, in occasione della Giornata mondiale della Poesia\, Cento Incroci ospita l’evento “Breve viaggio tra le più belle parole in versi”\, organizzato da Claudio Lugi\, con letture di composizioni in versi. \n  \nIngresso libero\nPer info: 366 561 6955\ncentoincroci@laziocrea.it
URL:https://centoincroci.regione.lazio.it/evento/breve-viaggio-tra-le-piu-belle-parole-in-versi/
CATEGORIES:Incontri
ATTACH;FMTTYPE=image/bmp:https://centoincroci.regione.lazio.it/app/uploads/2023/03/EVENTO-21-MARZO.bmp
END:VEVENT
END:VCALENDAR