BEGIN:VCALENDAR
VERSION:2.0
PRODID:-//Cento incroci - ECPv6.8.3//NONSGML v1.0//EN
CALSCALE:GREGORIAN
METHOD:PUBLISH
X-WR-CALNAME:Cento incroci
X-ORIGINAL-URL:https://centoincroci.regione.lazio.it
X-WR-CALDESC:Eventi per Cento incroci
REFRESH-INTERVAL;VALUE=DURATION:PT1H
X-Robots-Tag:noindex
X-PUBLISHED-TTL:PT1H
BEGIN:VTIMEZONE
TZID:Europe/Rome
BEGIN:DAYLIGHT
TZOFFSETFROM:+0100
TZOFFSETTO:+0200
TZNAME:CEST
DTSTART:20240331T010000
END:DAYLIGHT
BEGIN:STANDARD
TZOFFSETFROM:+0200
TZOFFSETTO:+0100
TZNAME:CET
DTSTART:20241027T010000
END:STANDARD
END:VTIMEZONE
BEGIN:VEVENT
DTSTART;TZID=Europe/Rome:20240705T170000
DTEND;TZID=Europe/Rome:20240705T190000
DTSTAMP:20260422T032006
CREATED:20240611T055200Z
LAST-MODIFIED:20240611T055202Z
UID:10000843-1720198800-1720206000@centoincroci.regione.lazio.it
SUMMARY:Corso italiano per stranieri
DESCRIPTION:Ogni venerdì dalle ore 17 alle 19 Cento Incroci ospita un corso italiano per stranieri. \nPrenotazioni tramite telefono o whatsapp al numero 3665616955
URL:https://centoincroci.regione.lazio.it/evento/corso-italiano-per-stranieri-9/
CATEGORIES:I Laboratori
ATTACH;FMTTYPE=image/jpeg:https://centoincroci.regione.lazio.it/app/uploads/2024/06/Corso-italiano-per-stranieri.jpg
END:VEVENT
BEGIN:VEVENT
DTSTART;TZID=Europe/Rome:20240628T170000
DTEND;TZID=Europe/Rome:20240628T190000
DTSTAMP:20260422T032006
CREATED:20240605T114725Z
LAST-MODIFIED:20240611T053417Z
UID:10001063-1719594000-1719601200@centoincroci.regione.lazio.it
SUMMARY:Corso italiano per stranieri
DESCRIPTION:Ogni venerdì dalle ore 17 alle 19 Cento Incroci ospita un corso italiano per stranieri. \nPrenotazioni tramite telefono o whatsapp al numero 3665616955
URL:https://centoincroci.regione.lazio.it/evento/corso-italiano-per-stranieri-8/
CATEGORIES:I Laboratori
ATTACH;FMTTYPE=image/jpeg:https://centoincroci.regione.lazio.it/app/uploads/2022/06/italiano.jpg
END:VEVENT
BEGIN:VEVENT
DTSTART;TZID=Europe/Rome:20240627T180000
DTEND;TZID=Europe/Rome:20240627T200000
DTSTAMP:20260422T032006
CREATED:20240605T115832Z
LAST-MODIFIED:20240605T115833Z
UID:10000839-1719511200-1719518400@centoincroci.regione.lazio.it
SUMMARY:Corso di maglia
DESCRIPTION:Ogni giovedì dalle ore 18 alle ore 19.30 Cento Incroci ospita un corso di maglia. \nPrenotazioni tramite telefono o whatsapp al numero 3665616955
URL:https://centoincroci.regione.lazio.it/evento/corso-di-maglia-3/
CATEGORIES:I Laboratori
ATTACH;FMTTYPE=image/jpeg:https://centoincroci.regione.lazio.it/app/uploads/2024/06/corso-maglia.jpg
END:VEVENT
BEGIN:VEVENT
DTSTART;TZID=Europe/Rome:20240624T180000
DTEND;TZID=Europe/Rome:20240624T200000
DTSTAMP:20260422T032006
CREATED:20240605T120211Z
LAST-MODIFIED:20240605T120212Z
UID:10000842-1719252000-1719259200@centoincroci.regione.lazio.it
SUMMARY:Laboratorio di lettura poetica
DESCRIPTION:Ogni lunedì dalle ore 18 alle ore 20 Cento Incroci ospita un Laboratorio di lettura poetica. \nPrenotazioni tramite telefono o whatsapp al numero 3665616955
URL:https://centoincroci.regione.lazio.it/evento/laboratorio-di-lettura-poetica-36/
CATEGORIES:Leggiamo insieme
ATTACH;FMTTYPE=image/jpeg:https://centoincroci.regione.lazio.it/app/uploads/2022/09/incontriottobre-foto.jpg
END:VEVENT
BEGIN:VEVENT
DTSTART;TZID=Europe/Rome:20240621T170000
DTEND;TZID=Europe/Rome:20240621T190000
DTSTAMP:20260422T032006
CREATED:20240605T114641Z
LAST-MODIFIED:20240611T053401Z
UID:10001062-1718989200-1718996400@centoincroci.regione.lazio.it
SUMMARY:Corso italiano per stranieri
DESCRIPTION:Ogni venerdì dalle ore 17 alle 19 Cento Incroci ospita un corso italiano per stranieri. \nPrenotazioni tramite telefono o whatsapp al numero 3665616955 \n 
URL:https://centoincroci.regione.lazio.it/evento/corso-italiano-per-stranieri-7/
CATEGORIES:I Laboratori
ATTACH;FMTTYPE=image/jpeg:https://centoincroci.regione.lazio.it/app/uploads/2022/06/italiano.jpg
END:VEVENT
BEGIN:VEVENT
DTSTART;TZID=Europe/Rome:20240620T180000
DTEND;TZID=Europe/Rome:20240620T200000
DTSTAMP:20260422T032006
CREATED:20240605T115744Z
LAST-MODIFIED:20240605T115745Z
UID:10000838-1718906400-1718913600@centoincroci.regione.lazio.it
SUMMARY:Corso di maglia
DESCRIPTION:Ogni giovedì dalle ore 18 alle ore 19.30 Cento Incroci ospita un corso di maglia. \nPrenotazioni tramite telefono o whatsapp al numero 3665616955 \n 
URL:https://centoincroci.regione.lazio.it/evento/corso-di-maglia-2/
CATEGORIES:I Laboratori
ATTACH;FMTTYPE=image/jpeg:https://centoincroci.regione.lazio.it/app/uploads/2024/06/corso-maglia.jpg
END:VEVENT
BEGIN:VEVENT
DTSTART;TZID=Europe/Rome:20240617T183000
DTEND;TZID=Europe/Rome:20240617T200000
DTSTAMP:20260422T032006
CREATED:20240605T120118Z
LAST-MODIFIED:20240605T120119Z
UID:10000841-1718649000-1718654400@centoincroci.regione.lazio.it
SUMMARY:Laboratorio di lettura poetica
DESCRIPTION:Ogni lunedì dalle ore 18 alle ore 20 Cento Incroci ospita un Laboratorio di lettura poetica. \nPrenotazioni tramite telefono o whatsapp al numero 3665616955
URL:https://centoincroci.regione.lazio.it/evento/laboratorio-di-lettura-poetica-35/
CATEGORIES:Leggiamo insieme
ATTACH;FMTTYPE=image/jpeg:https://centoincroci.regione.lazio.it/app/uploads/2022/09/incontriottobre-foto.jpg
END:VEVENT
BEGIN:VEVENT
DTSTART;TZID=Europe/Rome:20240615T180000
DTEND;TZID=Europe/Rome:20240615T200000
DTSTAMP:20260422T032006
CREATED:20240605T115232Z
LAST-MODIFIED:20240605T115232Z
UID:10000835-1718474400-1718481600@centoincroci.regione.lazio.it
SUMMARY:Presentazione del libro "Vaghe Stelle"
DESCRIPTION:Sabato 15 giugno dalle ore 18 alle ore 20 a Cento Incroci si terrà la presentazione del libro “Vaghe Stelle” di Maura Chiara Martin. \n“Vaghe stelle” sono le parole che non sono state dette\, i pensieri tenuti nascosti\, la cenere di sentimenti esplosi nel cuore della notte. La malinconia è voce della giovinezza e canta l’amore\, la crescita e la solitudine. Una raccolta di versi che sono tracce permanenti di istanti unici ed irripetibili.
URL:https://centoincroci.regione.lazio.it/evento/presentazione-del-libro-vaghe-stelle/
CATEGORIES:Leggiamo insieme
ATTACH;FMTTYPE=image/png:https://centoincroci.regione.lazio.it/app/uploads/2024/06/vaghe-stelle.png
END:VEVENT
BEGIN:VEVENT
DTSTART;TZID=Europe/Rome:20240614T170000
DTEND;TZID=Europe/Rome:20240614T190000
DTSTAMP:20260422T032006
CREATED:20240605T114551Z
LAST-MODIFIED:20240611T053446Z
UID:10001061-1718384400-1718391600@centoincroci.regione.lazio.it
SUMMARY:Corso italiano per stranieri
DESCRIPTION:Ogni venerdì dalle ore 17 alle 19 Cento Incroci ospita un corso italiano per stranieri. \nPrenotazioni tramite telefono o whatsapp al numero 3665616955
URL:https://centoincroci.regione.lazio.it/evento/corso-italiano-per-stranieri-6/
CATEGORIES:I Laboratori
ATTACH;FMTTYPE=image/jpeg:https://centoincroci.regione.lazio.it/app/uploads/2022/06/italiano.jpg
END:VEVENT
BEGIN:VEVENT
DTSTART;TZID=Europe/Rome:20240613T180000
DTEND;TZID=Europe/Rome:20240613T190000
DTSTAMP:20260422T032006
CREATED:20240531T082409Z
LAST-MODIFIED:20240531T082409Z
UID:10001059-1718301600-1718305200@centoincroci.regione.lazio.it
SUMMARY:Presentazione del libro "Le giraffe in giardino"
DESCRIPTION:Giovedì 13 giugno alle ore 18 a Cento Incroci si terrà la presentazione del libro “Le giraffe in giardino” di Sara Marcoccia. \nAll’incontro\, moderato dalla giornalista Roberta Maresci\, saranno presenti insieme all’autrice del libro\, Roberta Rossi Brunori\, la dott.sa Monica Calcagni e Sara Quaresima
URL:https://centoincroci.regione.lazio.it/evento/presentazione-del-libro-le-giraffe-in-giardino/
CATEGORIES:Incontri
ATTACH;FMTTYPE=image/jpeg:https://centoincroci.regione.lazio.it/app/uploads/2024/05/IMG-20240531-WA0009.jpg
END:VEVENT
BEGIN:VEVENT
DTSTART;TZID=Europe/Rome:20240610T180000
DTEND;TZID=Europe/Rome:20240610T200000
DTSTAMP:20260422T032006
CREATED:20240605T120018Z
LAST-MODIFIED:20240605T120018Z
UID:10000840-1718042400-1718049600@centoincroci.regione.lazio.it
SUMMARY:Laboratorio di lettura poetica
DESCRIPTION:Ogni lunedì dalle ore 18 alle ore 20 Cento Incroci ospita un Laboratorio di lettura poetica. \nPrenotazioni tramite telefono o whatsapp al numero 3665616955
URL:https://centoincroci.regione.lazio.it/evento/laboratorio-di-lettura-poetica-34/
CATEGORIES:Incontri,Leggiamo insieme
ATTACH;FMTTYPE=image/jpeg:https://centoincroci.regione.lazio.it/app/uploads/2022/09/incontriottobre-foto.jpg
END:VEVENT
BEGIN:VEVENT
DTSTART;TZID=Europe/Rome:20240607T180000
DTEND;TZID=Europe/Rome:20240607T200000
DTSTAMP:20260422T032006
CREATED:20240605T114500Z
LAST-MODIFIED:20240605T114501Z
UID:10001060-1717783200-1717790400@centoincroci.regione.lazio.it
SUMMARY:Corso italiano per stranieri
DESCRIPTION:Ogni venerdì dalle ore 18 alle 20 Cento Incroci ospita un corso italiano per stranieri. \nPrenotazioni tramite telefono o whatsapp al numero 3665616955
URL:https://centoincroci.regione.lazio.it/evento/corso-italiano-per-stranieri-5/
CATEGORIES:Incontri
ATTACH;FMTTYPE=image/jpeg:https://centoincroci.regione.lazio.it/app/uploads/2022/06/italiano.jpg
END:VEVENT
BEGIN:VEVENT
DTSTART;TZID=Europe/Rome:20240606T180000
DTEND;TZID=Europe/Rome:20240606T200000
DTSTAMP:20260422T032006
CREATED:20240605T115547Z
LAST-MODIFIED:20240605T115548Z
UID:10000836-1717696800-1717704000@centoincroci.regione.lazio.it
SUMMARY:Corso di maglia
DESCRIPTION:Ogni giovedì dalle ore 18 alle ore 19.30 Cento Incroci ospita un corso di maglia. \nPrenotazioni tramite telefono o whatsapp al numero 3665616955
URL:https://centoincroci.regione.lazio.it/evento/corso-di-maglia/
CATEGORIES:I Laboratori
ATTACH;FMTTYPE=image/jpeg:https://centoincroci.regione.lazio.it/app/uploads/2024/06/corso-maglia.jpg
END:VEVENT
BEGIN:VEVENT
DTSTART;TZID=Europe/Rome:20240531T180000
DTEND;TZID=Europe/Rome:20240531T200000
DTSTAMP:20260422T032006
CREATED:20240506T070019Z
LAST-MODIFIED:20240506T070020Z
UID:10001052-1717178400-1717185600@centoincroci.regione.lazio.it
SUMMARY:Corso italiano per stranieri
DESCRIPTION:Ogni venerdì dalle ore 18 alle 20 Cento Incroci ospita un corso italiano per stranieri. \nPrenotazioni tramite telefono o whatsapp al numero 3665616955
URL:https://centoincroci.regione.lazio.it/evento/corso-italiano-per-stranieri-4/
CATEGORIES:I Laboratori
ATTACH;FMTTYPE=image/jpeg:https://centoincroci.regione.lazio.it/app/uploads/2022/06/italiano.jpg
END:VEVENT
BEGIN:VEVENT
DTSTART;TZID=Europe/Rome:20240528T180000
DTEND;TZID=Europe/Rome:20240528T193000
DTSTAMP:20260422T032006
CREATED:20240506T071703Z
LAST-MODIFIED:20240506T071704Z
UID:10001057-1716919200-1716924600@centoincroci.regione.lazio.it
SUMMARY:Corso dedicato all'utilizzo delle app e dello smartphone
DESCRIPTION:Da martedì 14 maggio dalle ore 18 alle ore 19.30 Cento Incroci ospita un corso dedicato all’utilizzo delle app e dello smartphone. \nPrenotazioni tramite telefono o whatsapp al numero 3665616955
URL:https://centoincroci.regione.lazio.it/evento/corso-dedicato-allutilizzo-delle-app-e-dello-smartphone-3/
CATEGORIES:I Laboratori
ATTACH;FMTTYPE=image/jpeg:https://centoincroci.regione.lazio.it/app/uploads/2024/05/Casa-domotica-ecco-le-5-migliori-app-per-controllare-tutto-dallo-smartphone.jpg
END:VEVENT
BEGIN:VEVENT
DTSTART;TZID=Europe/Rome:20240527T180000
DTEND;TZID=Europe/Rome:20240527T200000
DTSTAMP:20260422T032006
CREATED:20240506T070244Z
LAST-MODIFIED:20240506T070245Z
UID:10001055-1716832800-1716840000@centoincroci.regione.lazio.it
SUMMARY:Laboratorio di lettura poetica
DESCRIPTION:Ogni lunedì dalle ore 18 alle ore 20 Cento Incroci ospita un Laboratorio di lettura poetica. \nPrenotazioni tramite telefono o whatsapp al numero 3665616955
URL:https://centoincroci.regione.lazio.it/evento/laboratorio-di-lettura-poetica-33/
CATEGORIES:I Laboratori
ATTACH;FMTTYPE=image/jpeg:https://centoincroci.regione.lazio.it/app/uploads/2022/05/poesia_laboratori.jpg
END:VEVENT
BEGIN:VEVENT
DTSTART;TZID=Europe/Rome:20240524T180000
DTEND;TZID=Europe/Rome:20240524T200000
DTSTAMP:20260422T032006
CREATED:20240506T065842Z
LAST-MODIFIED:20240506T065843Z
UID:10001051-1716573600-1716580800@centoincroci.regione.lazio.it
SUMMARY:Corso italiano per stranieri
DESCRIPTION:Ogni venerdì dalle ore 18 alle 20 Cento Incroci ospita un corso italiano per stranieri. \nPrenotazioni tramite telefono o whatsapp al numero 3665616955
URL:https://centoincroci.regione.lazio.it/evento/corso-italiano-per-stranieri-3/
CATEGORIES:I Laboratori
ATTACH;FMTTYPE=image/jpeg:https://centoincroci.regione.lazio.it/app/uploads/2022/06/italiano.jpg
END:VEVENT
BEGIN:VEVENT
DTSTART;TZID=Europe/Rome:20240521T180000
DTEND;TZID=Europe/Rome:20240521T193000
DTSTAMP:20260422T032006
CREATED:20240506T071603Z
LAST-MODIFIED:20240506T071604Z
UID:10001056-1716314400-1716319800@centoincroci.regione.lazio.it
SUMMARY:Corso dedicato all'utilizzo delle app e dello smartphone
DESCRIPTION:Da martedì 14 maggio dalle ore 18 alle ore 19.30 Cento Incroci ospita un corso dedicato all’utilizzo delle app e dello smartphone. \nPrenotazioni tramite telefono o whatsapp al numero 3665616955
URL:https://centoincroci.regione.lazio.it/evento/corso-dedicato-allutilizzo-delle-app-e-dello-smartphone-2/
CATEGORIES:I Laboratori
ATTACH;FMTTYPE=image/jpeg:https://centoincroci.regione.lazio.it/app/uploads/2024/05/Casa-domotica-ecco-le-5-migliori-app-per-controllare-tutto-dallo-smartphone.jpg
END:VEVENT
BEGIN:VEVENT
DTSTART;TZID=Europe/Rome:20240520T180000
DTEND;TZID=Europe/Rome:20240520T200000
DTSTAMP:20260422T032006
CREATED:20240506T070149Z
LAST-MODIFIED:20240506T070150Z
UID:10001054-1716228000-1716235200@centoincroci.regione.lazio.it
SUMMARY:Laboratorio di lettura poetica
DESCRIPTION:Ogni lunedì dalle ore 18 alle ore 20 Cento Incroci ospita un Laboratorio di lettura poetica. \nPrenotazioni tramite telefono o whatsapp al numero 3665616955
URL:https://centoincroci.regione.lazio.it/evento/laboratorio-di-lettura-poetica-32/
CATEGORIES:I Laboratori
ATTACH;FMTTYPE=image/jpeg:https://centoincroci.regione.lazio.it/app/uploads/2022/05/poesia_laboratori.jpg
END:VEVENT
BEGIN:VEVENT
DTSTART;TZID=Europe/Rome:20240518T180000
DTEND;TZID=Europe/Rome:20240518T190000
DTSTAMP:20260422T032006
CREATED:20240506T072853Z
LAST-MODIFIED:20240506T072854Z
UID:10001058-1716055200-1716058800@centoincroci.regione.lazio.it
SUMMARY:Presentazione e reading dedicati alla mostra Senzatomica
DESCRIPTION:Sabato 18 maggio alle ore 18 Cento Incroci ospita la presentazione e reading dedicati alla mostra Senzatomica.\nIl Reading che proponiamo è basato su “Pro e contro l’atomica” di Elsa Morante e “Il quaderno di Hiroshima” di Daisaku Ikeda.  Un percorso di parole che uniscono la parte etica e morale dell’artista/cittadino che non può e non vuole cedere all’istinto di disintegrazione del genere umano e la parte dei fatti realmente accaduti e raccontata dai sopravvissuti riguardo le esplosioni della bomba atomica sia a Hiroshima che a Nagasaki. Il tutto sostenuto da alcuni celebri estratti che risvegliano un senso di umanità pacifica disposta a dire NO a ciò che toglie dignità alla vita e che combatte\, invece\, per la sua preservazione. \nTutte le info riguardanti la mostra sono disponibili sul sito ufficiale https://senzatomica.it/mostra-senzatomica/ \nBrochure Senzatomica
URL:https://centoincroci.regione.lazio.it/evento/presentazione-e-reading-dedicati-alla-mostra-senzatomica/
CATEGORIES:Incontri
ATTACH;FMTTYPE=image/png:https://centoincroci.regione.lazio.it/app/uploads/2024/05/senzatomica.png
END:VEVENT
BEGIN:VEVENT
DTSTART;TZID=Europe/Rome:20240517T180000
DTEND;TZID=Europe/Rome:20240517T200000
DTSTAMP:20260422T032006
CREATED:20240506T065731Z
LAST-MODIFIED:20240506T065732Z
UID:10001050-1715968800-1715976000@centoincroci.regione.lazio.it
SUMMARY:Corso italiano per stranieri
DESCRIPTION:Ogni venerdì dalle ore 18 alle 20 Cento Incroci ospita un corso italiano per stranieri. \nPrenotazioni tramite telefono o whatsapp al numero 3665616955
URL:https://centoincroci.regione.lazio.it/evento/corso-italiano-per-stranieri-2/
CATEGORIES:I Laboratori
ATTACH;FMTTYPE=image/jpeg:https://centoincroci.regione.lazio.it/app/uploads/2022/06/italiano.jpg
END:VEVENT
BEGIN:VEVENT
DTSTART;TZID=Europe/Rome:20240516T180000
DTEND;TZID=Europe/Rome:20240516T200000
DTSTAMP:20260422T032006
CREATED:20240506T065129Z
LAST-MODIFIED:20240507T102142Z
UID:10001048-1715882400-1715889600@centoincroci.regione.lazio.it
SUMMARY:Workshop di Hatha Yoga
DESCRIPTION:Giovedì 9 e 16 maggio dalle ore 18 alle ore 20 Cento Incroci ospita un workshop di Hatha Yoga. \nPrenotazioni tramite telefono o whatsapp al numero 3665616955
URL:https://centoincroci.regione.lazio.it/evento/workshop-di-hata-yoga-2/
CATEGORIES:I Laboratori
ATTACH;FMTTYPE=image/webp:https://centoincroci.regione.lazio.it/app/uploads/2024/05/hatha-yoga.jpg.webp
END:VEVENT
BEGIN:VEVENT
DTSTART;TZID=Europe/Rome:20240515T180000
DTEND;TZID=Europe/Rome:20240515T190000
DTSTAMP:20260422T032006
CREATED:20240506T054950Z
LAST-MODIFIED:20240506T071900Z
UID:10001046-1715796000-1715799600@centoincroci.regione.lazio.it
SUMMARY:Corso inglese bambini dai 6 ai 12 anni
DESCRIPTION:Mercoledì 8 e 15 maggio dalle ore 18 alle 19 Cento Incroci ospita un corso di inglese per bambini dai 6 ai 12 anni. \nPrenotazioni tramite telefono o whatsapp al numero 3665616955
URL:https://centoincroci.regione.lazio.it/evento/corso-inglese-bambini-dai-6-ai-12-anni-2/
CATEGORIES:I Laboratori
ATTACH;FMTTYPE=image/jpeg:https://centoincroci.regione.lazio.it/app/uploads/2024/05/corsi-di-inglese-per-bambini-roma-2-1024x576-1.jpg
END:VEVENT
BEGIN:VEVENT
DTSTART;TZID=Europe/Rome:20240514T180000
DTEND;TZID=Europe/Rome:20240514T193000
DTSTAMP:20260422T032006
CREATED:20240506T054324Z
LAST-MODIFIED:20240506T071524Z
UID:10001044-1715709600-1715715000@centoincroci.regione.lazio.it
SUMMARY:Corso dedicato all'utilizzo delle app e dello smartphone
DESCRIPTION:Da martedì 14 maggio dalle ore 18 alle ore 19.30 Cento Incroci ospita un corso dedicato all’utilizzo delle app e dello smartphone. \nPrenotazioni tramite telefono o whatsapp al numero 3665616955
URL:https://centoincroci.regione.lazio.it/evento/corso-dedicato-allutilizzo-delle-app-e-dello-smartphone/
CATEGORIES:I Laboratori
ATTACH;FMTTYPE=image/jpeg:https://centoincroci.regione.lazio.it/app/uploads/2024/05/Casa-domotica-ecco-le-5-migliori-app-per-controllare-tutto-dallo-smartphone.jpg
END:VEVENT
BEGIN:VEVENT
DTSTART;TZID=Europe/Rome:20240513T180000
DTEND;TZID=Europe/Rome:20240513T200000
DTSTAMP:20260422T032006
CREATED:20240506T070115Z
LAST-MODIFIED:20240506T070116Z
UID:10001053-1715623200-1715630400@centoincroci.regione.lazio.it
SUMMARY:Laboratorio di lettura poetica
DESCRIPTION:Ogni lunedì dalle ore 18 alle ore 20 Cento Incroci ospita un Laboratorio di lettura poetica. \nPrenotazioni tramite telefono o whatsapp al numero 3665616955
URL:https://centoincroci.regione.lazio.it/evento/laboratorio-di-lettura-poetica-31/
CATEGORIES:I Laboratori
ATTACH;FMTTYPE=image/jpeg:https://centoincroci.regione.lazio.it/app/uploads/2022/05/poesia_laboratori.jpg
END:VEVENT
BEGIN:VEVENT
DTSTART;TZID=Europe/Rome:20240510T180000
DTEND;TZID=Europe/Rome:20240510T200000
DTSTAMP:20260422T032006
CREATED:20240506T065334Z
LAST-MODIFIED:20240506T065335Z
UID:10001049-1715364000-1715371200@centoincroci.regione.lazio.it
SUMMARY:Corso italiano per stranieri
DESCRIPTION:Ogni venerdì dalle ore 18 alle 20 Cento Incroci ospita un corso italiano per stranieri. \nPrenotazioni tramite telefono o whatsapp al numero 3665616955
URL:https://centoincroci.regione.lazio.it/evento/corso-italiano-per-stranieri/
CATEGORIES:I Laboratori
ATTACH;FMTTYPE=image/jpeg:https://centoincroci.regione.lazio.it/app/uploads/2022/06/italiano.jpg
END:VEVENT
BEGIN:VEVENT
DTSTART;TZID=Europe/Rome:20240509T180000
DTEND;TZID=Europe/Rome:20240509T200000
DTSTAMP:20260422T032006
CREATED:20240506T065042Z
LAST-MODIFIED:20240507T102218Z
UID:10001047-1715277600-1715284800@centoincroci.regione.lazio.it
SUMMARY:Workshop di Hatha Yoga
DESCRIPTION:Giovedì 9 e 16 maggio dalle ore 18 alle ore 20 Cento Incroci ospita un workshop di Hatha Yoga. \nPrenotazioni tramite telefono o whatsapp al numero 3665616955
URL:https://centoincroci.regione.lazio.it/evento/workshop-di-hata-yoga/
ATTACH;FMTTYPE=image/webp:https://centoincroci.regione.lazio.it/app/uploads/2024/05/hatha-yoga.jpg.webp
END:VEVENT
BEGIN:VEVENT
DTSTART;TZID=Europe/Rome:20240508T180000
DTEND;TZID=Europe/Rome:20240508T190000
DTSTAMP:20260422T032006
CREATED:20240506T054750Z
LAST-MODIFIED:20240506T071827Z
UID:10001045-1715191200-1715194800@centoincroci.regione.lazio.it
SUMMARY:Corso inglese bambini dai 6 ai 12 anni
DESCRIPTION:Mercoledì 8 e 15 maggio dalle ore 18 alle 19 Cento Incroci ospita un corso di inglese per bambini dai 6 ai 12 anni. \nPrenotazioni tramite telefono o whatsapp al numero 3665616955
URL:https://centoincroci.regione.lazio.it/evento/corso-inglese-bambini-dai-6-ai-12-anni/
CATEGORIES:I Laboratori
ATTACH;FMTTYPE=image/jpeg:https://centoincroci.regione.lazio.it/app/uploads/2024/05/corsi-di-inglese-per-bambini-roma-2-1024x576-1.jpg
END:VEVENT
BEGIN:VEVENT
DTSTART;TZID=Europe/Rome:20240506T180000
DTEND;TZID=Europe/Rome:20240506T200000
DTSTAMP:20260422T032006
CREATED:20240506T054025Z
LAST-MODIFIED:20240506T064710Z
UID:10001043-1715018400-1715025600@centoincroci.regione.lazio.it
SUMMARY:Laboratorio di lettura poetica
DESCRIPTION:Ogni lunedì dalle ore 18 alle ore 20 Cento Incroci ospita un Laboratorio di lettura poetica. \nPrenotazioni tramite telefono o whatsapp al numero 3665616955
URL:https://centoincroci.regione.lazio.it/evento/1510/
CATEGORIES:I Laboratori
ATTACH;FMTTYPE=image/jpeg:https://centoincroci.regione.lazio.it/app/uploads/2022/05/poesia_laboratori.jpg
END:VEVENT
BEGIN:VEVENT
DTSTART;VALUE=DATE:20240416
DTEND;VALUE=DATE:20240501
DTSTAMP:20260422T032006
CREATED:20240416T111159Z
LAST-MODIFIED:20240416T111159Z
UID:10001042-1713225600-1714521599@centoincroci.regione.lazio.it
SUMMARY:Spazio coworking- Orari
DESCRIPTION:Lo spazio coworking di Cento Incroci vi aspetta tutti i giorni con i seguenti orari \n\n dal lunedì al venerdì dalle ore 9 alle 18\n sabato e domenica dalle 10 alle 20
URL:https://centoincroci.regione.lazio.it/evento/spazio-coworking-orari/
CATEGORIES:Incontri
ATTACH;FMTTYPE=image/jpeg:https://centoincroci.regione.lazio.it/app/uploads/2024/04/339737201_1384829545390398_5164164649820751090_n.jpg
END:VEVENT
END:VCALENDAR