BEGIN:VCALENDAR
VERSION:2.0
PRODID:-//Cento incroci - ECPv6.8.3//NONSGML v1.0//EN
CALSCALE:GREGORIAN
METHOD:PUBLISH
X-WR-CALNAME:Cento incroci
X-ORIGINAL-URL:https://centoincroci.regione.lazio.it
X-WR-CALDESC:Eventi per Cento incroci
REFRESH-INTERVAL;VALUE=DURATION:PT1H
X-Robots-Tag:noindex
X-PUBLISHED-TTL:PT1H
BEGIN:VTIMEZONE
TZID:Europe/Rome
BEGIN:DAYLIGHT
TZOFFSETFROM:+0100
TZOFFSETTO:+0200
TZNAME:CEST
DTSTART:20240331T010000
END:DAYLIGHT
BEGIN:STANDARD
TZOFFSETFROM:+0200
TZOFFSETTO:+0100
TZNAME:CET
DTSTART:20241027T010000
END:STANDARD
BEGIN:DAYLIGHT
TZOFFSETFROM:+0100
TZOFFSETTO:+0200
TZNAME:CEST
DTSTART:20250330T010000
END:DAYLIGHT
BEGIN:STANDARD
TZOFFSETFROM:+0200
TZOFFSETTO:+0100
TZNAME:CET
DTSTART:20251026T010000
END:STANDARD
END:VTIMEZONE
BEGIN:VEVENT
DTSTART;TZID=Europe/Rome:20250131T170000
DTEND;TZID=Europe/Rome:20250131T200000
DTSTAMP:20260421T221732
CREATED:20250123T145704Z
LAST-MODIFIED:20250123T145705Z
UID:10001121-1738342800-1738353600@centoincroci.regione.lazio.it
SUMMARY:Corso di italiano per stranieri
DESCRIPTION:Ogni venerdì dalle ore 17 alle ore 20 Cento Incroci ospita un corso di Italiano per stranieri livello base e intermedio svolto da Pina Frattale ente ANPI.\nLaboratorio gratuito\, previa prenotazione. \nPrenotazioni tramite telefono o whatsapp al numero 3665616955
URL:https://centoincroci.regione.lazio.it/evento/corso-di-italiano-per-stranieri-28/
CATEGORIES:I Laboratori
ATTACH;FMTTYPE=image/jpeg:https://centoincroci.regione.lazio.it/app/uploads/2024/06/Corso-italiano-per-stranieri.jpg
END:VEVENT
BEGIN:VEVENT
DTSTART;TZID=Europe/Rome:20250130T170000
DTEND;TZID=Europe/Rome:20250130T190000
DTSTAMP:20260421T221732
CREATED:20250123T145219Z
LAST-MODIFIED:20250123T145220Z
UID:10001116-1738256400-1738263600@centoincroci.regione.lazio.it
SUMMARY:Laboratorio di uncinetto
DESCRIPTION:Ogni giovedì dalle ore 17 alle ore 19 Cento Incroci ospita un Laboratorio creativo per tramandare l’arte dell’uncinetto alle nuove generazioni.\nLaboratorio gratuito\, previa prenotazione. \nPrenotazioni tramite telefono o whatsapp al numero 3665616955
URL:https://centoincroci.regione.lazio.it/evento/laboratorio-di-uncinetto/
CATEGORIES:I Laboratori
ATTACH;FMTTYPE=image/jpeg:https://centoincroci.regione.lazio.it/app/uploads/2025/01/uncinetto.jpg
END:VEVENT
BEGIN:VEVENT
DTSTART;TZID=Europe/Rome:20250129T170000
DTEND;TZID=Europe/Rome:20250129T190000
DTSTAMP:20260421T221732
CREATED:20250123T144617Z
LAST-MODIFIED:20250123T144617Z
UID:10001111-1738170000-1738177200@centoincroci.regione.lazio.it
SUMMARY:Laboratorio di teatro
DESCRIPTION:Ogni mercoledì dalle ore 17 alle ore 19 Cento Incroci ospita un Laboratorio di teatro rivolto a giovani e adulti.\nLaboratorio gratuito\, previa prenotazione. \nPrenotazioni tramite telefono o whatsapp al numero 3665616955
URL:https://centoincroci.regione.lazio.it/evento/laboratorio-di-teatro-6/
CATEGORIES:I Laboratori
ATTACH;FMTTYPE=image/jpeg:https://centoincroci.regione.lazio.it/app/uploads/2025/01/laboratorio-teatrale.jpg
END:VEVENT
BEGIN:VEVENT
DTSTART;TZID=Europe/Rome:20250127T180000
DTEND;TZID=Europe/Rome:20250127T200000
DTSTAMP:20260421T221732
CREATED:20250123T143721Z
LAST-MODIFIED:20250123T143722Z
UID:10001106-1738000800-1738008000@centoincroci.regione.lazio.it
SUMMARY:Laboratorio di lettura\, ascolto e scrittura poetica
DESCRIPTION:Ogni lunedì dalle ore 18 alle ore 20 Cento Incroci ospita un Laboratorio di lettura poetica. \nPrenotazioni tramite telefono o whatsapp al numero 3665616955
URL:https://centoincroci.regione.lazio.it/evento/laboratorio-di-lettura-ascolto-e-scrittura-poetica/
CATEGORIES:Leggiamo insieme
ATTACH;FMTTYPE=image/jpeg:https://centoincroci.regione.lazio.it/app/uploads/2024/07/5ba7b5ed7357e236133832524f8fc5.jpg
END:VEVENT
BEGIN:VEVENT
DTSTART;TZID=Europe/Rome:20250125T163000
DTEND;TZID=Europe/Rome:20250125T190000
DTSTAMP:20260421T221732
CREATED:20250123T150356Z
LAST-MODIFIED:20250123T150357Z
UID:10001126-1737822600-1737831600@centoincroci.regione.lazio.it
SUMMARY:Giuseppe Spinillo: lettura delle sue poesie
DESCRIPTION:Sabato 25 gennaio dalle ore 16:30 alle ore 19:00 Giuseppe Spinillo\, presso Cento Incroci\, propone letture delle sue poesie.\nInformazioni tramite telefono o whatsapp al numero 3665616955
URL:https://centoincroci.regione.lazio.it/evento/giuseppe-spinillo-lettura-delle-sue-poesie/
CATEGORIES:Leggiamo insieme
ATTACH;FMTTYPE=image/jpeg:https://centoincroci.regione.lazio.it/app/uploads/2025/01/1679358561-tea-time-g78646d070-1920.jpg
END:VEVENT
BEGIN:VEVENT
DTSTART;TZID=Europe/Rome:20250107T080000
DTEND;TZID=Europe/Rome:20250108T200000
DTSTAMP:20260421T221732
CREATED:20241218T154721Z
LAST-MODIFIED:20241218T154722Z
UID:10000883-1736236800-1736366400@centoincroci.regione.lazio.it
SUMMARY:Spazio coworking
DESCRIPTION:Disponibilità dello spazio coworking\, fruibile gratuitamente. \nPer maggiori info 3665616955
URL:https://centoincroci.regione.lazio.it/evento/spazio-coworking-6/
CATEGORIES:Incontri
ATTACH;FMTTYPE=image/jpeg:https://centoincroci.regione.lazio.it/app/uploads/2024/04/339737201_1384829545390398_5164164649820751090_n.jpg
END:VEVENT
BEGIN:VEVENT
DTSTART;VALUE=DATE:20250106
DTEND;VALUE=DATE:20250107
DTSTAMP:20260421T221732
CREATED:20241218T154100Z
LAST-MODIFIED:20241218T154749Z
UID:10000878-1736121600-1736207999@centoincroci.regione.lazio.it
SUMMARY:Chiusura Festività Cento Incroci
DESCRIPTION:Nelle giornate del 25\, 26 dicembre e 1 e 6 gennaio Cento Incroci resterà chiuso per le festività di Natale
URL:https://centoincroci.regione.lazio.it/evento/chiusura-festivita-cento-incroci-2/
CATEGORIES:Incontri
ATTACH;FMTTYPE=image/jpeg:https://centoincroci.regione.lazio.it/app/uploads/2021/01/image00009-scaled.jpeg
END:VEVENT
BEGIN:VEVENT
DTSTART;TZID=Europe/Rome:20250102T170000
DTEND;TZID=Europe/Rome:20250102T180000
DTSTAMP:20260421T221732
CREATED:20241218T153217Z
LAST-MODIFIED:20241218T154317Z
UID:10001102-1735837200-1735840800@centoincroci.regione.lazio.it
SUMMARY:Sportello di ascolto psicologico
DESCRIPTION:Presso Cento Incroci è attivo uno Sportello di Ascolto psicologico gratuito. Lo sportello è curato dall’Associazione Ce.R.F. \nAperto tutti i giovedì\, dalle ore 17 alle ore 18.\nPer maggiori info 3665616955
URL:https://centoincroci.regione.lazio.it/evento/sportello-di-ascolto-psicologico-24/
CATEGORIES:Gli Sportelli
ATTACH;FMTTYPE=image/jpeg:https://centoincroci.regione.lazio.it/app/uploads/2022/09/sportellopsicologico-foto.jpg
END:VEVENT
BEGIN:VEVENT
DTSTART;TZID=Europe/Rome:20250102T080000
DTEND;TZID=Europe/Rome:20250102T170000
DTSTAMP:20260421T221732
CREATED:20241218T152942Z
LAST-MODIFIED:20241218T155409Z
UID:10001101-1735804800-1735837200@centoincroci.regione.lazio.it
SUMMARY:Spazio coworking
DESCRIPTION:Disponibilità dello spazio coworking\, fruibile gratuitamente. \nPer questa giornata lo spazio è disponibile dalle ore 8 alle 17 e dalle 18 alle 20 \nPer maggiori info 3665616955.
URL:https://centoincroci.regione.lazio.it/evento/spazio-coworking-3/
CATEGORIES:Incontri
ATTACH;FMTTYPE=image/jpeg:https://centoincroci.regione.lazio.it/app/uploads/2024/04/339737201_1384829545390398_5164164649820751090_n.jpg
END:VEVENT
BEGIN:VEVENT
DTSTART;VALUE=DATE:20250101
DTEND;VALUE=DATE:20250102
DTSTAMP:20260421T221732
CREATED:20241218T154021Z
LAST-MODIFIED:20241218T154835Z
UID:10000876-1735689600-1735775999@centoincroci.regione.lazio.it
SUMMARY:Chiusura festività Cento Incroci
DESCRIPTION:Nelle giornate del 25\, 26 dicembre e 1 e 6 gennaio Cento Incroci resterà chiuso per le festività di Natale
URL:https://centoincroci.regione.lazio.it/evento/chiusura-festivita-cento-incroci/
CATEGORIES:Incontri
ATTACH;FMTTYPE=image/jpeg:https://centoincroci.regione.lazio.it/app/uploads/2021/01/image00009-scaled.jpeg
END:VEVENT
BEGIN:VEVENT
DTSTART;TZID=Europe/Rome:20241230T080000
DTEND;TZID=Europe/Rome:20241230T200000
DTSTAMP:20260421T221732
CREATED:20241218T155953Z
LAST-MODIFIED:20241218T155954Z
UID:10000891-1735545600-1735588800@centoincroci.regione.lazio.it
SUMMARY:Spazio coworking
DESCRIPTION:Disponibilità dello spazio coworking\, fruibile gratuitamente. \nPer maggiori info 3665616955
URL:https://centoincroci.regione.lazio.it/evento/spazio-coworking-10/
CATEGORIES:Incontri
ATTACH;FMTTYPE=image/jpeg:https://centoincroci.regione.lazio.it/app/uploads/2024/04/339737201_1384829545390398_5164164649820751090_n.jpg
END:VEVENT
BEGIN:VEVENT
DTSTART;TZID=Europe/Rome:20241229T080000
DTEND;TZID=Europe/Rome:20241229T200000
DTSTAMP:20260421T221732
CREATED:20241218T155901Z
LAST-MODIFIED:20241218T155902Z
UID:10000889-1735459200-1735502400@centoincroci.regione.lazio.it
SUMMARY:Spazio coworking
DESCRIPTION:Disponibilità dello spazio coworking\, fruibile gratuitamente. \nPer maggiori info 3665616955
URL:https://centoincroci.regione.lazio.it/evento/spazio-coworking-9/
CATEGORIES:Incontri
ATTACH;FMTTYPE=image/jpeg:https://centoincroci.regione.lazio.it/app/uploads/2024/04/339737201_1384829545390398_5164164649820751090_n.jpg
END:VEVENT
BEGIN:VEVENT
DTSTART;TZID=Europe/Rome:20241228T080000
DTEND;TZID=Europe/Rome:20241228T200000
DTSTAMP:20260421T221732
CREATED:20241218T155621Z
LAST-MODIFIED:20241218T155622Z
UID:10000887-1735372800-1735416000@centoincroci.regione.lazio.it
SUMMARY:Spazio coworking
DESCRIPTION:Disponibilità dello spazio coworking\, fruibile gratuitamente. \nPer maggiori info 3665616955
URL:https://centoincroci.regione.lazio.it/evento/spazio-coworking-8/
CATEGORIES:Incontri
ATTACH;FMTTYPE=image/jpeg:https://centoincroci.regione.lazio.it/app/uploads/2024/04/339737201_1384829545390398_5164164649820751090_n.jpg
END:VEVENT
BEGIN:VEVENT
DTSTART;TZID=Europe/Rome:20241227T080000
DTEND;TZID=Europe/Rome:20241227T170000
DTSTAMP:20260421T221732
CREATED:20241218T153410Z
LAST-MODIFIED:20241218T155133Z
UID:10001103-1735286400-1735318800@centoincroci.regione.lazio.it
SUMMARY:Spazio coworking
DESCRIPTION:Disponibilità dello spazio coworking\, fruibile gratuitamente. \nPer questa giornata lo spazio è disponibile dalle ore 8 alle 17 \nPer maggiori info 3665616955
URL:https://centoincroci.regione.lazio.it/evento/spazio-coworking-4/
CATEGORIES:Incontri
ATTACH;FMTTYPE=image/jpeg:https://centoincroci.regione.lazio.it/app/uploads/2024/04/339737201_1384829545390398_5164164649820751090_n.jpg
END:VEVENT
BEGIN:VEVENT
DTSTART;VALUE=DATE:20241225
DTEND;VALUE=DATE:20241227
DTSTAMP:20260421T221732
CREATED:20241218T153925Z
LAST-MODIFIED:20241218T153941Z
UID:10001105-1735084800-1735257599@centoincroci.regione.lazio.it
SUMMARY:Chiusura Festività Cento Incroci
DESCRIPTION:Nelle giornate del 25\, 26 dicembre e 1 e 6 gennaio Cento Incroci resterà chiuso per le festività di Natale
URL:https://centoincroci.regione.lazio.it/evento/chiusura-festiva-cento-incroci/
CATEGORIES:Incontri
ATTACH;FMTTYPE=image/jpeg:https://centoincroci.regione.lazio.it/app/uploads/2021/01/image00001-scaled.jpeg
END:VEVENT
BEGIN:VEVENT
DTSTART;TZID=Europe/Rome:20241224T080000
DTEND;TZID=Europe/Rome:20241224T200000
DTSTAMP:20260421T221732
CREATED:20241218T152521Z
LAST-MODIFIED:20241218T155319Z
UID:10001100-1735027200-1735070400@centoincroci.regione.lazio.it
SUMMARY:Spazio coworking
DESCRIPTION:Disponibilità dello spazio coworking\, fruibile gratuitamente. \nPer maggiori info 3665616955.
URL:https://centoincroci.regione.lazio.it/evento/spazio-coworking-2/
CATEGORIES:Incontri
ATTACH;FMTTYPE=image/jpeg:https://centoincroci.regione.lazio.it/app/uploads/2024/04/339737201_1384829545390398_5164164649820751090_n.jpg
END:VEVENT
BEGIN:VEVENT
DTSTART;TZID=Europe/Rome:20241223T080000
DTEND;TZID=Europe/Rome:20241223T200000
DTSTAMP:20260421T221732
CREATED:20241218T152432Z
LAST-MODIFIED:20241218T152432Z
UID:10001099-1734940800-1734984000@centoincroci.regione.lazio.it
SUMMARY:Spazio coworking
DESCRIPTION:Disponibilità dello spazio coworking\, fruibile gratuitamente. \nPer maggiori info 3665616955.
URL:https://centoincroci.regione.lazio.it/evento/spazio-coworking/
CATEGORIES:Incontri
ATTACH;FMTTYPE=image/jpeg:https://centoincroci.regione.lazio.it/app/uploads/2024/04/339737201_1384829545390398_5164164649820751090_n.jpg
END:VEVENT
BEGIN:VEVENT
DTSTART;TZID=Europe/Rome:20241222T080000
DTEND;TZID=Europe/Rome:20241222T200000
DTSTAMP:20260421T221732
CREATED:20241218T155518Z
LAST-MODIFIED:20241218T155518Z
UID:10000885-1734854400-1734897600@centoincroci.regione.lazio.it
SUMMARY:Spazio coworking
DESCRIPTION:Disponibilità dello spazio coworking\, fruibile gratuitamente. \nPer maggiori info 3665616955
URL:https://centoincroci.regione.lazio.it/evento/spazio-coworking-7/
CATEGORIES:Incontri
ATTACH;FMTTYPE=image/jpeg:https://centoincroci.regione.lazio.it/app/uploads/2024/04/339737201_1384829545390398_5164164649820751090_n.jpg
END:VEVENT
BEGIN:VEVENT
DTSTART;TZID=Europe/Rome:20241221T080000
DTEND;TZID=Europe/Rome:20241221T200000
DTSTAMP:20260421T221732
CREATED:20241218T154225Z
LAST-MODIFIED:20241218T155443Z
UID:10000880-1734768000-1734811200@centoincroci.regione.lazio.it
SUMMARY:Spazio coworking
DESCRIPTION:Disponibilità dello spazio coworking\, fruibile gratuitamente. \nPer maggiori info 3665616955
URL:https://centoincroci.regione.lazio.it/evento/spazio-coworking-5/
CATEGORIES:Incontri
ATTACH;FMTTYPE=image/jpeg:https://centoincroci.regione.lazio.it/app/uploads/2024/04/339737201_1384829545390398_5164164649820751090_n.jpg
END:VEVENT
BEGIN:VEVENT
DTSTART;TZID=Europe/Rome:20241220T170000
DTEND;TZID=Europe/Rome:20241220T180000
DTSTAMP:20260421T221732
CREATED:20241218T153705Z
LAST-MODIFIED:20241218T153705Z
UID:10001104-1734714000-1734717600@centoincroci.regione.lazio.it
SUMMARY:Corso di italiano per stranieri
DESCRIPTION:Presso Centro Incroci dalle ore 17 alle ore 20 ogni venerdì si tiene un corso di italiano per stranieri. \nPer info e prenotazioni: 366 5616955
URL:https://centoincroci.regione.lazio.it/evento/corso-di-italiano-per-stranieri-27/
CATEGORIES:I Laboratori
ATTACH;FMTTYPE=image/jpeg:https://centoincroci.regione.lazio.it/app/uploads/2024/06/Corso-italiano-per-stranieri.jpg
END:VEVENT
BEGIN:VEVENT
DTSTART;TZID=Europe/Rome:20241219T170000
DTEND;TZID=Europe/Rome:20241219T180000
DTSTAMP:20260421T221732
CREATED:20241218T154434Z
LAST-MODIFIED:20241218T154435Z
UID:10000881-1734627600-1734631200@centoincroci.regione.lazio.it
SUMMARY:Sportello di ascolto psicologico
DESCRIPTION:Presso Cento Incroci è attivo uno Sportello di Ascolto psicologico gratuito. Lo sportello è curato dall’Associazione Ce.R.F. \nAperto tutti i giovedì\, dalle ore 17 alle ore 18.\nPer maggiori info 3665616955
URL:https://centoincroci.regione.lazio.it/evento/sportello-di-ascolto-psicologico-25/
CATEGORIES:Gli Sportelli
ATTACH;FMTTYPE=image/jpeg:https://centoincroci.regione.lazio.it/app/uploads/2022/09/sportellopsicologico-foto.jpg
END:VEVENT
BEGIN:VEVENT
DTSTART;TZID=Europe/Rome:20241129T170000
DTEND;TZID=Europe/Rome:20241129T200000
DTSTAMP:20260421T221732
CREATED:20241104T093917Z
LAST-MODIFIED:20241104T093917Z
UID:10000874-1732899600-1732910400@centoincroci.regione.lazio.it
SUMMARY:Corso di italiano per stranieri
DESCRIPTION:Presso Centro Incroci dalle ore 17 alle ore 20 ogni venerdì si tiene un corso di italiano per stranieri. \nPer info e prenotazioni: 366 5616955
URL:https://centoincroci.regione.lazio.it/evento/corso-di-italiano-per-stranieri-26/
CATEGORIES:I Laboratori
ATTACH;FMTTYPE=image/jpeg:https://centoincroci.regione.lazio.it/app/uploads/2024/06/Corso-italiano-per-stranieri.jpg
END:VEVENT
BEGIN:VEVENT
DTSTART;TZID=Europe/Rome:20241128T170000
DTEND;TZID=Europe/Rome:20241128T180000
DTSTAMP:20260421T221732
CREATED:20241104T094404Z
LAST-MODIFIED:20241104T094405Z
UID:10001098-1732813200-1732816800@centoincroci.regione.lazio.it
SUMMARY:Sportello di Ascolto Psicologico
DESCRIPTION:Presso Cento Incroci è attivo uno Sportello di Ascolto psicologico gratuito. Lo sportello è curato dall’Associazione Ce.R.F. \nAperto tutti i giovedì dalle ore 17 alle ore 18. \nPer info e prenotazioni contattare: Dott.ssa Ilaria Avincola 3420432209\nAssociazione Ce.R.F. 0631054515\nemail: associazionecerf@gmail.com
URL:https://centoincroci.regione.lazio.it/evento/sportello-di-ascolto-psicologico-23/
CATEGORIES:Gli Sportelli
ATTACH;FMTTYPE=image/jpeg:https://centoincroci.regione.lazio.it/app/uploads/2022/09/sportellopsicologico-foto.jpg
END:VEVENT
BEGIN:VEVENT
DTSTART;TZID=Europe/Rome:20241127T180000
DTEND;TZID=Europe/Rome:20241127T200000
DTSTAMP:20260421T221732
CREATED:20241104T090154Z
LAST-MODIFIED:20241104T090155Z
UID:10001088-1732730400-1732737600@centoincroci.regione.lazio.it
SUMMARY:Corso di unicinetto - creazioni natalizie
DESCRIPTION:Ogni mercoledì\, a partire dal 20 novembre\, Cento Incroci ospita un Corso di uncinetto dedicato alle creazioni natalizie alle ore 18 fino alle 20. \nIngresso libero e gratuito\, su prenotazione\, fino ad esaurimento posti. \nPer prenotazioni scrivici su WhatsApp 3665616955
URL:https://centoincroci.regione.lazio.it/evento/corso-di-unicinetto-creazioni-natalizie/
CATEGORIES:I Laboratori
ATTACH;FMTTYPE=image/jpeg:https://centoincroci.regione.lazio.it/app/uploads/2024/11/IMG-20240826-WA0059-e1730713529165.jpg
END:VEVENT
BEGIN:VEVENT
DTSTART;TZID=Europe/Rome:20241122T170000
DTEND;TZID=Europe/Rome:20241122T200000
DTSTAMP:20260421T221732
CREATED:20241104T093840Z
LAST-MODIFIED:20241104T093841Z
UID:10000873-1732294800-1732305600@centoincroci.regione.lazio.it
SUMMARY:Corso di italiano per stranieri
DESCRIPTION:Presso Centro Incroci dalle ore 17 alle ore 20 ogni venerdì si tiene un corso di italiano per stranieri. \nPer info e prenotazioni: 366 5616955
URL:https://centoincroci.regione.lazio.it/evento/corso-di-italiano-per-stranieri-25/
CATEGORIES:I Laboratori
ATTACH;FMTTYPE=image/jpeg:https://centoincroci.regione.lazio.it/app/uploads/2024/06/Corso-italiano-per-stranieri.jpg
END:VEVENT
BEGIN:VEVENT
DTSTART;TZID=Europe/Rome:20241121T170000
DTEND;TZID=Europe/Rome:20241121T180000
DTSTAMP:20260421T221732
CREATED:20241104T094331Z
LAST-MODIFIED:20241104T094332Z
UID:10001097-1732208400-1732212000@centoincroci.regione.lazio.it
SUMMARY:Sportello di Ascolto Psicologico
DESCRIPTION:Presso Cento Incroci è attivo uno Sportello di Ascolto psicologico gratuito. Lo sportello è curato dall’Associazione Ce.R.F. \nAperto tutti i giovedì dalle ore 17 alle ore 18. \nPer info e prenotazioni contattare: Dott.ssa Ilaria Avincola 3420432209\nAssociazione Ce.R.F. 0631054515\nemail: associazionecerf@gmail.com
URL:https://centoincroci.regione.lazio.it/evento/sportello-di-ascolto-psicologico-22/
CATEGORIES:Gli Sportelli
ATTACH;FMTTYPE=image/jpeg:https://centoincroci.regione.lazio.it/app/uploads/2022/09/sportellopsicologico-foto.jpg
END:VEVENT
BEGIN:VEVENT
DTSTART;TZID=Europe/Rome:20241120T180000
DTEND;TZID=Europe/Rome:20241120T200000
DTSTAMP:20260421T221732
CREATED:20241104T085929Z
LAST-MODIFIED:20241104T094541Z
UID:10001087-1732125600-1732132800@centoincroci.regione.lazio.it
SUMMARY:Corso di uncinetto - creazioni natalizie
DESCRIPTION:Ogni mercoledì\, a partire dal 20 novembre\, Cento Incroci ospita un Corso di uncinetto dedicato alle creazioni natalizie alle ore 18 fino alle 20. \nIngresso libero\, su prenotazione\, fino ad esaurimento posti. \nPer prenotazioni scrivici su WhatsApp 3665616955
URL:https://centoincroci.regione.lazio.it/evento/corso-di-uncinetto-creazioni-natalizie/
CATEGORIES:I Laboratori
ATTACH;FMTTYPE=image/jpeg:https://centoincroci.regione.lazio.it/app/uploads/2024/11/IMG-20240826-WA0059-e1730713529165.jpg
END:VEVENT
BEGIN:VEVENT
DTSTART;TZID=Europe/Rome:20241120T170000
DTEND;TZID=Europe/Rome:20241120T180000
DTSTAMP:20260421T221732
CREATED:20241104T091554Z
LAST-MODIFIED:20241104T091555Z
UID:10001091-1732122000-1732125600@centoincroci.regione.lazio.it
SUMMARY:Sostegno ragazzi scuole medie
DESCRIPTION:Cento Incroci offre un servizio di sostegno e aiuto compiti rivolto ai ragazzi delle scuole medie. Il corso si terrà ogni mercoledì dalle 17:00 alle 18:00. \nIl corso è aperto a tutti gli studenti delle scuole medie che desiderano ricevere un sostegno extra nello studio\, e si svolgerà presso gli spazi di Cento Incroci. \nPrenotazioni tramite telefono o whatsapp al numero 3665616955
URL:https://centoincroci.regione.lazio.it/evento/sostegno-ragazzi-scuole-medie-6/
CATEGORIES:I Laboratori
ATTACH;FMTTYPE=image/jpeg:https://centoincroci.regione.lazio.it/app/uploads/2024/09/top-view-desk-with-child-being-tutored_23-2148524522.jpg
END:VEVENT
BEGIN:VEVENT
DTSTART;TZID=Europe/Rome:20241119T180000
DTEND;TZID=Europe/Rome:20241119T200000
DTSTAMP:20260421T221732
CREATED:20241104T092634Z
LAST-MODIFIED:20241104T092635Z
UID:10001095-1732039200-1732046400@centoincroci.regione.lazio.it
SUMMARY:Corso di informatica ed app
DESCRIPTION:Cento Incroci ospita un corso gratuito di informatica e utilizzo app aperto a tutti coloro che desiderano approfondire le proprie competenze digitali. Il corso si terrà ogni martedì dalle 18:00 alle 20:00 \nDurante il percorso formativo\, i partecipanti avranno l’opportunità di imparare le basi dell’informatica e ad utilizzare il computer in aspetti pratici di vita quotidiana. \nPrenotazioni tramite telefono o whatsapp al numero 3665616955
URL:https://centoincroci.regione.lazio.it/evento/corso-di-informatica-ed-app-3/
CATEGORIES:I Laboratori
ATTACH;FMTTYPE=image/jpeg:https://centoincroci.regione.lazio.it/app/uploads/2024/09/748852_35ba_3.jpg
END:VEVENT
BEGIN:VEVENT
DTSTART;TZID=Europe/Rome:20241118T180000
DTEND;TZID=Europe/Rome:20241118T200000
DTSTAMP:20260421T221732
CREATED:20241104T093134Z
LAST-MODIFIED:20241104T093135Z
UID:10000869-1731952800-1731960000@centoincroci.regione.lazio.it
SUMMARY:Laboratorio di lettura poetica
DESCRIPTION:Ogni lunedì dalle ore 18 alle ore 20 Cento Incroci ospita un Laboratorio di lettura poetica. \nPrenotazioni tramite telefono o whatsapp al numero 3665616955
URL:https://centoincroci.regione.lazio.it/evento/laboratorio-di-lettura-poetica-48/
CATEGORIES:Leggiamo insieme
ATTACH;FMTTYPE=image/jpeg:https://centoincroci.regione.lazio.it/app/uploads/2024/07/5ba7b5ed7357e236133832524f8fc5.jpg
END:VEVENT
END:VCALENDAR