BEGIN:VCALENDAR
VERSION:2.0
PRODID:-//Cento incroci - ECPv6.8.3//NONSGML v1.0//EN
CALSCALE:GREGORIAN
METHOD:PUBLISH
X-WR-CALNAME:Cento incroci
X-ORIGINAL-URL:https://centoincroci.regione.lazio.it
X-WR-CALDESC:Eventi per Cento incroci
REFRESH-INTERVAL;VALUE=DURATION:PT1H
X-Robots-Tag:noindex
X-PUBLISHED-TTL:PT1H
BEGIN:VTIMEZONE
TZID:Europe/Rome
BEGIN:DAYLIGHT
TZOFFSETFROM:+0100
TZOFFSETTO:+0200
TZNAME:CEST
DTSTART:20250330T010000
END:DAYLIGHT
BEGIN:STANDARD
TZOFFSETFROM:+0200
TZOFFSETTO:+0100
TZNAME:CET
DTSTART:20251026T010000
END:STANDARD
END:VTIMEZONE
BEGIN:VEVENT
DTSTART;TZID=Europe/Rome:20251028T090000
DTEND;TZID=Europe/Rome:20251028T100000
DTSTAMP:20260420T211254
CREATED:20250908T081227Z
LAST-MODIFIED:20260109T082004Z
UID:10002275-1761642000-1761645600@centoincroci.regione.lazio.it
SUMMARY:Sportello di ascolto psicologico
DESCRIPTION:Presso Cento Incroci è attivo uno Sportello di Ascolto psicologico gratuito. La psicologa offrirà ascolto\, supporto emotivo e strumenti per aiutare a gestire difficoltà e migliorare il benessere psicologico. \nAperto tutti i martedì\, dalle ore 9 alle ore 10.
URL:https://centoincroci.regione.lazio.it/evento/sportello-di-ascolto-psicologico-26/2025-10-28/
CATEGORIES:Incontri
ATTACH;FMTTYPE=image/jpeg:https://centoincroci.regione.lazio.it/app/uploads/2022/09/sportellopsicologico-foto.jpg
END:VEVENT
BEGIN:VEVENT
DTSTART;TZID=Europe/Rome:20251028T163000
DTEND;TZID=Europe/Rome:20251028T180000
DTSTAMP:20260420T211254
CREATED:20250908T081814Z
LAST-MODIFIED:20260109T082128Z
UID:10002040-1761669000-1761674400@centoincroci.regione.lazio.it
SUMMARY:Corso di inglese base per adulti
DESCRIPTION:Ogni martedì dalle ore 16.30 alle ore 18 Cento Incroci ospita un corso di inglese base per adulti. Attraverso lezioni pratiche e conversazioni reali\,aiuta ad aumentare la confidenza con la lingua inglese\nCorso gratuito\, previa prenotazione. \nPrenotazioni tramite telefono o whatsapp al numero 3665616955
URL:https://centoincroci.regione.lazio.it/evento/corso-di-inglese-base-per-adulti/2025-10-28/
CATEGORIES:I Laboratori
ATTACH;FMTTYPE=image/jpeg:https://centoincroci.regione.lazio.it/app/uploads/2025/09/disposizione-dei-libri-inglesi-vista-dall-alto-scaled-e1757319659105.jpg
END:VEVENT
BEGIN:VEVENT
DTSTART;TZID=Europe/Rome:20251029T170000
DTEND;TZID=Europe/Rome:20251029T190000
DTSTAMP:20260420T211254
CREATED:20250908T082417Z
LAST-MODIFIED:20260121T123119Z
UID:10002099-1761757200-1761764400@centoincroci.regione.lazio.it
SUMMARY:Laboratorio di teatro per bambini 6/12 anni
DESCRIPTION:Ogni mercoledì dalle ore 17 alle ore 19 Cento Incroci ospita un laboratorio di teatro per bambini 6/12 anni\, uno spazio creativo e divertente dove i bambini potranno sviluppare abilità sociali\, emotive e comunicative. \nCorso gratuito\, previa prenotazione. \nPrenotazioni tramite telefono o whatsapp al numero 3665616955
URL:https://centoincroci.regione.lazio.it/evento/laboratorio-di-teatro-per-bambini-6-12-anni/2025-10-29/
CATEGORIES:I Laboratori
ATTACH;FMTTYPE=image/jpeg:https://centoincroci.regione.lazio.it/app/uploads/2025/01/laboratorio-teatrale.jpg
END:VEVENT
BEGIN:VEVENT
DTSTART;TZID=Europe/Rome:20251030T173000
DTEND;TZID=Europe/Rome:20251030T190000
DTSTAMP:20260420T211254
CREATED:20250908T082642Z
LAST-MODIFIED:20250908T082643Z
UID:10002156-1761845400-1761850800@centoincroci.regione.lazio.it
SUMMARY:Corso informatica base
DESCRIPTION:Ogni giovedì dalle ore 17.30 alle ore 19 Cento Incroci ospita un corso informatica base\, progettato per fornire fondamenta per utilizzare il pc\, apprendere a gestire file e cartelle\, posta elettronica e navigare in modo sicuro. \nCorso gratuito\, previa prenotazione. \nPrenotazioni tramite telefono o whatsapp al numero 3665616955 \n 
URL:https://centoincroci.regione.lazio.it/evento/corso-informatica-base/2025-10-30/
CATEGORIES:I Laboratori
ATTACH;FMTTYPE=image/jpeg:https://centoincroci.regione.lazio.it/app/uploads/2024/09/748852_35ba_3.jpg
END:VEVENT
BEGIN:VEVENT
DTSTART;TZID=Europe/Rome:20251031T090000
DTEND;TZID=Europe/Rome:20251031T200000
DTSTAMP:20260420T211254
CREATED:20251027T165910Z
LAST-MODIFIED:20251027T165910Z
UID:10002391-1761901200-1761940800@centoincroci.regione.lazio.it
SUMMARY:Spazio coworking- orari
DESCRIPTION:Disponibilità dello spazio coworking\, fruibile gratuitamente nei seguenti orari\nlunedì dalle 9 alle 18\ndal martedì al venerdì dalle 9 alle 20\n sabato e domenica dalle 10 alle 20 \nPer maggiori info 3665616955
URL:https://centoincroci.regione.lazio.it/evento/spazio-coworking-orari-4/
CATEGORIES:Incontri
ATTACH;FMTTYPE=image/jpeg:https://centoincroci.regione.lazio.it/app/uploads/2024/04/339737201_1384829545390398_5164164649820751090_n.jpg
END:VEVENT
BEGIN:VEVENT
DTSTART;TZID=Europe/Rome:20251031T173000
DTEND;TZID=Europe/Rome:20251031T200000
DTSTAMP:20260420T211254
CREATED:20251001T082634Z
LAST-MODIFIED:20251027T164824Z
UID:10002333-1761931800-1761940800@centoincroci.regione.lazio.it
SUMMARY:Laboratorio di Halloween rivolto a bambini dai 6-12 anni -EVENTO ANNULLATO
DESCRIPTION:A Cento Incroci venerdì 31 ottobre dalle ore 17.30 alle 20 i bambini dai 6 ai 12 anni potranno partecipare al Laboratorio di Halloween\, con creazioni di pasta di sale e zucchero. \nIn via eccezionale solo per questa giornata il corso di italiano per stranieri sarà sospeso. \nPrenotazioni tramite telefono o whatsapp al numero 3665616955
URL:https://centoincroci.regione.lazio.it/evento/laboratorio-di-halloween-rivolto-a-bambini-dai-6-12-anni/
CATEGORIES:I Laboratori
ATTACH;FMTTYPE=image/jpeg:https://centoincroci.regione.lazio.it/app/uploads/2025/10/halloween-scaled-e1759307742771.jpg
END:VEVENT
BEGIN:VEVENT
DTSTART;VALUE=DATE:20251101
DTEND;VALUE=DATE:20251102
DTSTAMP:20260420T211254
CREATED:20251021T082701Z
LAST-MODIFIED:20251021T082703Z
UID:10002390-1761955200-1762041599@centoincroci.regione.lazio.it
SUMMARY:Chiusura Cento Incroci
DESCRIPTION:Si comunica che il giorno 1° novembre Cento Incroci resterà chiuso in occasione della Festa di Ognissanti.
URL:https://centoincroci.regione.lazio.it/evento/chiusura-cento-incroci-2/
CATEGORIES:Incontri
END:VEVENT
BEGIN:VEVENT
DTSTART;TZID=Europe/Rome:20251102T170000
DTEND;TZID=Europe/Rome:20251102T193000
DTSTAMP:20260420T211254
CREATED:20251017T081739Z
LAST-MODIFIED:20251017T081814Z
UID:10002389-1762102800-1762111800@centoincroci.regione.lazio.it
SUMMARY:Evento "Pasoliniana - 50 anni dalla morte di Pier Paolo Pasolini. Quale eredità?"
DESCRIPTION:Domenica 2 NOVEMBRE dalle 17:30 alle 19:30\, presso Cento Incroci\, si terrà l’evento  “PASOLINIANA\, 50 anni dalla morte di Pier Paolo Pasolini. Quale eredità?“\, ricordo dell’autore friulano attraverso le sue opere\, a 50 anni esatti dalla sua tragica scomparsa. \nIdeazione e progettazione: Claudio Lugi\nRealizzazione tecnica: Chiara Marasà e Moreno Celletti\nScenografie: Marino Sassi\nCon la partecipazione straordinaria di: Michele Suozzo\nE il contributo di: Grazia Arcidiacono e Massimo Gro \n  \nCENTO INCROCI\nVia delle Palme\, 158\n366 561 6955\ncentoincroci@laziocrea.it
URL:https://centoincroci.regione.lazio.it/evento/evento-pasoliniana-50-anni-dalla-morte-di-pier-paolo-pasolini-quale-eredita/
CATEGORIES:Incontri
ATTACH;FMTTYPE=image/jpeg:https://centoincroci.regione.lazio.it/app/uploads/2025/10/Locandina-02-10-2025.jpg
END:VEVENT
BEGIN:VEVENT
DTSTART;TZID=Europe/Rome:20251103T090000
DTEND;TZID=Europe/Rome:20251103T180000
DTSTAMP:20260420T211254
CREATED:20250702T122145Z
LAST-MODIFIED:20250702T123345Z
UID:10001554-1762160400-1762192800@centoincroci.regione.lazio.it
SUMMARY:Spazio coworking - orari
DESCRIPTION:Disponibilità dello spazio coworking\, fruibile gratuitamente nei seguenti orari\nlunedì dalle 9 alle 18\ndal martedì al venerdì dalle 9 alle 20\n sabato e domenica dalle 10 alle 20 \nPer maggiori info 3665616955
URL:https://centoincroci.regione.lazio.it/evento/spazio-coworking-orari-2/2025-11-03/
CATEGORIES:Incontri
ATTACH;FMTTYPE=image/jpeg:https://centoincroci.regione.lazio.it/app/uploads/2024/04/339737201_1384829545390398_5164164649820751090_n.jpg
END:VEVENT
BEGIN:VEVENT
DTSTART;TZID=Europe/Rome:20251104T090000
DTEND;TZID=Europe/Rome:20251104T100000
DTSTAMP:20260420T211254
CREATED:20250908T081227Z
LAST-MODIFIED:20260109T082004Z
UID:10002276-1762246800-1762250400@centoincroci.regione.lazio.it
SUMMARY:Sportello di ascolto psicologico
DESCRIPTION:Presso Cento Incroci è attivo uno Sportello di Ascolto psicologico gratuito. La psicologa offrirà ascolto\, supporto emotivo e strumenti per aiutare a gestire difficoltà e migliorare il benessere psicologico. \nAperto tutti i martedì\, dalle ore 9 alle ore 10.
URL:https://centoincroci.regione.lazio.it/evento/sportello-di-ascolto-psicologico-26/2025-11-04/
CATEGORIES:Incontri
ATTACH;FMTTYPE=image/jpeg:https://centoincroci.regione.lazio.it/app/uploads/2022/09/sportellopsicologico-foto.jpg
END:VEVENT
BEGIN:VEVENT
DTSTART;TZID=Europe/Rome:20251104T163000
DTEND;TZID=Europe/Rome:20251104T180000
DTSTAMP:20260420T211254
CREATED:20250908T081814Z
LAST-MODIFIED:20260109T082128Z
UID:10002041-1762273800-1762279200@centoincroci.regione.lazio.it
SUMMARY:Corso di inglese base per adulti
DESCRIPTION:Ogni martedì dalle ore 16.30 alle ore 18 Cento Incroci ospita un corso di inglese base per adulti. Attraverso lezioni pratiche e conversazioni reali\,aiuta ad aumentare la confidenza con la lingua inglese\nCorso gratuito\, previa prenotazione. \nPrenotazioni tramite telefono o whatsapp al numero 3665616955
URL:https://centoincroci.regione.lazio.it/evento/corso-di-inglese-base-per-adulti/2025-11-04/
CATEGORIES:I Laboratori
ATTACH;FMTTYPE=image/jpeg:https://centoincroci.regione.lazio.it/app/uploads/2025/09/disposizione-dei-libri-inglesi-vista-dall-alto-scaled-e1757319659105.jpg
END:VEVENT
BEGIN:VEVENT
DTSTART;TZID=Europe/Rome:20251105T170000
DTEND;TZID=Europe/Rome:20251105T190000
DTSTAMP:20260420T211254
CREATED:20250908T082417Z
LAST-MODIFIED:20260121T123119Z
UID:10002100-1762362000-1762369200@centoincroci.regione.lazio.it
SUMMARY:Laboratorio di teatro per bambini 6/12 anni
DESCRIPTION:Ogni mercoledì dalle ore 17 alle ore 19 Cento Incroci ospita un laboratorio di teatro per bambini 6/12 anni\, uno spazio creativo e divertente dove i bambini potranno sviluppare abilità sociali\, emotive e comunicative. \nCorso gratuito\, previa prenotazione. \nPrenotazioni tramite telefono o whatsapp al numero 3665616955
URL:https://centoincroci.regione.lazio.it/evento/laboratorio-di-teatro-per-bambini-6-12-anni/2025-11-05/
CATEGORIES:I Laboratori
ATTACH;FMTTYPE=image/jpeg:https://centoincroci.regione.lazio.it/app/uploads/2025/01/laboratorio-teatrale.jpg
END:VEVENT
BEGIN:VEVENT
DTSTART;TZID=Europe/Rome:20251106T173000
DTEND;TZID=Europe/Rome:20251106T190000
DTSTAMP:20260420T211254
CREATED:20250908T082642Z
LAST-MODIFIED:20250908T082643Z
UID:10002157-1762450200-1762455600@centoincroci.regione.lazio.it
SUMMARY:Corso informatica base
DESCRIPTION:Ogni giovedì dalle ore 17.30 alle ore 19 Cento Incroci ospita un corso informatica base\, progettato per fornire fondamenta per utilizzare il pc\, apprendere a gestire file e cartelle\, posta elettronica e navigare in modo sicuro. \nCorso gratuito\, previa prenotazione. \nPrenotazioni tramite telefono o whatsapp al numero 3665616955 \n 
URL:https://centoincroci.regione.lazio.it/evento/corso-informatica-base/2025-11-06/
CATEGORIES:I Laboratori
ATTACH;FMTTYPE=image/jpeg:https://centoincroci.regione.lazio.it/app/uploads/2024/09/748852_35ba_3.jpg
END:VEVENT
BEGIN:VEVENT
DTSTART;TZID=Europe/Rome:20251108T170000
DTEND;TZID=Europe/Rome:20251108T200000
DTSTAMP:20260420T211254
CREATED:20250916T074407Z
LAST-MODIFIED:20250916T124728Z
UID:10002329-1762621200-1762632000@centoincroci.regione.lazio.it
SUMMARY:Presentazione libro "Felice a tratti triste con convincimento" di Serena D’Avelli
DESCRIPTION:Sabato 8 novembre dalle 17 alle 20 presso Cento Incroci si terrà la presentazione libro “Felice a tratti triste con convincimento” di Serena D’Avelli\, edito dalla casa editrice PAV . \nLacrime d’infanzia\, insicurezze d’amore\, presagi di futuro\,\nriempiono le pagine di questa raccolta\nche rappresenta la maturità di una donna. \nNel cuore della notte il buio\nMi confonde\nAllungo la mano\nAnelo la tua schiena.
URL:https://centoincroci.regione.lazio.it/evento/presentazione-libro-felice-a-tratti-triste-con-convincimento-di-serena-davelli/
CATEGORIES:Leggiamo insieme
ATTACH;FMTTYPE=image/jpeg:https://centoincroci.regione.lazio.it/app/uploads/2025/09/image0.jpeg
END:VEVENT
BEGIN:VEVENT
DTSTART;TZID=Europe/Rome:20251110T090000
DTEND;TZID=Europe/Rome:20251110T180000
DTSTAMP:20260420T211254
CREATED:20250702T122145Z
LAST-MODIFIED:20250702T123345Z
UID:10001555-1762765200-1762797600@centoincroci.regione.lazio.it
SUMMARY:Spazio coworking - orari
DESCRIPTION:Disponibilità dello spazio coworking\, fruibile gratuitamente nei seguenti orari\nlunedì dalle 9 alle 18\ndal martedì al venerdì dalle 9 alle 20\n sabato e domenica dalle 10 alle 20 \nPer maggiori info 3665616955
URL:https://centoincroci.regione.lazio.it/evento/spazio-coworking-orari-2/2025-11-10/
CATEGORIES:Incontri
ATTACH;FMTTYPE=image/jpeg:https://centoincroci.regione.lazio.it/app/uploads/2024/04/339737201_1384829545390398_5164164649820751090_n.jpg
END:VEVENT
BEGIN:VEVENT
DTSTART;TZID=Europe/Rome:20251111T090000
DTEND;TZID=Europe/Rome:20251111T100000
DTSTAMP:20260420T211254
CREATED:20250908T081227Z
LAST-MODIFIED:20260109T082004Z
UID:10002277-1762851600-1762855200@centoincroci.regione.lazio.it
SUMMARY:Sportello di ascolto psicologico
DESCRIPTION:Presso Cento Incroci è attivo uno Sportello di Ascolto psicologico gratuito. La psicologa offrirà ascolto\, supporto emotivo e strumenti per aiutare a gestire difficoltà e migliorare il benessere psicologico. \nAperto tutti i martedì\, dalle ore 9 alle ore 10.
URL:https://centoincroci.regione.lazio.it/evento/sportello-di-ascolto-psicologico-26/2025-11-11/
CATEGORIES:Incontri
ATTACH;FMTTYPE=image/jpeg:https://centoincroci.regione.lazio.it/app/uploads/2022/09/sportellopsicologico-foto.jpg
END:VEVENT
BEGIN:VEVENT
DTSTART;TZID=Europe/Rome:20251111T163000
DTEND;TZID=Europe/Rome:20251111T180000
DTSTAMP:20260420T211254
CREATED:20250908T081814Z
LAST-MODIFIED:20260109T082128Z
UID:10002042-1762878600-1762884000@centoincroci.regione.lazio.it
SUMMARY:Corso di inglese base per adulti
DESCRIPTION:Ogni martedì dalle ore 16.30 alle ore 18 Cento Incroci ospita un corso di inglese base per adulti. Attraverso lezioni pratiche e conversazioni reali\,aiuta ad aumentare la confidenza con la lingua inglese\nCorso gratuito\, previa prenotazione. \nPrenotazioni tramite telefono o whatsapp al numero 3665616955
URL:https://centoincroci.regione.lazio.it/evento/corso-di-inglese-base-per-adulti/2025-11-11/
CATEGORIES:I Laboratori
ATTACH;FMTTYPE=image/jpeg:https://centoincroci.regione.lazio.it/app/uploads/2025/09/disposizione-dei-libri-inglesi-vista-dall-alto-scaled-e1757319659105.jpg
END:VEVENT
BEGIN:VEVENT
DTSTART;TZID=Europe/Rome:20251112T170000
DTEND;TZID=Europe/Rome:20251112T190000
DTSTAMP:20260420T211254
CREATED:20250908T082417Z
LAST-MODIFIED:20260121T123119Z
UID:10002101-1762966800-1762974000@centoincroci.regione.lazio.it
SUMMARY:Laboratorio di teatro per bambini 6/12 anni
DESCRIPTION:Ogni mercoledì dalle ore 17 alle ore 19 Cento Incroci ospita un laboratorio di teatro per bambini 6/12 anni\, uno spazio creativo e divertente dove i bambini potranno sviluppare abilità sociali\, emotive e comunicative. \nCorso gratuito\, previa prenotazione. \nPrenotazioni tramite telefono o whatsapp al numero 3665616955
URL:https://centoincroci.regione.lazio.it/evento/laboratorio-di-teatro-per-bambini-6-12-anni/2025-11-12/
CATEGORIES:I Laboratori
ATTACH;FMTTYPE=image/jpeg:https://centoincroci.regione.lazio.it/app/uploads/2025/01/laboratorio-teatrale.jpg
END:VEVENT
BEGIN:VEVENT
DTSTART;TZID=Europe/Rome:20251113T170000
DTEND;TZID=Europe/Rome:20251113T190000
DTSTAMP:20260420T211254
CREATED:20251007T074652Z
LAST-MODIFIED:20251007T074653Z
UID:10002158-1763053200-1763060400@centoincroci.regione.lazio.it
SUMMARY:Uncinetto Creativo Natalizio
DESCRIPTION:Giovedì dalle ore 17.00 alle ore 19 Cento Incroci ospita un corso di uncinetto Creativo Natalizio. \nCorso gratuito\, previa prenotazione. \nPrenotazioni tramite telefono o whatsapp al numero 3665616955 \n 
URL:https://centoincroci.regione.lazio.it/evento/corso-informatica-base-2/2025-11-13/
CATEGORIES:I Laboratori
ATTACH;FMTTYPE=image/jpeg:https://centoincroci.regione.lazio.it/app/uploads/2025/09/tre-cuori-rosa-lavorati-maglia-con-gomitolo-vista-dall-alto-scaled.jpg
END:VEVENT
BEGIN:VEVENT
DTSTART;TZID=Europe/Rome:20251115T140000
DTEND;TZID=Europe/Rome:20251115T160000
DTSTAMP:20260420T211254
CREATED:20251112T143443Z
LAST-MODIFIED:20251112T143832Z
UID:10002394-1763215200-1763222400@centoincroci.regione.lazio.it
SUMMARY:WeArt – Laboratorio artistico espressivo
DESCRIPTION:Cento Incroci ospita “WeArt – Laboratorio esperienziale di arte cooperativa e relazionale”\, un percorso artistico-espressivo ispirato alla Gestalt Art Therapy\, pensato per donne con background migratorio (prevalentemente o esclusivamente donne)\, con l’obiettivo di favorire consapevolezza\, espressione e rafforzamento dei legami affettivi e interculturali. Attraverso pittura\, manipolazione\, collage e fotografia\, le partecipanti potranno esplorare emozioni e relazioni\, costruendo uno spazio di socialità\, fiducia e condivisione. \nOrganizzato dal Consiglio Italiano per i Rifugiati ETS \n  \nDATE LABORATORIO\n15/11/2025 h: 14 – 16\n22/11/2025 h: 14 – 16\n30/11/2025 h: 14 – 16\n06/12/2025 h: 14 – 16\n13/12/2025 h: 14 – 16\n20/12/2025 h: 14 – 16\n03/01/2026 h: 14 – 16\n10/01/2026 h: 14 – 16\n18/01/2026 h: 14 – 16\n24/01/2026 h: 14 – 16\n31/01/2026 h: 14 – 16\n07/02/2026 h: 14 – 16 \n  \nCorso gratuito\, previa prenotazione. \nPrenotazioni tramite telefono o whatsapp al numero 3665616955
URL:https://centoincroci.regione.lazio.it/evento/weart-laboratorio-artistico-espressivo/
CATEGORIES:I Laboratori
ATTACH;FMTTYPE=image/jpeg:https://centoincroci.regione.lazio.it/app/uploads/2025/11/vista-dall-alto-delle-mani-di-una-donna-attraente-che-disegnano-un-immagine-straordinaria-su-tela-un-moderno-laboratorio-d-arte-accogliente-scaled.jpg
END:VEVENT
BEGIN:VEVENT
DTSTART;TZID=Europe/Rome:20251115T160000
DTEND;TZID=Europe/Rome:20251115T190000
DTSTAMP:20260420T211254
CREATED:20251114T093205Z
LAST-MODIFIED:20251114T093206Z
UID:10002449-1763222400-1763233200@centoincroci.regione.lazio.it
SUMMARY:Verso il 25 novembre per le donne dell’Afghanistan
DESCRIPTION:Sabato 15 novembre dalle 16 alle 19 Cento Incroci ospita l’incontro “Verso il 25 novembre per le donne dell’Afghanistan”\, organizzato da \nBinario 15 ODV e pensato per le donne della diaspora afghana in preparazione al 25 novembre\, Giornata internazionale contro la violenza sulle donne. \nL’incontro avrà un approccio laboratoriale e attraverso la realizzazione di cartelloni per la manifestazione del 22 novembre a Roma\, attiverà riflessione e confronto sulla tematica della violenza di genere. \nEvento gratuito
URL:https://centoincroci.regione.lazio.it/evento/verso-il-25-novembre-per-le-donne-dellafghanistan/
CATEGORIES:Incontri
ATTACH;FMTTYPE=image/jpeg:https://centoincroci.regione.lazio.it/app/uploads/2025/11/donne-afghanistan.jpg
END:VEVENT
BEGIN:VEVENT
DTSTART;TZID=Europe/Rome:20251117T090000
DTEND;TZID=Europe/Rome:20251117T180000
DTSTAMP:20260420T211254
CREATED:20250702T122145Z
LAST-MODIFIED:20250702T123345Z
UID:10001556-1763370000-1763402400@centoincroci.regione.lazio.it
SUMMARY:Spazio coworking - orari
DESCRIPTION:Disponibilità dello spazio coworking\, fruibile gratuitamente nei seguenti orari\nlunedì dalle 9 alle 18\ndal martedì al venerdì dalle 9 alle 20\n sabato e domenica dalle 10 alle 20 \nPer maggiori info 3665616955
URL:https://centoincroci.regione.lazio.it/evento/spazio-coworking-orari-2/2025-11-17/
CATEGORIES:Incontri
ATTACH;FMTTYPE=image/jpeg:https://centoincroci.regione.lazio.it/app/uploads/2024/04/339737201_1384829545390398_5164164649820751090_n.jpg
END:VEVENT
BEGIN:VEVENT
DTSTART;TZID=Europe/Rome:20251118T090000
DTEND;TZID=Europe/Rome:20251118T100000
DTSTAMP:20260420T211254
CREATED:20250908T081227Z
LAST-MODIFIED:20260109T082004Z
UID:10002278-1763456400-1763460000@centoincroci.regione.lazio.it
SUMMARY:Sportello di ascolto psicologico
DESCRIPTION:Presso Cento Incroci è attivo uno Sportello di Ascolto psicologico gratuito. La psicologa offrirà ascolto\, supporto emotivo e strumenti per aiutare a gestire difficoltà e migliorare il benessere psicologico. \nAperto tutti i martedì\, dalle ore 9 alle ore 10.
URL:https://centoincroci.regione.lazio.it/evento/sportello-di-ascolto-psicologico-26/2025-11-18/
CATEGORIES:Incontri
ATTACH;FMTTYPE=image/jpeg:https://centoincroci.regione.lazio.it/app/uploads/2022/09/sportellopsicologico-foto.jpg
END:VEVENT
BEGIN:VEVENT
DTSTART;TZID=Europe/Rome:20251118T163000
DTEND;TZID=Europe/Rome:20251118T180000
DTSTAMP:20260420T211254
CREATED:20250908T081814Z
LAST-MODIFIED:20260109T082128Z
UID:10002043-1763483400-1763488800@centoincroci.regione.lazio.it
SUMMARY:Corso di inglese base per adulti
DESCRIPTION:Ogni martedì dalle ore 16.30 alle ore 18 Cento Incroci ospita un corso di inglese base per adulti. Attraverso lezioni pratiche e conversazioni reali\,aiuta ad aumentare la confidenza con la lingua inglese\nCorso gratuito\, previa prenotazione. \nPrenotazioni tramite telefono o whatsapp al numero 3665616955
URL:https://centoincroci.regione.lazio.it/evento/corso-di-inglese-base-per-adulti/2025-11-18/
CATEGORIES:I Laboratori
ATTACH;FMTTYPE=image/jpeg:https://centoincroci.regione.lazio.it/app/uploads/2025/09/disposizione-dei-libri-inglesi-vista-dall-alto-scaled-e1757319659105.jpg
END:VEVENT
BEGIN:VEVENT
DTSTART;TZID=Europe/Rome:20251119T170000
DTEND;TZID=Europe/Rome:20251119T190000
DTSTAMP:20260420T211254
CREATED:20250908T082417Z
LAST-MODIFIED:20260121T123119Z
UID:10002102-1763571600-1763578800@centoincroci.regione.lazio.it
SUMMARY:Laboratorio di teatro per bambini 6/12 anni
DESCRIPTION:Ogni mercoledì dalle ore 17 alle ore 19 Cento Incroci ospita un laboratorio di teatro per bambini 6/12 anni\, uno spazio creativo e divertente dove i bambini potranno sviluppare abilità sociali\, emotive e comunicative. \nCorso gratuito\, previa prenotazione. \nPrenotazioni tramite telefono o whatsapp al numero 3665616955
URL:https://centoincroci.regione.lazio.it/evento/laboratorio-di-teatro-per-bambini-6-12-anni/2025-11-19/
CATEGORIES:I Laboratori
ATTACH;FMTTYPE=image/jpeg:https://centoincroci.regione.lazio.it/app/uploads/2025/01/laboratorio-teatrale.jpg
END:VEVENT
BEGIN:VEVENT
DTSTART;TZID=Europe/Rome:20251120T170000
DTEND;TZID=Europe/Rome:20251120T190000
DTSTAMP:20260420T211254
CREATED:20251007T074652Z
LAST-MODIFIED:20251007T074653Z
UID:10002334-1763658000-1763665200@centoincroci.regione.lazio.it
SUMMARY:Uncinetto Creativo Natalizio
DESCRIPTION:Giovedì dalle ore 17.00 alle ore 19 Cento Incroci ospita un corso di uncinetto Creativo Natalizio. \nCorso gratuito\, previa prenotazione. \nPrenotazioni tramite telefono o whatsapp al numero 3665616955 \n 
URL:https://centoincroci.regione.lazio.it/evento/corso-informatica-base-2/2025-11-20/
CATEGORIES:I Laboratori
ATTACH;FMTTYPE=image/jpeg:https://centoincroci.regione.lazio.it/app/uploads/2025/09/tre-cuori-rosa-lavorati-maglia-con-gomitolo-vista-dall-alto-scaled.jpg
END:VEVENT
BEGIN:VEVENT
DTSTART;TZID=Europe/Rome:20251124T090000
DTEND;TZID=Europe/Rome:20251124T180000
DTSTAMP:20260420T211254
CREATED:20250702T122145Z
LAST-MODIFIED:20250702T123345Z
UID:10001557-1763974800-1764007200@centoincroci.regione.lazio.it
SUMMARY:Spazio coworking - orari
DESCRIPTION:Disponibilità dello spazio coworking\, fruibile gratuitamente nei seguenti orari\nlunedì dalle 9 alle 18\ndal martedì al venerdì dalle 9 alle 20\n sabato e domenica dalle 10 alle 20 \nPer maggiori info 3665616955
URL:https://centoincroci.regione.lazio.it/evento/spazio-coworking-orari-2/2025-11-24/
CATEGORIES:Incontri
ATTACH;FMTTYPE=image/jpeg:https://centoincroci.regione.lazio.it/app/uploads/2024/04/339737201_1384829545390398_5164164649820751090_n.jpg
END:VEVENT
BEGIN:VEVENT
DTSTART;TZID=Europe/Rome:20251124T163000
DTEND;TZID=Europe/Rome:20251124T173000
DTSTAMP:20260420T211254
CREATED:20251110T075331Z
LAST-MODIFIED:20251110T075332Z
UID:10002393-1764001800-1764005400@centoincroci.regione.lazio.it
SUMMARY:Laboratorio spazio mamme
DESCRIPTION:Lunedì 24 novembre dalle ore 16:45 alle ore 17:45 a Cento Incroci ospitiamo “Spazio Mamme”\, un momento per mamme e i loro bambini.\nLaboratorio gratuito\, previa prenotazione. \nPrenotazioni tramite telefono o WhatsApp al numero 3665616955
URL:https://centoincroci.regione.lazio.it/evento/laboratorio-spazio-mamme/
CATEGORIES:I Laboratori
ATTACH;FMTTYPE=image/jpeg:https://centoincroci.regione.lazio.it/app/uploads/2025/01/natura-morta-di-peluche-al-gancio_23-2151091202.jpg
END:VEVENT
BEGIN:VEVENT
DTSTART;TZID=Europe/Rome:20251125T090000
DTEND;TZID=Europe/Rome:20251125T100000
DTSTAMP:20260420T211254
CREATED:20250908T081227Z
LAST-MODIFIED:20260109T082004Z
UID:10002279-1764061200-1764064800@centoincroci.regione.lazio.it
SUMMARY:Sportello di ascolto psicologico
DESCRIPTION:Presso Cento Incroci è attivo uno Sportello di Ascolto psicologico gratuito. La psicologa offrirà ascolto\, supporto emotivo e strumenti per aiutare a gestire difficoltà e migliorare il benessere psicologico. \nAperto tutti i martedì\, dalle ore 9 alle ore 10.
URL:https://centoincroci.regione.lazio.it/evento/sportello-di-ascolto-psicologico-26/2025-11-25/
CATEGORIES:Incontri
ATTACH;FMTTYPE=image/jpeg:https://centoincroci.regione.lazio.it/app/uploads/2022/09/sportellopsicologico-foto.jpg
END:VEVENT
BEGIN:VEVENT
DTSTART;TZID=Europe/Rome:20251125T163000
DTEND;TZID=Europe/Rome:20251125T180000
DTSTAMP:20260420T211254
CREATED:20250908T081814Z
LAST-MODIFIED:20260109T082128Z
UID:10002044-1764088200-1764093600@centoincroci.regione.lazio.it
SUMMARY:Corso di inglese base per adulti
DESCRIPTION:Ogni martedì dalle ore 16.30 alle ore 18 Cento Incroci ospita un corso di inglese base per adulti. Attraverso lezioni pratiche e conversazioni reali\,aiuta ad aumentare la confidenza con la lingua inglese\nCorso gratuito\, previa prenotazione. \nPrenotazioni tramite telefono o whatsapp al numero 3665616955
URL:https://centoincroci.regione.lazio.it/evento/corso-di-inglese-base-per-adulti/2025-11-25/
CATEGORIES:I Laboratori
ATTACH;FMTTYPE=image/jpeg:https://centoincroci.regione.lazio.it/app/uploads/2025/09/disposizione-dei-libri-inglesi-vista-dall-alto-scaled-e1757319659105.jpg
END:VEVENT
END:VCALENDAR