BEGIN:VCALENDAR
VERSION:2.0
PRODID:-//Cento incroci - ECPv6.8.3//NONSGML v1.0//EN
CALSCALE:GREGORIAN
METHOD:PUBLISH
X-WR-CALNAME:Cento incroci
X-ORIGINAL-URL:https://centoincroci.regione.lazio.it
X-WR-CALDESC:Eventi per Cento incroci
REFRESH-INTERVAL;VALUE=DURATION:PT1H
X-Robots-Tag:noindex
X-PUBLISHED-TTL:PT1H
BEGIN:VTIMEZONE
TZID:Europe/Rome
BEGIN:DAYLIGHT
TZOFFSETFROM:+0100
TZOFFSETTO:+0200
TZNAME:CEST
DTSTART:20250330T010000
END:DAYLIGHT
BEGIN:STANDARD
TZOFFSETFROM:+0200
TZOFFSETTO:+0100
TZNAME:CET
DTSTART:20251026T010000
END:STANDARD
END:VTIMEZONE
BEGIN:VEVENT
DTSTART;TZID=Europe/Rome:20250507T170000
DTEND;TZID=Europe/Rome:20250507T190000
DTSTAMP:20260421T071415
CREATED:20250507T071634Z
LAST-MODIFIED:20250507T071634Z
UID:10001134-1746637200-1746644400@centoincroci.regione.lazio.it
SUMMARY:Laboratorio di teatro
DESCRIPTION:Ogni mercoledì dalle ore 17 alle ore 19 Cento Incroci ospita un Laboratorio di teatro rivolto a giovani e adulti.\nLaboratorio gratuito\, previa prenotazione. \nPrenotazioni tramite telefono o whatsapp al numero 3665616955
URL:https://centoincroci.regione.lazio.it/evento/laboratorio-di-teatro-11/
CATEGORIES:Leggiamo insieme
ATTACH;FMTTYPE=image/jpeg:https://centoincroci.regione.lazio.it/app/uploads/2025/01/laboratorio-teatrale.jpg
END:VEVENT
BEGIN:VEVENT
DTSTART;TZID=Europe/Rome:20250509T170000
DTEND;TZID=Europe/Rome:20250509T200000
DTSTAMP:20260421T071415
CREATED:20250507T071937Z
LAST-MODIFIED:20250507T071938Z
UID:10000910-1746810000-1746820800@centoincroci.regione.lazio.it
SUMMARY:Corso di italiano per stranieri
DESCRIPTION:Ogni venerdì dalle ore 17 alle ore 20 Cento Incroci ospita un corso di Italiano per stranieri livello base e avanzato svolto da Pina Frattale ente ANPI.\nCorso gratuito\, previa prenotazione. \nPrenotazioni tramite telefono o whatsapp al numero 3665616955
URL:https://centoincroci.regione.lazio.it/evento/corso-di-italiano-per-stranieri-33/
CATEGORIES:I Laboratori
ATTACH;FMTTYPE=image/jpeg:https://centoincroci.regione.lazio.it/app/uploads/2024/06/Corso-italiano-per-stranieri.jpg
END:VEVENT
BEGIN:VEVENT
DTSTART;TZID=Europe/Rome:20250511T173000
DTEND;TZID=Europe/Rome:20250511T193000
DTSTAMP:20260421T071415
CREATED:20250507T072742Z
LAST-MODIFIED:20250507T072742Z
UID:10000918-1746984600-1746991800@centoincroci.regione.lazio.it
SUMMARY:Incontro sulla poesia Haiku
DESCRIPTION:Domenica 11 maggio dalle ore 17.30 Centro Incroci ospita la presentazione dei libri “Riflessi d’ombra” e “Le stanze dell’eco” di Luca Bandinelli. \nSeguirà una piccola esercitazione sulla poesia Haiku e aperitivo.
URL:https://centoincroci.regione.lazio.it/evento/incontro-sulla-poesia-haiku/
CATEGORIES:Incontri
ATTACH;FMTTYPE=image/jpeg:https://centoincroci.regione.lazio.it/app/uploads/2025/05/haiku.jpg
END:VEVENT
BEGIN:VEVENT
DTSTART;TZID=Europe/Rome:20250512T180000
DTEND;TZID=Europe/Rome:20250512T200000
DTSTAMP:20260421T071415
CREATED:20250507T071431Z
LAST-MODIFIED:20250507T071819Z
UID:10001131-1747072800-1747080000@centoincroci.regione.lazio.it
SUMMARY:Laboratorio di lettura\, ascolto e scrittura poetica
DESCRIPTION:Ogni lunedì dalle ore 18 alle ore 20 Cento Incroci ospita un Laboratorio di lettura poetica.\nLaboratorio gratuito\, previa prenotazione. \nPrenotazioni tramite telefono o whatsapp al numero 3665616955
URL:https://centoincroci.regione.lazio.it/evento/laboratorio-di-lettura-ascolto-e-scrittura-poetica-6/
CATEGORIES:Leggiamo insieme
ATTACH;FMTTYPE=image/jpeg:https://centoincroci.regione.lazio.it/app/uploads/2024/07/5ba7b5ed7357e236133832524f8fc5.jpg
END:VEVENT
BEGIN:VEVENT
DTSTART;TZID=Europe/Rome:20250514T170000
DTEND;TZID=Europe/Rome:20250514T190000
DTSTAMP:20260421T071415
CREATED:20250507T071706Z
LAST-MODIFIED:20250507T071706Z
UID:10001135-1747242000-1747249200@centoincroci.regione.lazio.it
SUMMARY:Laboratorio di teatro
DESCRIPTION:Ogni mercoledì dalle ore 17 alle ore 19 Cento Incroci ospita un Laboratorio di teatro rivolto a giovani e adulti.\nLaboratorio gratuito\, previa prenotazione. \nPrenotazioni tramite telefono o whatsapp al numero 3665616955
URL:https://centoincroci.regione.lazio.it/evento/laboratorio-di-teatro-12/
CATEGORIES:Leggiamo insieme
ATTACH;FMTTYPE=image/jpeg:https://centoincroci.regione.lazio.it/app/uploads/2025/01/laboratorio-teatrale.jpg
END:VEVENT
BEGIN:VEVENT
DTSTART;TZID=Europe/Rome:20250516T170000
DTEND;TZID=Europe/Rome:20250516T200000
DTSTAMP:20260421T071415
CREATED:20250507T072010Z
LAST-MODIFIED:20250507T072011Z
UID:10000912-1747414800-1747425600@centoincroci.regione.lazio.it
SUMMARY:Corso di italiano per stranieri
DESCRIPTION:Ogni venerdì dalle ore 17 alle ore 20 Cento Incroci ospita un corso di Italiano per stranieri livello base e avanzato svolto da Pina Frattale ente ANPI.\nCorso gratuito\, previa prenotazione. \nPrenotazioni tramite telefono o whatsapp al numero 3665616955
URL:https://centoincroci.regione.lazio.it/evento/corso-di-italiano-per-stranieri-34/
CATEGORIES:I Laboratori
ATTACH;FMTTYPE=image/jpeg:https://centoincroci.regione.lazio.it/app/uploads/2024/06/Corso-italiano-per-stranieri.jpg
END:VEVENT
BEGIN:VEVENT
DTSTART;TZID=Europe/Rome:20250518T100000
DTEND;TZID=Europe/Rome:20250518T130000
DTSTAMP:20260421T071415
CREATED:20250507T100044Z
LAST-MODIFIED:20250507T100045Z
UID:10000921-1747562400-1747573200@centoincroci.regione.lazio.it
SUMMARY:Presentazione dell’antologia poetica “Pane e Poesia”
DESCRIPTION:Domenica 18 Maggio 2025 dalle ore 10 alle ore 13 Cento Incroci ospita la Presentazione dell’antologia poetica “Pane e Poesia”. “Il pane è l’alimento degli Dei. I panettieri sono i poeti del corpo e dello spirito. Apprezzare i poeti che diventano la vostra vita.”
URL:https://centoincroci.regione.lazio.it/evento/presentazione-dellantologia-poetica-pane-e-poesia/
CATEGORIES:Incontri
ATTACH;FMTTYPE=image/avif:https://centoincroci.regione.lazio.it/app/uploads/2025/05/pane-e-posia.avif
END:VEVENT
BEGIN:VEVENT
DTSTART;TZID=Europe/Rome:20250519T180000
DTEND;TZID=Europe/Rome:20250519T200000
DTSTAMP:20260421T071415
CREATED:20250507T071506Z
LAST-MODIFIED:20250507T071506Z
UID:10001132-1747677600-1747684800@centoincroci.regione.lazio.it
SUMMARY:Laboratorio di lettura\, ascolto e scrittura poetica
DESCRIPTION:Ogni lunedì dalle ore 18 alle ore 20 Cento Incroci ospita un Laboratorio di lettura poetica.\nLaboratorio gratuito\, previa prenotazione. \nPrenotazioni tramite telefono o whatsapp al numero 3665616955
URL:https://centoincroci.regione.lazio.it/evento/laboratorio-di-lettura-ascolto-e-scrittura-poetica-7/
CATEGORIES:Leggiamo insieme
ATTACH;FMTTYPE=image/jpeg:https://centoincroci.regione.lazio.it/app/uploads/2024/07/5ba7b5ed7357e236133832524f8fc5.jpg
END:VEVENT
BEGIN:VEVENT
DTSTART;TZID=Europe/Rome:20250521T170000
DTEND;TZID=Europe/Rome:20250521T190000
DTSTAMP:20260421T071415
CREATED:20250507T071733Z
LAST-MODIFIED:20250507T071734Z
UID:10000907-1747846800-1747854000@centoincroci.regione.lazio.it
SUMMARY:Laboratorio di teatro
DESCRIPTION:Ogni mercoledì dalle ore 17 alle ore 19 Cento Incroci ospita un Laboratorio di teatro rivolto a giovani e adulti.\nLaboratorio gratuito\, previa prenotazione. \nPrenotazioni tramite telefono o whatsapp al numero 3665616955
URL:https://centoincroci.regione.lazio.it/evento/laboratorio-di-teatro-13/
CATEGORIES:Leggiamo insieme
ATTACH;FMTTYPE=image/jpeg:https://centoincroci.regione.lazio.it/app/uploads/2025/01/laboratorio-teatrale.jpg
END:VEVENT
BEGIN:VEVENT
DTSTART;TZID=Europe/Rome:20250523T170000
DTEND;TZID=Europe/Rome:20250523T200000
DTSTAMP:20260421T071415
CREATED:20250507T072040Z
LAST-MODIFIED:20250507T072041Z
UID:10000914-1748019600-1748030400@centoincroci.regione.lazio.it
SUMMARY:Corso di italiano per stranieri
DESCRIPTION:Ogni venerdì dalle ore 17 alle ore 20 Cento Incroci ospita un corso di Italiano per stranieri livello base e avanzato svolto da Pina Frattale ente ANPI.\nCorso gratuito\, previa prenotazione. \nPrenotazioni tramite telefono o whatsapp al numero 3665616955
URL:https://centoincroci.regione.lazio.it/evento/corso-di-italiano-per-stranieri-35/
CATEGORIES:I Laboratori
ATTACH;FMTTYPE=image/jpeg:https://centoincroci.regione.lazio.it/app/uploads/2024/06/Corso-italiano-per-stranieri.jpg
END:VEVENT
BEGIN:VEVENT
DTSTART;TZID=Europe/Rome:20250526T180000
DTEND;TZID=Europe/Rome:20250526T200000
DTSTAMP:20260421T071415
CREATED:20250507T071545Z
LAST-MODIFIED:20250507T071545Z
UID:10001133-1748282400-1748289600@centoincroci.regione.lazio.it
SUMMARY:Laboratorio di lettura\, ascolto e scrittura poetica
DESCRIPTION:Ogni lunedì dalle ore 18 alle ore 20 Cento Incroci ospita un Laboratorio di lettura poetica.\nLaboratorio gratuito\, previa prenotazione. \nPrenotazioni tramite telefono o whatsapp al numero 3665616955
URL:https://centoincroci.regione.lazio.it/evento/laboratorio-di-lettura-ascolto-e-scrittura-poetica-8/
CATEGORIES:Leggiamo insieme
ATTACH;FMTTYPE=image/jpeg:https://centoincroci.regione.lazio.it/app/uploads/2024/07/5ba7b5ed7357e236133832524f8fc5.jpg
END:VEVENT
BEGIN:VEVENT
DTSTART;TZID=Europe/Rome:20250528T170000
DTEND;TZID=Europe/Rome:20250528T190000
DTSTAMP:20260421T071415
CREATED:20250507T071847Z
LAST-MODIFIED:20250507T071848Z
UID:10000909-1748451600-1748458800@centoincroci.regione.lazio.it
SUMMARY:Laboratorio di teatro
DESCRIPTION:Ogni mercoledì dalle ore 17 alle ore 19 Cento Incroci ospita un Laboratorio di teatro rivolto a giovani e adulti.\nLaboratorio gratuito\, previa prenotazione. \nPrenotazioni tramite telefono o whatsapp al numero 3665616955
URL:https://centoincroci.regione.lazio.it/evento/laboratorio-di-teatro-14/
CATEGORIES:Leggiamo insieme
ATTACH;FMTTYPE=image/jpeg:https://centoincroci.regione.lazio.it/app/uploads/2025/01/laboratorio-teatrale.jpg
END:VEVENT
BEGIN:VEVENT
DTSTART;TZID=Europe/Rome:20250530T170000
DTEND;TZID=Europe/Rome:20250530T200000
DTSTAMP:20260421T071415
CREATED:20250507T072108Z
LAST-MODIFIED:20250507T072109Z
UID:10000916-1748624400-1748635200@centoincroci.regione.lazio.it
SUMMARY:Corso di italiano per stranieri
DESCRIPTION:Ogni venerdì dalle ore 17 alle ore 20 Cento Incroci ospita un corso di Italiano per stranieri livello base e avanzato svolto da Pina Frattale ente ANPI.\nCorso gratuito\, previa prenotazione. \nPrenotazioni tramite telefono o whatsapp al numero 3665616955
URL:https://centoincroci.regione.lazio.it/evento/corso-di-italiano-per-stranieri-36/
CATEGORIES:I Laboratori
ATTACH;FMTTYPE=image/jpeg:https://centoincroci.regione.lazio.it/app/uploads/2024/06/Corso-italiano-per-stranieri.jpg
END:VEVENT
BEGIN:VEVENT
DTSTART;TZID=Europe/Rome:20250604T170000
DTEND;TZID=Europe/Rome:20250604T190000
DTSTAMP:20260421T071415
CREATED:20250507T073004Z
LAST-MODIFIED:20250507T073028Z
UID:10000919-1749056400-1749063600@centoincroci.regione.lazio.it
SUMMARY:Laboratorio di teatro
DESCRIPTION:Ogni mercoledì dalle ore 17 alle ore 19 Cento Incroci ospita un Laboratorio di teatro rivolto a giovani e adulti.\nLaboratorio gratuito\, previa prenotazione. \nPrenotazioni tramite telefono o whatsapp al numero 3665616955
URL:https://centoincroci.regione.lazio.it/evento/laboratorio-di-teatro-15/
CATEGORIES:I Laboratori
ATTACH;FMTTYPE=image/jpeg:https://centoincroci.regione.lazio.it/app/uploads/2025/01/laboratorio-teatrale.jpg
END:VEVENT
BEGIN:VEVENT
DTSTART;TZID=Europe/Rome:20250623T080000
DTEND;TZID=Europe/Rome:20250623T200000
DTSTAMP:20260421T071415
CREATED:20241218T160030Z
LAST-MODIFIED:20250623T133639Z
UID:10000893-1750665600-1750708800@centoincroci.regione.lazio.it
SUMMARY:Spazio coworking
DESCRIPTION:Disponibilità dello spazio coworking\, fruibile gratuitamente dal lunedì al venerdì dalle 9 alle 20; sabato e domenica dalle 10 alle 20 \nPer maggiori info 3665616955
URL:https://centoincroci.regione.lazio.it/evento/spazio-coworking-11/
CATEGORIES:Incontri
ATTACH;FMTTYPE=image/jpeg:https://centoincroci.regione.lazio.it/app/uploads/2024/04/339737201_1384829545390398_5164164649820751090_n.jpg
END:VEVENT
BEGIN:VEVENT
DTSTART;TZID=Europe/Rome:20250623T180000
DTEND;TZID=Europe/Rome:20250623T200000
DTSTAMP:20260421T071415
CREATED:20250623T133828Z
LAST-MODIFIED:20250623T133828Z
UID:10001137-1750701600-1750708800@centoincroci.regione.lazio.it
SUMMARY:Laboratorio di lettura\, ascolto e scrittura poetica
DESCRIPTION:Ogni lunedì dalle ore 18 alle ore 20 Cento Incroci ospita un Laboratorio di lettura poetica.\nLaboratorio gratuito\, previa prenotazione. \nPrenotazioni tramite telefono o whatsapp al numero 3665616955
URL:https://centoincroci.regione.lazio.it/evento/laboratorio-di-lettura-ascolto-e-scrittura-poetica-10/
CATEGORIES:Leggiamo insieme
ATTACH;FMTTYPE=image/jpeg:https://centoincroci.regione.lazio.it/app/uploads/2024/07/5ba7b5ed7357e236133832524f8fc5.jpg
END:VEVENT
BEGIN:VEVENT
DTSTART;TZID=Europe/Rome:20250627T170000
DTEND;TZID=Europe/Rome:20250627T200000
DTSTAMP:20260421T071415
CREATED:20250623T133304Z
LAST-MODIFIED:20250623T133305Z
UID:10001136-1751043600-1751054400@centoincroci.regione.lazio.it
SUMMARY:Corso di italiano per stranieri
DESCRIPTION:Ogni venerdì dalle ore 17 alle ore 20 Cento Incroci ospita un corso di Italiano per stranieri livello base e avanzato svolto da Pina Frattale ente ANPI.\nCorso gratuito\, previa prenotazione. \nPrenotazioni tramite telefono o whatsapp al numero 3665616955
URL:https://centoincroci.regione.lazio.it/evento/corso-di-italiano-per-stranieri-37/
CATEGORIES:I Laboratori
ATTACH;FMTTYPE=image/jpeg:https://centoincroci.regione.lazio.it/app/uploads/2024/06/Corso-italiano-per-stranieri.jpg
END:VEVENT
BEGIN:VEVENT
DTSTART;TZID=Europe/Rome:20250630T180000
DTEND;TZID=Europe/Rome:20250630T200000
DTSTAMP:20260421T071415
CREATED:20250623T133202Z
LAST-MODIFIED:20250623T133203Z
UID:10000923-1751306400-1751313600@centoincroci.regione.lazio.it
SUMMARY:Laboratorio di lettura\, ascolto e scrittura poetica
DESCRIPTION:Ogni lunedì dalle ore 18 alle ore 20 Cento Incroci ospita un Laboratorio di lettura poetica.\nLaboratorio gratuito\, previa prenotazione. \nPrenotazioni tramite telefono o whatsapp al numero 3665616955
URL:https://centoincroci.regione.lazio.it/evento/laboratorio-di-lettura-ascolto-e-scrittura-poetica-9/
CATEGORIES:Leggiamo insieme
ATTACH;FMTTYPE=image/jpeg:https://centoincroci.regione.lazio.it/app/uploads/2024/07/5ba7b5ed7357e236133832524f8fc5.jpg
END:VEVENT
BEGIN:VEVENT
DTSTART;TZID=Europe/Rome:20250702T090000
DTEND;TZID=Europe/Rome:20250702T200000
DTSTAMP:20260421T071415
CREATED:20250702T071155Z
LAST-MODIFIED:20250702T122314Z
UID:10001142-1751446800-1751486400@centoincroci.regione.lazio.it
SUMMARY:Spazio coworking- orari
DESCRIPTION:Disponibilità dello spazio coworking\, fruibile gratuitamente nei seguenti orari\nlunedì dalle 9 alle 18\ndal martedì al venerdì dalle 9 alle 20\n sabato e domenica dalle 10 alle 20 \nPer maggiori info 3665616955
URL:https://centoincroci.regione.lazio.it/evento/spazio-coworking-12/2025-07-02/
CATEGORIES:Incontri
ATTACH;FMTTYPE=image/jpeg:https://centoincroci.regione.lazio.it/app/uploads/2024/04/339737201_1384829545390398_5164164649820751090_n.jpg
END:VEVENT
BEGIN:VEVENT
DTSTART;TZID=Europe/Rome:20250703T090000
DTEND;TZID=Europe/Rome:20250703T200000
DTSTAMP:20260421T071415
CREATED:20250702T071155Z
LAST-MODIFIED:20250702T122314Z
UID:10001143-1751533200-1751572800@centoincroci.regione.lazio.it
SUMMARY:Spazio coworking- orari
DESCRIPTION:Disponibilità dello spazio coworking\, fruibile gratuitamente nei seguenti orari\nlunedì dalle 9 alle 18\ndal martedì al venerdì dalle 9 alle 20\n sabato e domenica dalle 10 alle 20 \nPer maggiori info 3665616955
URL:https://centoincroci.regione.lazio.it/evento/spazio-coworking-12/2025-07-03/
CATEGORIES:Incontri
ATTACH;FMTTYPE=image/jpeg:https://centoincroci.regione.lazio.it/app/uploads/2024/04/339737201_1384829545390398_5164164649820751090_n.jpg
END:VEVENT
BEGIN:VEVENT
DTSTART;TZID=Europe/Rome:20250704T090000
DTEND;TZID=Europe/Rome:20250704T200000
DTSTAMP:20260421T071415
CREATED:20250702T071155Z
LAST-MODIFIED:20250702T122314Z
UID:10001144-1751619600-1751659200@centoincroci.regione.lazio.it
SUMMARY:Spazio coworking- orari
DESCRIPTION:Disponibilità dello spazio coworking\, fruibile gratuitamente nei seguenti orari\nlunedì dalle 9 alle 18\ndal martedì al venerdì dalle 9 alle 20\n sabato e domenica dalle 10 alle 20 \nPer maggiori info 3665616955
URL:https://centoincroci.regione.lazio.it/evento/spazio-coworking-12/2025-07-04/
CATEGORIES:Incontri
ATTACH;FMTTYPE=image/jpeg:https://centoincroci.regione.lazio.it/app/uploads/2024/04/339737201_1384829545390398_5164164649820751090_n.jpg
END:VEVENT
BEGIN:VEVENT
DTSTART;TZID=Europe/Rome:20250705T100000
DTEND;TZID=Europe/Rome:20250705T200000
DTSTAMP:20260421T071415
CREATED:20250702T122508Z
LAST-MODIFIED:20250702T123441Z
UID:10001593-1751709600-1751745600@centoincroci.regione.lazio.it
SUMMARY:Spazio coworking - orari
DESCRIPTION:Disponibilità dello spazio coworking\, fruibile gratuitamente nei seguenti orari\nlunedì dalle 9 alle 18\ndal martedì al venerdì dalle 9 alle 20\nsabato e domenica dalle 10 alle 20 \nPer maggiori info 3665616955
URL:https://centoincroci.regione.lazio.it/evento/spazio-coworking-orari-3/2025-07-05/
CATEGORIES:Incontri
ATTACH;FMTTYPE=image/jpeg:https://centoincroci.regione.lazio.it/app/uploads/2024/04/339737201_1384829545390398_5164164649820751090_n.jpg
END:VEVENT
BEGIN:VEVENT
DTSTART;TZID=Europe/Rome:20250706T100000
DTEND;TZID=Europe/Rome:20250706T200000
DTSTAMP:20260421T071415
CREATED:20250702T122508Z
LAST-MODIFIED:20250702T123441Z
UID:10001708-1751796000-1751832000@centoincroci.regione.lazio.it
SUMMARY:Spazio coworking - orari
DESCRIPTION:Disponibilità dello spazio coworking\, fruibile gratuitamente nei seguenti orari\nlunedì dalle 9 alle 18\ndal martedì al venerdì dalle 9 alle 20\nsabato e domenica dalle 10 alle 20 \nPer maggiori info 3665616955
URL:https://centoincroci.regione.lazio.it/evento/spazio-coworking-orari-3/2025-07-06/
CATEGORIES:Incontri
ATTACH;FMTTYPE=image/jpeg:https://centoincroci.regione.lazio.it/app/uploads/2024/04/339737201_1384829545390398_5164164649820751090_n.jpg
END:VEVENT
BEGIN:VEVENT
DTSTART;TZID=Europe/Rome:20250707T090000
DTEND;TZID=Europe/Rome:20250707T180000
DTSTAMP:20260421T071415
CREATED:20250702T122145Z
LAST-MODIFIED:20250702T123345Z
UID:10001537-1751878800-1751911200@centoincroci.regione.lazio.it
SUMMARY:Spazio coworking - orari
DESCRIPTION:Disponibilità dello spazio coworking\, fruibile gratuitamente nei seguenti orari\nlunedì dalle 9 alle 18\ndal martedì al venerdì dalle 9 alle 20\n sabato e domenica dalle 10 alle 20 \nPer maggiori info 3665616955
URL:https://centoincroci.regione.lazio.it/evento/spazio-coworking-orari-2/2025-07-07/
CATEGORIES:Incontri
ATTACH;FMTTYPE=image/jpeg:https://centoincroci.regione.lazio.it/app/uploads/2024/04/339737201_1384829545390398_5164164649820751090_n.jpg
END:VEVENT
BEGIN:VEVENT
DTSTART;TZID=Europe/Rome:20250707T180000
DTEND;TZID=Europe/Rome:20250707T200000
DTSTAMP:20260421T071415
CREATED:20250702T070739Z
LAST-MODIFIED:20250702T070740Z
UID:10001138-1751911200-1751918400@centoincroci.regione.lazio.it
SUMMARY:Laboratorio di lettura\, ascolto e scrittura poetica
DESCRIPTION:Ogni lunedì dalle ore 18 alle ore 20 Cento Incroci ospita un Laboratorio di lettura poetica.\nLaboratorio gratuito\, previa prenotazione. \nPrenotazioni tramite telefono o whatsapp al numero 3665616955
URL:https://centoincroci.regione.lazio.it/evento/laboratorio-di-lettura-ascolto-e-scrittura-poetica-11/
CATEGORIES:I Laboratori
ATTACH;FMTTYPE=image/jpeg:https://centoincroci.regione.lazio.it/app/uploads/2024/07/5ba7b5ed7357e236133832524f8fc5.jpg
END:VEVENT
BEGIN:VEVENT
DTSTART;TZID=Europe/Rome:20250708T090000
DTEND;TZID=Europe/Rome:20250708T200000
DTSTAMP:20260421T071415
CREATED:20250702T121930Z
LAST-MODIFIED:20250702T122716Z
UID:10001148-1751965200-1752004800@centoincroci.regione.lazio.it
SUMMARY:Spazio coworking- orari
DESCRIPTION:Disponibilità dello spazio coworking\, fruibile gratuitamente nei seguenti orari\nlunedì dalle 9 alle 18\ndal martedì al venerdì dalle 9 alle 20\n sabato e domenica dalle 10 alle 20 \nPer maggiori info 3665616955
URL:https://centoincroci.regione.lazio.it/evento/spazio-coworking-12-2/2025-07-08/
CATEGORIES:Incontri
ATTACH;FMTTYPE=image/jpeg:https://centoincroci.regione.lazio.it/app/uploads/2024/04/339737201_1384829545390398_5164164649820751090_n.jpg
END:VEVENT
BEGIN:VEVENT
DTSTART;TZID=Europe/Rome:20250709T090000
DTEND;TZID=Europe/Rome:20250709T200000
DTSTAMP:20260421T071415
CREATED:20250702T121930Z
LAST-MODIFIED:20250702T122716Z
UID:10001149-1752051600-1752091200@centoincroci.regione.lazio.it
SUMMARY:Spazio coworking- orari
DESCRIPTION:Disponibilità dello spazio coworking\, fruibile gratuitamente nei seguenti orari\nlunedì dalle 9 alle 18\ndal martedì al venerdì dalle 9 alle 20\n sabato e domenica dalle 10 alle 20 \nPer maggiori info 3665616955
URL:https://centoincroci.regione.lazio.it/evento/spazio-coworking-12-2/2025-07-09/
CATEGORIES:Incontri
ATTACH;FMTTYPE=image/jpeg:https://centoincroci.regione.lazio.it/app/uploads/2024/04/339737201_1384829545390398_5164164649820751090_n.jpg
END:VEVENT
BEGIN:VEVENT
DTSTART;TZID=Europe/Rome:20250710T090000
DTEND;TZID=Europe/Rome:20250710T200000
DTSTAMP:20260421T071415
CREATED:20250702T121930Z
LAST-MODIFIED:20250702T122716Z
UID:10001150-1752138000-1752177600@centoincroci.regione.lazio.it
SUMMARY:Spazio coworking- orari
DESCRIPTION:Disponibilità dello spazio coworking\, fruibile gratuitamente nei seguenti orari\nlunedì dalle 9 alle 18\ndal martedì al venerdì dalle 9 alle 20\n sabato e domenica dalle 10 alle 20 \nPer maggiori info 3665616955
URL:https://centoincroci.regione.lazio.it/evento/spazio-coworking-12-2/2025-07-10/
CATEGORIES:Incontri
ATTACH;FMTTYPE=image/jpeg:https://centoincroci.regione.lazio.it/app/uploads/2024/04/339737201_1384829545390398_5164164649820751090_n.jpg
END:VEVENT
BEGIN:VEVENT
DTSTART;TZID=Europe/Rome:20250711T090000
DTEND;TZID=Europe/Rome:20250711T200000
DTSTAMP:20260421T071415
CREATED:20250702T121930Z
LAST-MODIFIED:20250702T122716Z
UID:10001151-1752224400-1752264000@centoincroci.regione.lazio.it
SUMMARY:Spazio coworking- orari
DESCRIPTION:Disponibilità dello spazio coworking\, fruibile gratuitamente nei seguenti orari\nlunedì dalle 9 alle 18\ndal martedì al venerdì dalle 9 alle 20\n sabato e domenica dalle 10 alle 20 \nPer maggiori info 3665616955
URL:https://centoincroci.regione.lazio.it/evento/spazio-coworking-12-2/2025-07-11/
CATEGORIES:Incontri
ATTACH;FMTTYPE=image/jpeg:https://centoincroci.regione.lazio.it/app/uploads/2024/04/339737201_1384829545390398_5164164649820751090_n.jpg
END:VEVENT
BEGIN:VEVENT
DTSTART;TZID=Europe/Rome:20250712T100000
DTEND;TZID=Europe/Rome:20250712T200000
DTSTAMP:20260421T071415
CREATED:20250702T122508Z
LAST-MODIFIED:20250702T123441Z
UID:10001709-1752314400-1752350400@centoincroci.regione.lazio.it
SUMMARY:Spazio coworking - orari
DESCRIPTION:Disponibilità dello spazio coworking\, fruibile gratuitamente nei seguenti orari\nlunedì dalle 9 alle 18\ndal martedì al venerdì dalle 9 alle 20\nsabato e domenica dalle 10 alle 20 \nPer maggiori info 3665616955
URL:https://centoincroci.regione.lazio.it/evento/spazio-coworking-orari-3/2025-07-12/
CATEGORIES:Incontri
ATTACH;FMTTYPE=image/jpeg:https://centoincroci.regione.lazio.it/app/uploads/2024/04/339737201_1384829545390398_5164164649820751090_n.jpg
END:VEVENT
END:VCALENDAR