BEGIN:VCALENDAR
VERSION:2.0
PRODID:-//Cento incroci - ECPv6.8.3//NONSGML v1.0//EN
CALSCALE:GREGORIAN
METHOD:PUBLISH
X-WR-CALNAME:Cento incroci
X-ORIGINAL-URL:https://centoincroci.regione.lazio.it
X-WR-CALDESC:Eventi per Cento incroci
REFRESH-INTERVAL;VALUE=DURATION:PT1H
X-Robots-Tag:noindex
X-PUBLISHED-TTL:PT1H
BEGIN:VTIMEZONE
TZID:Europe/Rome
BEGIN:DAYLIGHT
TZOFFSETFROM:+0100
TZOFFSETTO:+0200
TZNAME:CEST
DTSTART:20240331T010000
END:DAYLIGHT
BEGIN:STANDARD
TZOFFSETFROM:+0200
TZOFFSETTO:+0100
TZNAME:CET
DTSTART:20241027T010000
END:STANDARD
END:VTIMEZONE
BEGIN:VEVENT
DTSTART;TZID=Europe/Rome:20241007T180000
DTEND;TZID=Europe/Rome:20241007T200000
DTSTAMP:20260422T004732
CREATED:20240923T065842Z
LAST-MODIFIED:20240923T065842Z
UID:10001085-1728324000-1728331200@centoincroci.regione.lazio.it
SUMMARY:Laboratorio di lettura poetica
DESCRIPTION:Ogni lunedì dalle ore 18 alle ore 20 Cento Incroci ospita un Laboratorio di lettura poetica. \nPrenotazioni tramite telefono o whatsapp al numero 3665616955
URL:https://centoincroci.regione.lazio.it/evento/laboratorio-di-lettura-poetica-42/
CATEGORIES:Leggiamo insieme
ATTACH;FMTTYPE=image/jpeg:https://centoincroci.regione.lazio.it/app/uploads/2024/07/5ba7b5ed7357e236133832524f8fc5.jpg
END:VEVENT
BEGIN:VEVENT
DTSTART;TZID=Europe/Rome:20241008T180000
DTEND;TZID=Europe/Rome:20241008T200000
DTSTAMP:20260422T004732
CREATED:20240923T062714Z
LAST-MODIFIED:20240923T062715Z
UID:10001076-1728410400-1728417600@centoincroci.regione.lazio.it
SUMMARY:Corso di informatica
DESCRIPTION:Cento Incroci ospita un corso di informatica aperto a tutti coloro che desiderano approfondire le proprie competenze digitali. Il corso si terrà ogni martedì dalle 18:00 alle 20:00 per un totale di quattro lezioni\, a partire dell’8 ottobre. \nDurante il percorso formativo\, i partecipanti avranno l’opportunità di imparare le basi dell’informatica e ad utilizzare il computer in aspetti pratici di vita quotidiana. \nPrenotazioni tramite telefono o whatsapp al numero 3665616955
URL:https://centoincroci.regione.lazio.it/evento/corso-di-informatica/
CATEGORIES:I Laboratori
ATTACH;FMTTYPE=image/jpeg:https://centoincroci.regione.lazio.it/app/uploads/2024/09/748852_35ba_3.jpg
END:VEVENT
BEGIN:VEVENT
DTSTART;TZID=Europe/Rome:20241009T170000
DTEND;TZID=Europe/Rome:20241009T180000
DTSTAMP:20260422T004732
CREATED:20240923T064024Z
LAST-MODIFIED:20240923T064049Z
UID:10001080-1728493200-1728496800@centoincroci.regione.lazio.it
SUMMARY:Sostegno ragazzi scuole medie
DESCRIPTION:A partire dal 9 ottobre\, Cento Incroci offre un servizio di sostegno e aiuto compiti rivolto ai ragazzi delle scuole medie. Il corso si terrà ogni mercoledì dalle 17:00 alle 18:00\, per un totale di quattro lezioni. \nIl corso è aperto a tutti gli studenti delle scuole medie che desiderano ricevere un sostegno extra nello studio\, e si svolgerà presso gli spazi di Cento Incroci. \n\nPrenotazioni tramite telefono o whatsapp al numero 3665616955
URL:https://centoincroci.regione.lazio.it/evento/1684/
CATEGORIES:Incontri
ATTACH;FMTTYPE=image/jpeg:https://centoincroci.regione.lazio.it/app/uploads/2024/09/top-view-desk-with-child-being-tutored_23-2148524522.jpg
END:VEVENT
BEGIN:VEVENT
DTSTART;TZID=Europe/Rome:20241009T180000
DTEND;TZID=Europe/Rome:20241009T200000
DTSTAMP:20260422T004732
CREATED:20240923T065332Z
LAST-MODIFIED:20240923T065333Z
UID:10001084-1728496800-1728504000@centoincroci.regione.lazio.it
SUMMARY:Pittura con gessetti a olio
DESCRIPTION:Cento Incroci ospita il corso di pittura con gessetti a olio\, aperto a partecipanti di tutte le età e livelli di esperienza. Le lezioni si terranno ogni mercoledì dalle 18:00 alle 20:00\, in un ambiente accogliente e creativo. \nDurante il corso\, i partecipanti avranno l’opportunità di esplorare la tecnica dei gessetti a olio\, imparando a creare opere e lavori con le proprie mani. \n  \nPrenotazioni tramite telefono o whatsapp al numero 3665616955
URL:https://centoincroci.regione.lazio.it/evento/pittura-con-gessetti-a-olio/
CATEGORIES:I Laboratori
ATTACH;FMTTYPE=image/png:https://centoincroci.regione.lazio.it/app/uploads/2024/09/csm_Softpastell-Milieu_fbc0ae3af5.png
END:VEVENT
BEGIN:VEVENT
DTSTART;TZID=Europe/Rome:20241010T180000
DTEND;TZID=Europe/Rome:20241010T193000
DTSTAMP:20260422T004732
CREATED:20240917T075624Z
LAST-MODIFIED:20240917T075625Z
UID:10000855-1728583200-1728588600@centoincroci.regione.lazio.it
SUMMARY:Sessione di Mindfulness presso Cento Incroci
DESCRIPTION:Il 10 ottobre 2023\, dalle 18:00 alle 19:30\, Cento Incroci a Roma invita a partecipare a una sessione di Mindfulness\, un’occasione speciale per ritrovare il tuo equilibrio interiore e migliorare il tuo benessere psicofisico. \nLa pratica della Mindfulness\, che pone l’attenzione sul silenzio e sul respiro\, vi aiuterà a fermarvi\, ascoltare e osservare il tuo corpo e la tua mente\, permettendovi di riscoprire voi stessi nel presente. \nL’evento è organizzato da CTM Alternative di Alessandra Bianca e si terrà in un ambiente rilassato e accogliente presso Cento Incroci. \nPer maggiori informazioni e per prenotare il vostro posto\, contattare Alessandra al numero 334 283 7934. \nDove: Cento Incroci\, Roma\nQuando: Giovedì 10 ottobre 2023\, ore 18:00-19:30\nContatto: Alessandra – 334 283 7934
URL:https://centoincroci.regione.lazio.it/evento/sessione-di-mindfulness-presso-cento-incroci/
CATEGORIES:I Laboratori
ATTACH;FMTTYPE=image/jpeg:https://centoincroci.regione.lazio.it/app/uploads/2024/09/IMG-20240913-WA0052.jpg
END:VEVENT
BEGIN:VEVENT
DTSTART;TZID=Europe/Rome:20241011T180000
DTEND;TZID=Europe/Rome:20241011T200000
DTSTAMP:20260422T004732
CREATED:20240923T070353Z
LAST-MODIFIED:20240923T070353Z
UID:10000860-1728669600-1728676800@centoincroci.regione.lazio.it
SUMMARY:Corso di italiano per stranieri.
DESCRIPTION:Presso Centro Incroci dalle ore 18 alle ore 20 ogni venerdì si tiene un corso di italiano per stranieri. \nPer info e prenotazioni: 366 5616955
URL:https://centoincroci.regione.lazio.it/evento/corso-di-italiano-per-stranieri-20/
CATEGORIES:I Laboratori
ATTACH;FMTTYPE=image/jpeg:https://centoincroci.regione.lazio.it/app/uploads/2024/06/Corso-italiano-per-stranieri.jpg
END:VEVENT
BEGIN:VEVENT
DTSTART;TZID=Europe/Rome:20241014T180000
DTEND;TZID=Europe/Rome:20241014T200000
DTSTAMP:20260422T004732
CREATED:20240923T065938Z
LAST-MODIFIED:20240923T065939Z
UID:10000856-1728928800-1728936000@centoincroci.regione.lazio.it
SUMMARY:Laboratorio di lettura poetica
DESCRIPTION:Ogni lunedì dalle ore 18 alle ore 20 Cento Incroci ospita un Laboratorio di lettura poetica. \nPrenotazioni tramite telefono o whatsapp al numero 3665616955
URL:https://centoincroci.regione.lazio.it/evento/laboratorio-di-lettura-poetica-43/
CATEGORIES:Leggiamo insieme
ATTACH;FMTTYPE=image/jpeg:https://centoincroci.regione.lazio.it/app/uploads/2024/07/5ba7b5ed7357e236133832524f8fc5.jpg
END:VEVENT
BEGIN:VEVENT
DTSTART;TZID=Europe/Rome:20241015T180000
DTEND;TZID=Europe/Rome:20241015T200000
DTSTAMP:20260422T004732
CREATED:20240923T062800Z
LAST-MODIFIED:20240923T062801Z
UID:10001077-1729015200-1729022400@centoincroci.regione.lazio.it
SUMMARY:Corso di informatica
DESCRIPTION:Cento Incroci ospita un corso di informatica aperto a tutti coloro che desiderano approfondire le proprie competenze digitali. Il corso si terrà ogni martedì dalle 18:00 alle 20:00 per un totale di quattro lezioni\, a partire dell’8 ottobre. \nDurante il percorso formativo\, i partecipanti avranno l’opportunità di imparare le basi dell’informatica e ad utilizzare il computer in aspetti pratici di vita quotidiana. \nPrenotazioni tramite telefono o whatsapp al numero 3665616955
URL:https://centoincroci.regione.lazio.it/evento/corso-di-informatica-2/
CATEGORIES:I Laboratori
ATTACH;FMTTYPE=image/jpeg:https://centoincroci.regione.lazio.it/app/uploads/2024/09/748852_35ba_3.jpg
END:VEVENT
BEGIN:VEVENT
DTSTART;TZID=Europe/Rome:20241016T170000
DTEND;TZID=Europe/Rome:20241016T180000
DTSTAMP:20260422T004732
CREATED:20240923T064158Z
LAST-MODIFIED:20240923T064159Z
UID:10001081-1729098000-1729101600@centoincroci.regione.lazio.it
SUMMARY:Sostegno ragazzi scuole medie
DESCRIPTION:A partire dal 9 ottobre\, Cento Incroci offre un servizio di sostegno e aiuto compiti rivolto ai ragazzi delle scuole medie. Il corso si terrà ogni mercoledì dalle 17:00 alle 18:00\, per un totale di quattro lezioni. \nIl corso è aperto a tutti gli studenti delle scuole medie che desiderano ricevere un sostegno extra nello studio\, e si svolgerà presso gli spazi di Cento Incroci. \n\nPrenotazioni tramite telefono o whatsapp al numero 3665616955
URL:https://centoincroci.regione.lazio.it/evento/sostegno-ragazzi-scuole-medie/
CATEGORIES:I Laboratori
ATTACH;FMTTYPE=image/jpeg:https://centoincroci.regione.lazio.it/app/uploads/2024/09/top-view-desk-with-child-being-tutored_23-2148524522.jpg
END:VEVENT
BEGIN:VEVENT
DTSTART;TZID=Europe/Rome:20241016T180000
DTEND;TZID=Europe/Rome:20241016T200000
DTSTAMP:20260422T004732
CREATED:20240924T103851Z
LAST-MODIFIED:20240924T103852Z
UID:10000863-1729101600-1729108800@centoincroci.regione.lazio.it
SUMMARY:Pittura con gessetti a olio
DESCRIPTION:Cento Incroci ospita il corso di pittura con gessetti a olio\, aperto a partecipanti di tutte le età e livelli di esperienza. Le lezioni si terranno ogni mercoledì dalle 18:00 alle 20:00\, in un ambiente accogliente e creativo. \nDurante il corso\, i partecipanti avranno l’opportunità di esplorare la tecnica dei gessetti a olio\, imparando a creare opere e lavori con le proprie mani. \n  \nPrenotazioni tramite telefono o whatsapp al numero 3665616955
URL:https://centoincroci.regione.lazio.it/evento/pittura-con-gessetti-a-olio-2/
CATEGORIES:I Laboratori
ATTACH;FMTTYPE=image/png:https://centoincroci.regione.lazio.it/app/uploads/2024/09/csm_Softpastell-Milieu_fbc0ae3af5.png
END:VEVENT
BEGIN:VEVENT
DTSTART;TZID=Europe/Rome:20241017T180000
DTEND;TZID=Europe/Rome:20241017T193000
DTSTAMP:20260422T004732
CREATED:20240917T074905Z
LAST-MODIFIED:20240923T061933Z
UID:10000854-1729188000-1729193400@centoincroci.regione.lazio.it
SUMMARY:Sessioni gratuite di inglese presso Cento Incroci a Roma
DESCRIPTION:Hai difficoltà a sentirti sicuro durante le conversazioni in inglese? Hai bisogno di migliorare le tue competenze linguistiche per esami\, colloqui di lavoro o semplicemente per comunicare in modo più naturale? Cento Incroci\, nel quartiere Centocelle\, ti offre una grande opportunità! \nIl 3 e 17 ottobre 2023\, dalle 18:00 alle 19:30\, si terranno due sessioni gratuite di inglese\, dove potrai praticare la conversazione\, risolvere dubbi e ricevere supporto personalizzato. Si tratta di un’occasione perfetta per chiarire quegli aspetti della lingua che ti creano difficoltà e per migliorare la tua fluidità in un ambiente rilassato e amichevole. \nLe sessioni sono organizzate da CTM Alternative di Alessandra Bianca\, specializzata in consulenza e formazione. Per maggiori informazioni e prenotazioni\, puoi contattare Alex al numero 334 283 7934. \nNon perdere l’opportunità di perfezionare il tuo inglese e affrontare con sicurezza le tue sfide linguistiche! \nDove: Cento Incroci\, Roma\nQuando: 3 e 17 ottobre 2023\, ore 18:00-19:30\nContatto: Alex – 334 283 7934
URL:https://centoincroci.regione.lazio.it/evento/sessioni-gratuite-di-inglese-presso-cento-incroci-a-roma/
CATEGORIES:I Laboratori
ATTACH;FMTTYPE=image/jpeg:https://centoincroci.regione.lazio.it/app/uploads/2024/09/IMG-20240913-WA0053.jpg
END:VEVENT
BEGIN:VEVENT
DTSTART;TZID=Europe/Rome:20241018T180000
DTEND;TZID=Europe/Rome:20241018T200000
DTSTAMP:20260422T004732
CREATED:20240923T070429Z
LAST-MODIFIED:20240923T070430Z
UID:10000861-1729274400-1729281600@centoincroci.regione.lazio.it
SUMMARY:Corso di italiano per stranieri
DESCRIPTION:Presso Centro Incroci dalle ore 18 alle ore 20 ogni venerdì si tiene un corso di italiano per stranieri. \nPer info e prenotazioni: 366 5616955
URL:https://centoincroci.regione.lazio.it/evento/corso-di-italiano-per-stranieri-21/
CATEGORIES:Incontri
ATTACH;FMTTYPE=image/jpeg:https://centoincroci.regione.lazio.it/app/uploads/2024/06/Corso-italiano-per-stranieri.jpg
END:VEVENT
BEGIN:VEVENT
DTSTART;TZID=Europe/Rome:20241021T180000
DTEND;TZID=Europe/Rome:20241021T200000
DTSTAMP:20260422T004732
CREATED:20240923T070023Z
LAST-MODIFIED:20240923T070023Z
UID:10000857-1729533600-1729540800@centoincroci.regione.lazio.it
SUMMARY:Laboratorio di lettura poetica
DESCRIPTION:Ogni lunedì dalle ore 18 alle ore 20 Cento Incroci ospita un Laboratorio di lettura poetica. \nPrenotazioni tramite telefono o whatsapp al numero 3665616955
URL:https://centoincroci.regione.lazio.it/evento/laboratorio-di-lettura-poetica-44/
CATEGORIES:Leggiamo insieme
ATTACH;FMTTYPE=image/jpeg:https://centoincroci.regione.lazio.it/app/uploads/2024/07/5ba7b5ed7357e236133832524f8fc5.jpg
END:VEVENT
BEGIN:VEVENT
DTSTART;TZID=Europe/Rome:20241022T180000
DTEND;TZID=Europe/Rome:20241022T200000
DTSTAMP:20260422T004732
CREATED:20240923T062912Z
LAST-MODIFIED:20240923T062912Z
UID:10001078-1729620000-1729627200@centoincroci.regione.lazio.it
SUMMARY:Corso di informatica
DESCRIPTION:Cento Incroci ospita un corso di informatica aperto a tutti coloro che desiderano approfondire le proprie competenze digitali. Il corso si terrà ogni martedì dalle 18:00 alle 20:00 per un totale di quattro lezioni\, a partire dell’8 ottobre. \nDurante il percorso formativo\, i partecipanti avranno l’opportunità di imparare le basi dell’informatica e ad utilizzare il computer in aspetti pratici di vita quotidiana. \nPrenotazioni tramite telefono o whatsapp al numero 3665616955
URL:https://centoincroci.regione.lazio.it/evento/corso-di-informatica-3/
CATEGORIES:I Laboratori
ATTACH;FMTTYPE=image/jpeg:https://centoincroci.regione.lazio.it/app/uploads/2024/09/748852_35ba_3.jpg
END:VEVENT
BEGIN:VEVENT
DTSTART;TZID=Europe/Rome:20241023T170000
DTEND;TZID=Europe/Rome:20241023T180000
DTSTAMP:20260422T004732
CREATED:20240923T064250Z
LAST-MODIFIED:20240923T064419Z
UID:10001082-1729702800-1729706400@centoincroci.regione.lazio.it
SUMMARY:Sostegno ragazzi scuole medie
DESCRIPTION:A partire dal 9 ottobre\, Cento Incroci offre un servizio di sostegno e aiuto compiti rivolto ai ragazzi delle scuole medie. Il corso si terrà ogni mercoledì dalle 17:00 alle 18:00\, per un totale di quattro lezioni. \nIl corso è aperto a tutti gli studenti delle scuole medie che desiderano ricevere un sostegno extra nello studio\, e si svolgerà presso gli spazi di Cento Incroci. \n\nPrenotazioni tramite telefono o whatsapp al numero 3665616955
URL:https://centoincroci.regione.lazio.it/evento/sostegno-ragazzi-scuole-medie-2/
CATEGORIES:I Laboratori
ATTACH;FMTTYPE=image/jpeg:https://centoincroci.regione.lazio.it/app/uploads/2024/09/top-view-desk-with-child-being-tutored_23-2148524522.jpg
END:VEVENT
BEGIN:VEVENT
DTSTART;TZID=Europe/Rome:20241023T180000
DTEND;TZID=Europe/Rome:20241023T200000
DTSTAMP:20260422T004732
CREATED:20240924T103923Z
LAST-MODIFIED:20240924T103924Z
UID:10000864-1729706400-1729713600@centoincroci.regione.lazio.it
SUMMARY:Pittura con gessetti a olio
DESCRIPTION:Cento Incroci ospita il corso di pittura con gessetti a olio\, aperto a partecipanti di tutte le età e livelli di esperienza. Le lezioni si terranno ogni mercoledì dalle 18:00 alle 20:00\, in un ambiente accogliente e creativo. \nDurante il corso\, i partecipanti avranno l’opportunità di esplorare la tecnica dei gessetti a olio\, imparando a creare opere e lavori con le proprie mani. \n  \nPrenotazioni tramite telefono o whatsapp al numero 3665616955
URL:https://centoincroci.regione.lazio.it/evento/pittura-con-gessetti-a-olio-3/
CATEGORIES:I Laboratori
ATTACH;FMTTYPE=image/png:https://centoincroci.regione.lazio.it/app/uploads/2024/09/csm_Softpastell-Milieu_fbc0ae3af5.png
END:VEVENT
BEGIN:VEVENT
DTSTART;TZID=Europe/Rome:20241025T180000
DTEND;TZID=Europe/Rome:20241025T200000
DTSTAMP:20260422T004732
CREATED:20240923T070508Z
LAST-MODIFIED:20240923T070508Z
UID:10000862-1729879200-1729886400@centoincroci.regione.lazio.it
SUMMARY:Corso di italiano per stranieri
DESCRIPTION:Presso Centro Incroci dalle ore 18 alle ore 20 ogni venerdì si tiene un corso di italiano per stranieri. \nPer info e prenotazioni: 366 5616955
URL:https://centoincroci.regione.lazio.it/evento/corso-di-italiano-per-stranieri-22/
CATEGORIES:I Laboratori
ATTACH;FMTTYPE=image/jpeg:https://centoincroci.regione.lazio.it/app/uploads/2024/06/Corso-italiano-per-stranieri.jpg
END:VEVENT
BEGIN:VEVENT
DTSTART;TZID=Europe/Rome:20241028T180000
DTEND;TZID=Europe/Rome:20241028T200000
DTSTAMP:20260422T004732
CREATED:20240923T070117Z
LAST-MODIFIED:20240923T070117Z
UID:10000858-1730138400-1730145600@centoincroci.regione.lazio.it
SUMMARY:Laboratorio di lettura poetica
DESCRIPTION:Ogni lunedì dalle ore 18 alle ore 20 Cento Incroci ospita un Laboratorio di lettura poetica. \nPrenotazioni tramite telefono o whatsapp al numero 3665616955
URL:https://centoincroci.regione.lazio.it/evento/laboratorio-di-lettura-poetica-45/
CATEGORIES:Leggiamo insieme
ATTACH;FMTTYPE=image/jpeg:https://centoincroci.regione.lazio.it/app/uploads/2024/07/5ba7b5ed7357e236133832524f8fc5.jpg
END:VEVENT
BEGIN:VEVENT
DTSTART;TZID=Europe/Rome:20241029T180000
DTEND;TZID=Europe/Rome:20241029T200000
DTSTAMP:20260422T004732
CREATED:20240923T062959Z
LAST-MODIFIED:20240923T063056Z
UID:10001079-1730224800-1730232000@centoincroci.regione.lazio.it
SUMMARY:Corso di informatica
DESCRIPTION:Cento Incroci ospita un corso di informatica aperto a tutti coloro che desiderano approfondire le proprie competenze digitali. Il corso si terrà ogni martedì dalle 18:00 alle 20:00 per un totale di quattro lezioni\, a partire dell’8 ottobre. \nDurante il percorso formativo\, i partecipanti avranno l’opportunità di imparare le basi dell’informatica e ad utilizzare il computer in aspetti pratici di vita quotidiana. \nPrenotazioni tramite telefono o whatsapp al numero 3665616955
URL:https://centoincroci.regione.lazio.it/evento/corso-di-informatica-4/
CATEGORIES:I Laboratori
ATTACH;FMTTYPE=image/jpeg:https://centoincroci.regione.lazio.it/app/uploads/2024/09/748852_35ba_3.jpg
END:VEVENT
BEGIN:VEVENT
DTSTART;TZID=Europe/Rome:20241030T170000
DTEND;TZID=Europe/Rome:20241030T180000
DTSTAMP:20260422T004732
CREATED:20240923T064354Z
LAST-MODIFIED:20240923T064355Z
UID:10001083-1730307600-1730311200@centoincroci.regione.lazio.it
SUMMARY:Sostegno ragazzi scuole medie
DESCRIPTION:A partire dal 9 ottobre\, Cento Incroci offre un servizio di sostegno e aiuto compiti rivolto ai ragazzi delle scuole medie. Il corso si terrà ogni mercoledì dalle 17:00 alle 18:00\, per un totale di quattro lezioni. \nIl corso è aperto a tutti gli studenti delle scuole medie che desiderano ricevere un sostegno extra nello studio\, e si svolgerà presso gli spazi di Cento Incroci. \n\nPrenotazioni tramite telefono o whatsapp al numero 3665616955
URL:https://centoincroci.regione.lazio.it/evento/sostegno-ragazzi-scuole-medie-3/
CATEGORIES:I Laboratori
ATTACH;FMTTYPE=image/jpeg:https://centoincroci.regione.lazio.it/app/uploads/2024/09/top-view-desk-with-child-being-tutored_23-2148524522.jpg
END:VEVENT
BEGIN:VEVENT
DTSTART;TZID=Europe/Rome:20241030T180000
DTEND;TZID=Europe/Rome:20241030T200000
DTSTAMP:20260422T004732
CREATED:20240924T104023Z
LAST-MODIFIED:20240924T104023Z
UID:10000865-1730311200-1730318400@centoincroci.regione.lazio.it
SUMMARY:Pittura con gessetti a olio
DESCRIPTION:Cento Incroci ospita il corso di pittura con gessetti a olio\, aperto a partecipanti di tutte le età e livelli di esperienza. Le lezioni si terranno ogni mercoledì dalle 18:00 alle 20:00\, in un ambiente accogliente e creativo. \nDurante il corso\, i partecipanti avranno l’opportunità di esplorare la tecnica dei gessetti a olio\, imparando a creare opere e lavori con le proprie mani. \n  \nPrenotazioni tramite telefono o whatsapp al numero 3665616955
URL:https://centoincroci.regione.lazio.it/evento/pittura-con-gessetti-a-olio-4/
CATEGORIES:I Laboratori
ATTACH;FMTTYPE=image/png:https://centoincroci.regione.lazio.it/app/uploads/2024/09/csm_Softpastell-Milieu_fbc0ae3af5.png
END:VEVENT
BEGIN:VEVENT
DTSTART;VALUE=DATE:20241101
DTEND;VALUE=DATE:20241102
DTSTAMP:20260422T004732
CREATED:20241031T094649Z
LAST-MODIFIED:20241031T094650Z
UID:10001086-1730419200-1730505599@centoincroci.regione.lazio.it
SUMMARY:Chiusura Cento Incroci 1° novembre
DESCRIPTION:Nella giornata di venerdì 1° novembre Cento Incroci resterà chiuso
URL:https://centoincroci.regione.lazio.it/evento/chiusura-cento-incroci-1-novembre/
CATEGORIES:Incontri
ATTACH;FMTTYPE=image/jpeg:https://centoincroci.regione.lazio.it/app/uploads/2024/04/339737201_1384829545390398_5164164649820751090_n.jpg
END:VEVENT
BEGIN:VEVENT
DTSTART;TZID=Europe/Rome:20241104T180000
DTEND;TZID=Europe/Rome:20241104T200000
DTSTAMP:20260422T004732
CREATED:20241104T093032Z
LAST-MODIFIED:20241104T093032Z
UID:10000867-1730743200-1730750400@centoincroci.regione.lazio.it
SUMMARY:Laboratorio di lettura poetica
DESCRIPTION:Ogni lunedì dalle ore 18 alle ore 20 Cento Incroci ospita un Laboratorio di lettura poetica. Ingresso gratuito \nPrenotazioni tramite telefono o whatsapp al numero 3665616955
URL:https://centoincroci.regione.lazio.it/evento/laboratorio-di-lettura-poetica-46/
CATEGORIES:Leggiamo insieme
ATTACH;FMTTYPE=image/jpeg:https://centoincroci.regione.lazio.it/app/uploads/2024/07/5ba7b5ed7357e236133832524f8fc5.jpg
END:VEVENT
BEGIN:VEVENT
DTSTART;TZID=Europe/Rome:20241105T180000
DTEND;TZID=Europe/Rome:20241105T200000
DTSTAMP:20260422T004732
CREATED:20241104T092529Z
LAST-MODIFIED:20241104T092530Z
UID:10001093-1730829600-1730836800@centoincroci.regione.lazio.it
SUMMARY:Corso di informatica ed app
DESCRIPTION:Cento Incroci ospita un corso gratuito di informatica e utilizzo app aperto a tutti coloro che desiderano approfondire le proprie competenze digitali. Il corso si terrà ogni martedì dalle 18:00 alle 20:00 \nDurante il percorso formativo\, i partecipanti avranno l’opportunità di imparare le basi dell’informatica e ad utilizzare il computer in aspetti pratici di vita quotidiana. \nPrenotazioni tramite telefono o whatsapp al numero 3665616955
URL:https://centoincroci.regione.lazio.it/evento/corso-di-informatica-ed-app/
CATEGORIES:I Laboratori
ATTACH;FMTTYPE=image/jpeg:https://centoincroci.regione.lazio.it/app/uploads/2024/09/748852_35ba_3.jpg
END:VEVENT
BEGIN:VEVENT
DTSTART;TZID=Europe/Rome:20241106T170000
DTEND;TZID=Europe/Rome:20241106T180000
DTSTAMP:20260422T004732
CREATED:20241104T091414Z
LAST-MODIFIED:20241104T091414Z
UID:10001089-1730912400-1730916000@centoincroci.regione.lazio.it
SUMMARY:Sostegno ragazzi scuole medie
DESCRIPTION:Cento Incroci offre un servizio di sostegno e aiuto compiti rivolto ai ragazzi delle scuole medie. Il corso si terrà ogni mercoledì dalle 17:00 alle 18:00. \nIl corso è aperto a tutti gli studenti delle scuole medie che desiderano ricevere un sostegno extra nello studio\, e si svolgerà presso gli spazi di Cento Incroci. \nPrenotazioni tramite telefono o whatsapp al numero 3665616955
URL:https://centoincroci.regione.lazio.it/evento/sostegno-ragazzi-scuole-medie-4/
CATEGORIES:I Laboratori
ATTACH;FMTTYPE=image/jpeg:https://centoincroci.regione.lazio.it/app/uploads/2024/09/top-view-desk-with-child-being-tutored_23-2148524522.jpg
END:VEVENT
BEGIN:VEVENT
DTSTART;TZID=Europe/Rome:20241107T170000
DTEND;TZID=Europe/Rome:20241107T180000
DTSTAMP:20260422T004732
CREATED:20241104T094216Z
LAST-MODIFIED:20241104T094217Z
UID:10000875-1730998800-1731002400@centoincroci.regione.lazio.it
SUMMARY:Sportello di Ascolto Psicologico
DESCRIPTION:Presso Cento Incroci è attivo uno Sportello di Ascolto psicologico gratuito. Lo sportello è curato dall’Associazione Ce.R.F. \nAperto tutti i giovedì dalle ore 17 alle ore 18. \nPer info e prenotazioni contattare: Dott.ssa Ilaria Avincola 3420432209\nAssociazione Ce.R.F. 0631054515\nemail: associazionecerf@gmail.com
URL:https://centoincroci.regione.lazio.it/evento/sportello-di-ascolto-psicologico-20/
CATEGORIES:Gli Sportelli
ATTACH;FMTTYPE=image/jpeg:https://centoincroci.regione.lazio.it/app/uploads/2022/09/sportellopsicologico-foto.jpg
END:VEVENT
BEGIN:VEVENT
DTSTART;TZID=Europe/Rome:20241108T170000
DTEND;TZID=Europe/Rome:20241108T200000
DTSTAMP:20260422T004732
CREATED:20241104T093727Z
LAST-MODIFIED:20241104T093727Z
UID:10000871-1731085200-1731096000@centoincroci.regione.lazio.it
SUMMARY:Corso di italiano per stranieri
DESCRIPTION:Presso Centro Incroci dalle ore 17 alle ore 20 ogni venerdì si tiene un corso di italiano per stranieri. \nPer info e prenotazioni: 366 5616955
URL:https://centoincroci.regione.lazio.it/evento/corso-di-italiano-per-stranieri-23/
CATEGORIES:I Laboratori
ATTACH;FMTTYPE=image/jpeg:https://centoincroci.regione.lazio.it/app/uploads/2024/06/Corso-italiano-per-stranieri.jpg
END:VEVENT
BEGIN:VEVENT
DTSTART;TZID=Europe/Rome:20241111T180000
DTEND;TZID=Europe/Rome:20241111T200000
DTSTAMP:20260422T004732
CREATED:20241104T093105Z
LAST-MODIFIED:20241104T093105Z
UID:10000868-1731348000-1731355200@centoincroci.regione.lazio.it
SUMMARY:Laboratorio di lettura poetica
DESCRIPTION:Ogni lunedì dalle ore 18 alle ore 20 Cento Incroci ospita un Laboratorio di lettura poetica. \nPrenotazioni tramite telefono o whatsapp al numero 3665616955
URL:https://centoincroci.regione.lazio.it/evento/laboratorio-di-lettura-poetica-47/
CATEGORIES:Leggiamo insieme
ATTACH;FMTTYPE=image/jpeg:https://centoincroci.regione.lazio.it/app/uploads/2024/07/5ba7b5ed7357e236133832524f8fc5.jpg
END:VEVENT
BEGIN:VEVENT
DTSTART;TZID=Europe/Rome:20241112T180000
DTEND;TZID=Europe/Rome:20241112T200000
DTSTAMP:20260422T004732
CREATED:20241104T092604Z
LAST-MODIFIED:20241104T092605Z
UID:10001094-1731434400-1731441600@centoincroci.regione.lazio.it
SUMMARY:Corso di informatica ed app
DESCRIPTION:Cento Incroci ospita un corso gratuito di informatica e utilizzo app aperto a tutti coloro che desiderano approfondire le proprie competenze digitali. Il corso si terrà ogni martedì dalle 18:00 alle 20:00 \nDurante il percorso formativo\, i partecipanti avranno l’opportunità di imparare le basi dell’informatica e ad utilizzare il computer in aspetti pratici di vita quotidiana. \nPrenotazioni tramite telefono o whatsapp al numero 3665616955
URL:https://centoincroci.regione.lazio.it/evento/corso-di-informatica-ed-app-2/
CATEGORIES:I Laboratori
ATTACH;FMTTYPE=image/jpeg:https://centoincroci.regione.lazio.it/app/uploads/2024/09/748852_35ba_3.jpg
END:VEVENT
BEGIN:VEVENT
DTSTART;TZID=Europe/Rome:20241113T170000
DTEND;TZID=Europe/Rome:20241113T180000
DTSTAMP:20260422T004732
CREATED:20241104T091504Z
LAST-MODIFIED:20241104T091505Z
UID:10001090-1731517200-1731520800@centoincroci.regione.lazio.it
SUMMARY:Sostegno ragazzi scuole medie
DESCRIPTION:Cento Incroci offre un servizio di sostegno e aiuto compiti rivolto ai ragazzi delle scuole medie. Il corso si terrà ogni mercoledì dalle 17:00 alle 18:00. \nIl corso è aperto a tutti gli studenti delle scuole medie che desiderano ricevere un sostegno extra nello studio\, e si svolgerà presso gli spazi di Cento Incroci. \nPrenotazioni tramite telefono o whatsapp al numero 3665616955
URL:https://centoincroci.regione.lazio.it/evento/sostegno-ragazzi-scuole-medie-5/
CATEGORIES:Incontri
ATTACH;FMTTYPE=image/jpeg:https://centoincroci.regione.lazio.it/app/uploads/2024/09/top-view-desk-with-child-being-tutored_23-2148524522.jpg
END:VEVENT
END:VCALENDAR