BEGIN:VCALENDAR
VERSION:2.0
PRODID:-//Cento incroci - ECPv6.8.3//NONSGML v1.0//EN
CALSCALE:GREGORIAN
METHOD:PUBLISH
X-ORIGINAL-URL:https://centoincroci.regione.lazio.it
X-WR-CALDESC:Eventi per Cento incroci
REFRESH-INTERVAL;VALUE=DURATION:PT1H
X-Robots-Tag:noindex
X-PUBLISHED-TTL:PT1H
BEGIN:VTIMEZONE
TZID:Europe/Rome
BEGIN:DAYLIGHT
TZOFFSETFROM:+0100
TZOFFSETTO:+0200
TZNAME:CEST
DTSTART:20210328T010000
END:DAYLIGHT
BEGIN:STANDARD
TZOFFSETFROM:+0200
TZOFFSETTO:+0100
TZNAME:CET
DTSTART:20211031T010000
END:STANDARD
END:VTIMEZONE
BEGIN:VEVENT
DTSTART;TZID=Europe/Rome:20210518T110000
DTEND;TZID=Europe/Rome:20210518T110000
DTSTAMP:20260419T182758
CREATED:20210503T080657Z
LAST-MODIFIED:20210503T080657Z
UID:10000619-1621335600-1621335600@centoincroci.regione.lazio.it
SUMMARY:Incontro ‘Di villa in villa. Tra visite guidate e concerti’
DESCRIPTION:Incontro ‘Di villa in villa. Tra visite guidate e concerti’\nA cura dell’I.R.Vi.T. – Istituto Regionale per le Ville Tuscolane \nInterviene: Francesco Paolo Posa\, Commissario straordinario dell’I.R.Vi.T. \n  \nPresentazione della nuova programmazione a cura dell’I.R.Vi.T.\, lstituto regionale che si occupa di favorire e assicurare la valorizzazione e la promozione delle dieci Ville Tuscolane e dei relativi parchi e giardini. \n  \nEvento in LIVE Streaming
URL:https://centoincroci.regione.lazio.it/evento/incontro-di-villa-in-villa-tra-visite-guidate-e-concerti/
CATEGORIES:Scopriamo il territorio
ATTACH;FMTTYPE=image/jpeg:https://centoincroci.regione.lazio.it/app/uploads/2021/05/di-villa-in-villa.jpg
END:VEVENT
END:VCALENDAR