BEGIN:VCALENDAR
VERSION:2.0
PRODID:-//Cento incroci - ECPv6.8.3//NONSGML v1.0//EN
CALSCALE:GREGORIAN
METHOD:PUBLISH
X-WR-CALNAME:Cento incroci
X-ORIGINAL-URL:https://centoincroci.regione.lazio.it
X-WR-CALDESC:Eventi per Cento incroci
REFRESH-INTERVAL;VALUE=DURATION:PT1H
X-Robots-Tag:noindex
X-PUBLISHED-TTL:PT1H
BEGIN:VTIMEZONE
TZID:Europe/Rome
BEGIN:DAYLIGHT
TZOFFSETFROM:+0100
TZOFFSETTO:+0200
TZNAME:CEST
DTSTART:20240331T010000
END:DAYLIGHT
BEGIN:STANDARD
TZOFFSETFROM:+0200
TZOFFSETTO:+0100
TZNAME:CET
DTSTART:20241027T010000
END:STANDARD
BEGIN:DAYLIGHT
TZOFFSETFROM:+0100
TZOFFSETTO:+0200
TZNAME:CEST
DTSTART:20250330T010000
END:DAYLIGHT
BEGIN:STANDARD
TZOFFSETFROM:+0200
TZOFFSETTO:+0100
TZNAME:CET
DTSTART:20251026T010000
END:STANDARD
BEGIN:DAYLIGHT
TZOFFSETFROM:+0100
TZOFFSETTO:+0200
TZNAME:CEST
DTSTART:20260329T010000
END:DAYLIGHT
BEGIN:STANDARD
TZOFFSETFROM:+0200
TZOFFSETTO:+0100
TZNAME:CET
DTSTART:20261025T010000
END:STANDARD
END:VTIMEZONE
BEGIN:VEVENT
DTSTART;TZID=Europe/Rome:20240930T180000
DTEND;TZID=Europe/Rome:20240930T200000
DTSTAMP:20260419T212844
CREATED:20240909T121325Z
LAST-MODIFIED:20240909T121325Z
UID:10000851-1727719200-1727726400@centoincroci.regione.lazio.it
SUMMARY:Laboratorio di lettura poetica
DESCRIPTION:Ogni lunedì dalle ore 18 alle ore 20 Cento Incroci ospita un Laboratorio di lettura poetica. \nPrenotazioni tramite telefono o whatsapp al numero 3665616955
URL:https://centoincroci.regione.lazio.it/evento/laboratorio-di-lettura-poetica-41/
CATEGORIES:Leggiamo insieme
ATTACH;FMTTYPE=image/jpeg:https://centoincroci.regione.lazio.it/app/uploads/2024/07/5ba7b5ed7357e236133832524f8fc5.jpg
END:VEVENT
BEGIN:VEVENT
DTSTART;TZID=Europe/Rome:20241007T180000
DTEND;TZID=Europe/Rome:20241007T200000
DTSTAMP:20260419T212844
CREATED:20240923T065842Z
LAST-MODIFIED:20240923T065842Z
UID:10001085-1728324000-1728331200@centoincroci.regione.lazio.it
SUMMARY:Laboratorio di lettura poetica
DESCRIPTION:Ogni lunedì dalle ore 18 alle ore 20 Cento Incroci ospita un Laboratorio di lettura poetica. \nPrenotazioni tramite telefono o whatsapp al numero 3665616955
URL:https://centoincroci.regione.lazio.it/evento/laboratorio-di-lettura-poetica-42/
CATEGORIES:Leggiamo insieme
ATTACH;FMTTYPE=image/jpeg:https://centoincroci.regione.lazio.it/app/uploads/2024/07/5ba7b5ed7357e236133832524f8fc5.jpg
END:VEVENT
BEGIN:VEVENT
DTSTART;TZID=Europe/Rome:20241014T180000
DTEND;TZID=Europe/Rome:20241014T200000
DTSTAMP:20260419T212844
CREATED:20240923T065938Z
LAST-MODIFIED:20240923T065939Z
UID:10000856-1728928800-1728936000@centoincroci.regione.lazio.it
SUMMARY:Laboratorio di lettura poetica
DESCRIPTION:Ogni lunedì dalle ore 18 alle ore 20 Cento Incroci ospita un Laboratorio di lettura poetica. \nPrenotazioni tramite telefono o whatsapp al numero 3665616955
URL:https://centoincroci.regione.lazio.it/evento/laboratorio-di-lettura-poetica-43/
CATEGORIES:Leggiamo insieme
ATTACH;FMTTYPE=image/jpeg:https://centoincroci.regione.lazio.it/app/uploads/2024/07/5ba7b5ed7357e236133832524f8fc5.jpg
END:VEVENT
BEGIN:VEVENT
DTSTART;TZID=Europe/Rome:20241021T180000
DTEND;TZID=Europe/Rome:20241021T200000
DTSTAMP:20260419T212844
CREATED:20240923T070023Z
LAST-MODIFIED:20240923T070023Z
UID:10000857-1729533600-1729540800@centoincroci.regione.lazio.it
SUMMARY:Laboratorio di lettura poetica
DESCRIPTION:Ogni lunedì dalle ore 18 alle ore 20 Cento Incroci ospita un Laboratorio di lettura poetica. \nPrenotazioni tramite telefono o whatsapp al numero 3665616955
URL:https://centoincroci.regione.lazio.it/evento/laboratorio-di-lettura-poetica-44/
CATEGORIES:Leggiamo insieme
ATTACH;FMTTYPE=image/jpeg:https://centoincroci.regione.lazio.it/app/uploads/2024/07/5ba7b5ed7357e236133832524f8fc5.jpg
END:VEVENT
BEGIN:VEVENT
DTSTART;TZID=Europe/Rome:20241028T180000
DTEND;TZID=Europe/Rome:20241028T200000
DTSTAMP:20260419T212844
CREATED:20240923T070117Z
LAST-MODIFIED:20240923T070117Z
UID:10000858-1730138400-1730145600@centoincroci.regione.lazio.it
SUMMARY:Laboratorio di lettura poetica
DESCRIPTION:Ogni lunedì dalle ore 18 alle ore 20 Cento Incroci ospita un Laboratorio di lettura poetica. \nPrenotazioni tramite telefono o whatsapp al numero 3665616955
URL:https://centoincroci.regione.lazio.it/evento/laboratorio-di-lettura-poetica-45/
CATEGORIES:Leggiamo insieme
ATTACH;FMTTYPE=image/jpeg:https://centoincroci.regione.lazio.it/app/uploads/2024/07/5ba7b5ed7357e236133832524f8fc5.jpg
END:VEVENT
BEGIN:VEVENT
DTSTART;TZID=Europe/Rome:20241104T180000
DTEND;TZID=Europe/Rome:20241104T200000
DTSTAMP:20260419T212844
CREATED:20241104T093032Z
LAST-MODIFIED:20241104T093032Z
UID:10000867-1730743200-1730750400@centoincroci.regione.lazio.it
SUMMARY:Laboratorio di lettura poetica
DESCRIPTION:Ogni lunedì dalle ore 18 alle ore 20 Cento Incroci ospita un Laboratorio di lettura poetica. Ingresso gratuito \nPrenotazioni tramite telefono o whatsapp al numero 3665616955
URL:https://centoincroci.regione.lazio.it/evento/laboratorio-di-lettura-poetica-46/
CATEGORIES:Leggiamo insieme
ATTACH;FMTTYPE=image/jpeg:https://centoincroci.regione.lazio.it/app/uploads/2024/07/5ba7b5ed7357e236133832524f8fc5.jpg
END:VEVENT
BEGIN:VEVENT
DTSTART;TZID=Europe/Rome:20241111T180000
DTEND;TZID=Europe/Rome:20241111T200000
DTSTAMP:20260419T212844
CREATED:20241104T093105Z
LAST-MODIFIED:20241104T093105Z
UID:10000868-1731348000-1731355200@centoincroci.regione.lazio.it
SUMMARY:Laboratorio di lettura poetica
DESCRIPTION:Ogni lunedì dalle ore 18 alle ore 20 Cento Incroci ospita un Laboratorio di lettura poetica. \nPrenotazioni tramite telefono o whatsapp al numero 3665616955
URL:https://centoincroci.regione.lazio.it/evento/laboratorio-di-lettura-poetica-47/
CATEGORIES:Leggiamo insieme
ATTACH;FMTTYPE=image/jpeg:https://centoincroci.regione.lazio.it/app/uploads/2024/07/5ba7b5ed7357e236133832524f8fc5.jpg
END:VEVENT
BEGIN:VEVENT
DTSTART;TZID=Europe/Rome:20241118T180000
DTEND;TZID=Europe/Rome:20241118T200000
DTSTAMP:20260419T212844
CREATED:20241104T093134Z
LAST-MODIFIED:20241104T093135Z
UID:10000869-1731952800-1731960000@centoincroci.regione.lazio.it
SUMMARY:Laboratorio di lettura poetica
DESCRIPTION:Ogni lunedì dalle ore 18 alle ore 20 Cento Incroci ospita un Laboratorio di lettura poetica. \nPrenotazioni tramite telefono o whatsapp al numero 3665616955
URL:https://centoincroci.regione.lazio.it/evento/laboratorio-di-lettura-poetica-48/
CATEGORIES:Leggiamo insieme
ATTACH;FMTTYPE=image/jpeg:https://centoincroci.regione.lazio.it/app/uploads/2024/07/5ba7b5ed7357e236133832524f8fc5.jpg
END:VEVENT
BEGIN:VEVENT
DTSTART;TZID=Europe/Rome:20250125T163000
DTEND;TZID=Europe/Rome:20250125T190000
DTSTAMP:20260419T212844
CREATED:20250123T150356Z
LAST-MODIFIED:20250123T150357Z
UID:10001126-1737822600-1737831600@centoincroci.regione.lazio.it
SUMMARY:Giuseppe Spinillo: lettura delle sue poesie
DESCRIPTION:Sabato 25 gennaio dalle ore 16:30 alle ore 19:00 Giuseppe Spinillo\, presso Cento Incroci\, propone letture delle sue poesie.\nInformazioni tramite telefono o whatsapp al numero 3665616955
URL:https://centoincroci.regione.lazio.it/evento/giuseppe-spinillo-lettura-delle-sue-poesie/
CATEGORIES:Leggiamo insieme
ATTACH;FMTTYPE=image/jpeg:https://centoincroci.regione.lazio.it/app/uploads/2025/01/1679358561-tea-time-g78646d070-1920.jpg
END:VEVENT
BEGIN:VEVENT
DTSTART;TZID=Europe/Rome:20250127T180000
DTEND;TZID=Europe/Rome:20250127T200000
DTSTAMP:20260419T212844
CREATED:20250123T143721Z
LAST-MODIFIED:20250123T143722Z
UID:10001106-1738000800-1738008000@centoincroci.regione.lazio.it
SUMMARY:Laboratorio di lettura\, ascolto e scrittura poetica
DESCRIPTION:Ogni lunedì dalle ore 18 alle ore 20 Cento Incroci ospita un Laboratorio di lettura poetica. \nPrenotazioni tramite telefono o whatsapp al numero 3665616955
URL:https://centoincroci.regione.lazio.it/evento/laboratorio-di-lettura-ascolto-e-scrittura-poetica/
CATEGORIES:Leggiamo insieme
ATTACH;FMTTYPE=image/jpeg:https://centoincroci.regione.lazio.it/app/uploads/2024/07/5ba7b5ed7357e236133832524f8fc5.jpg
END:VEVENT
BEGIN:VEVENT
DTSTART;TZID=Europe/Rome:20250203T180000
DTEND;TZID=Europe/Rome:20250203T200000
DTSTAMP:20260419T212844
CREATED:20250123T143837Z
LAST-MODIFIED:20250123T143838Z
UID:10001107-1738605600-1738612800@centoincroci.regione.lazio.it
SUMMARY:Laboratorio di lettura\, ascolto e scrittura poetica
DESCRIPTION:Ogni lunedì dalle ore 18 alle ore 20 Cento Incroci ospita un Laboratorio di lettura poetica.\nLaboratorio gratuito\, previa prenotazione. \nPrenotazioni tramite telefono o whatsapp al numero 3665616955
URL:https://centoincroci.regione.lazio.it/evento/laboratorio-di-lettura-ascolto-e-scrittura-poetica-2/
CATEGORIES:Leggiamo insieme
ATTACH;FMTTYPE=image/jpeg:https://centoincroci.regione.lazio.it/app/uploads/2024/07/5ba7b5ed7357e236133832524f8fc5.jpg
END:VEVENT
BEGIN:VEVENT
DTSTART;TZID=Europe/Rome:20250210T180000
DTEND;TZID=Europe/Rome:20250210T200000
DTSTAMP:20260419T212844
CREATED:20250123T143918Z
LAST-MODIFIED:20250123T143918Z
UID:10001108-1739210400-1739217600@centoincroci.regione.lazio.it
SUMMARY:Laboratorio di lettura\, ascolto e scrittura poetica
DESCRIPTION:Ogni lunedì dalle ore 18 alle ore 20 Cento Incroci ospita un Laboratorio di lettura poetica.\nLaboratorio gratuito\, previa prenotazione. \nPrenotazioni tramite telefono o whatsapp al numero 3665616955
URL:https://centoincroci.regione.lazio.it/evento/laboratorio-di-lettura-ascolto-e-scrittura-poetica-3/
CATEGORIES:Leggiamo insieme
ATTACH;FMTTYPE=image/jpeg:https://centoincroci.regione.lazio.it/app/uploads/2024/07/5ba7b5ed7357e236133832524f8fc5.jpg
END:VEVENT
BEGIN:VEVENT
DTSTART;TZID=Europe/Rome:20250217T180000
DTEND;TZID=Europe/Rome:20250217T200000
DTSTAMP:20260419T212844
CREATED:20250123T143952Z
LAST-MODIFIED:20250123T143953Z
UID:10001109-1739815200-1739822400@centoincroci.regione.lazio.it
SUMMARY:Laboratorio di lettura\, ascolto e scrittura poetica
DESCRIPTION:Ogni lunedì dalle ore 18 alle ore 20 Cento Incroci ospita un Laboratorio di lettura poetica.\nLaboratorio gratuito\, previa prenotazione. \nPrenotazioni tramite telefono o whatsapp al numero 3665616955
URL:https://centoincroci.regione.lazio.it/evento/laboratorio-di-lettura-ascolto-e-scrittura-poetica-4/
CATEGORIES:Leggiamo insieme
ATTACH;FMTTYPE=image/jpeg:https://centoincroci.regione.lazio.it/app/uploads/2024/07/5ba7b5ed7357e236133832524f8fc5.jpg
END:VEVENT
BEGIN:VEVENT
DTSTART;TZID=Europe/Rome:20250224T170000
DTEND;TZID=Europe/Rome:20250224T180000
DTSTAMP:20260419T212844
CREATED:20250124T102227Z
LAST-MODIFIED:20250124T102227Z
UID:10001128-1740416400-1740420000@centoincroci.regione.lazio.it
SUMMARY:Spazio mamme
DESCRIPTION:Lunedì 24 febbraio dalle ore 17 alle ore 1 a Cento Incroci ospitiamo “Spazio Mamme”\, un momento per mamme e i loro bambini con letture e canzoncine.\nLaboratorio gratuito\, previa prenotazione. \nPrenotazioni tramite telefono o whatsapp al numero 3665616955
URL:https://centoincroci.regione.lazio.it/evento/spazio-mamme/
CATEGORIES:Leggiamo insieme
ATTACH;FMTTYPE=image/jpeg:https://centoincroci.regione.lazio.it/app/uploads/2025/01/natura-morta-di-peluche-al-gancio_23-2151091202.jpg
END:VEVENT
BEGIN:VEVENT
DTSTART;TZID=Europe/Rome:20250224T180000
DTEND;TZID=Europe/Rome:20250224T200000
DTSTAMP:20260419T212844
CREATED:20250123T144111Z
LAST-MODIFIED:20250123T144112Z
UID:10001110-1740420000-1740427200@centoincroci.regione.lazio.it
SUMMARY:Laboratorio di lettura\, ascolto e scrittura poetica
DESCRIPTION:Ogni lunedì dalle ore 18 alle ore 20 Cento Incroci ospita un Laboratorio di lettura poetica.\nLaboratorio gratuito\, previa prenotazione. \nPrenotazioni tramite telefono o whatsapp al numero 3665616955
URL:https://centoincroci.regione.lazio.it/evento/laboratorio-di-lettura-ascolto-e-scrittura-poetica-5/
CATEGORIES:Leggiamo insieme
ATTACH;FMTTYPE=image/jpeg:https://centoincroci.regione.lazio.it/app/uploads/2024/07/5ba7b5ed7357e236133832524f8fc5.jpg
END:VEVENT
BEGIN:VEVENT
DTSTART;TZID=Europe/Rome:20250507T170000
DTEND;TZID=Europe/Rome:20250507T190000
DTSTAMP:20260419T212844
CREATED:20250507T071634Z
LAST-MODIFIED:20250507T071634Z
UID:10001134-1746637200-1746644400@centoincroci.regione.lazio.it
SUMMARY:Laboratorio di teatro
DESCRIPTION:Ogni mercoledì dalle ore 17 alle ore 19 Cento Incroci ospita un Laboratorio di teatro rivolto a giovani e adulti.\nLaboratorio gratuito\, previa prenotazione. \nPrenotazioni tramite telefono o whatsapp al numero 3665616955
URL:https://centoincroci.regione.lazio.it/evento/laboratorio-di-teatro-11/
CATEGORIES:Leggiamo insieme
ATTACH;FMTTYPE=image/jpeg:https://centoincroci.regione.lazio.it/app/uploads/2025/01/laboratorio-teatrale.jpg
END:VEVENT
BEGIN:VEVENT
DTSTART;TZID=Europe/Rome:20250512T180000
DTEND;TZID=Europe/Rome:20250512T200000
DTSTAMP:20260419T212844
CREATED:20250507T071431Z
LAST-MODIFIED:20250507T071819Z
UID:10001131-1747072800-1747080000@centoincroci.regione.lazio.it
SUMMARY:Laboratorio di lettura\, ascolto e scrittura poetica
DESCRIPTION:Ogni lunedì dalle ore 18 alle ore 20 Cento Incroci ospita un Laboratorio di lettura poetica.\nLaboratorio gratuito\, previa prenotazione. \nPrenotazioni tramite telefono o whatsapp al numero 3665616955
URL:https://centoincroci.regione.lazio.it/evento/laboratorio-di-lettura-ascolto-e-scrittura-poetica-6/
CATEGORIES:Leggiamo insieme
ATTACH;FMTTYPE=image/jpeg:https://centoincroci.regione.lazio.it/app/uploads/2024/07/5ba7b5ed7357e236133832524f8fc5.jpg
END:VEVENT
BEGIN:VEVENT
DTSTART;TZID=Europe/Rome:20250514T170000
DTEND;TZID=Europe/Rome:20250514T190000
DTSTAMP:20260419T212844
CREATED:20250507T071706Z
LAST-MODIFIED:20250507T071706Z
UID:10001135-1747242000-1747249200@centoincroci.regione.lazio.it
SUMMARY:Laboratorio di teatro
DESCRIPTION:Ogni mercoledì dalle ore 17 alle ore 19 Cento Incroci ospita un Laboratorio di teatro rivolto a giovani e adulti.\nLaboratorio gratuito\, previa prenotazione. \nPrenotazioni tramite telefono o whatsapp al numero 3665616955
URL:https://centoincroci.regione.lazio.it/evento/laboratorio-di-teatro-12/
CATEGORIES:Leggiamo insieme
ATTACH;FMTTYPE=image/jpeg:https://centoincroci.regione.lazio.it/app/uploads/2025/01/laboratorio-teatrale.jpg
END:VEVENT
BEGIN:VEVENT
DTSTART;TZID=Europe/Rome:20250519T180000
DTEND;TZID=Europe/Rome:20250519T200000
DTSTAMP:20260419T212844
CREATED:20250507T071506Z
LAST-MODIFIED:20250507T071506Z
UID:10001132-1747677600-1747684800@centoincroci.regione.lazio.it
SUMMARY:Laboratorio di lettura\, ascolto e scrittura poetica
DESCRIPTION:Ogni lunedì dalle ore 18 alle ore 20 Cento Incroci ospita un Laboratorio di lettura poetica.\nLaboratorio gratuito\, previa prenotazione. \nPrenotazioni tramite telefono o whatsapp al numero 3665616955
URL:https://centoincroci.regione.lazio.it/evento/laboratorio-di-lettura-ascolto-e-scrittura-poetica-7/
CATEGORIES:Leggiamo insieme
ATTACH;FMTTYPE=image/jpeg:https://centoincroci.regione.lazio.it/app/uploads/2024/07/5ba7b5ed7357e236133832524f8fc5.jpg
END:VEVENT
BEGIN:VEVENT
DTSTART;TZID=Europe/Rome:20250521T170000
DTEND;TZID=Europe/Rome:20250521T190000
DTSTAMP:20260419T212844
CREATED:20250507T071733Z
LAST-MODIFIED:20250507T071734Z
UID:10000907-1747846800-1747854000@centoincroci.regione.lazio.it
SUMMARY:Laboratorio di teatro
DESCRIPTION:Ogni mercoledì dalle ore 17 alle ore 19 Cento Incroci ospita un Laboratorio di teatro rivolto a giovani e adulti.\nLaboratorio gratuito\, previa prenotazione. \nPrenotazioni tramite telefono o whatsapp al numero 3665616955
URL:https://centoincroci.regione.lazio.it/evento/laboratorio-di-teatro-13/
CATEGORIES:Leggiamo insieme
ATTACH;FMTTYPE=image/jpeg:https://centoincroci.regione.lazio.it/app/uploads/2025/01/laboratorio-teatrale.jpg
END:VEVENT
BEGIN:VEVENT
DTSTART;TZID=Europe/Rome:20250526T180000
DTEND;TZID=Europe/Rome:20250526T200000
DTSTAMP:20260419T212844
CREATED:20250507T071545Z
LAST-MODIFIED:20250507T071545Z
UID:10001133-1748282400-1748289600@centoincroci.regione.lazio.it
SUMMARY:Laboratorio di lettura\, ascolto e scrittura poetica
DESCRIPTION:Ogni lunedì dalle ore 18 alle ore 20 Cento Incroci ospita un Laboratorio di lettura poetica.\nLaboratorio gratuito\, previa prenotazione. \nPrenotazioni tramite telefono o whatsapp al numero 3665616955
URL:https://centoincroci.regione.lazio.it/evento/laboratorio-di-lettura-ascolto-e-scrittura-poetica-8/
CATEGORIES:Leggiamo insieme
ATTACH;FMTTYPE=image/jpeg:https://centoincroci.regione.lazio.it/app/uploads/2024/07/5ba7b5ed7357e236133832524f8fc5.jpg
END:VEVENT
BEGIN:VEVENT
DTSTART;TZID=Europe/Rome:20250528T170000
DTEND;TZID=Europe/Rome:20250528T190000
DTSTAMP:20260419T212844
CREATED:20250507T071847Z
LAST-MODIFIED:20250507T071848Z
UID:10000909-1748451600-1748458800@centoincroci.regione.lazio.it
SUMMARY:Laboratorio di teatro
DESCRIPTION:Ogni mercoledì dalle ore 17 alle ore 19 Cento Incroci ospita un Laboratorio di teatro rivolto a giovani e adulti.\nLaboratorio gratuito\, previa prenotazione. \nPrenotazioni tramite telefono o whatsapp al numero 3665616955
URL:https://centoincroci.regione.lazio.it/evento/laboratorio-di-teatro-14/
CATEGORIES:Leggiamo insieme
ATTACH;FMTTYPE=image/jpeg:https://centoincroci.regione.lazio.it/app/uploads/2025/01/laboratorio-teatrale.jpg
END:VEVENT
BEGIN:VEVENT
DTSTART;TZID=Europe/Rome:20250623T180000
DTEND;TZID=Europe/Rome:20250623T200000
DTSTAMP:20260419T212844
CREATED:20250623T133828Z
LAST-MODIFIED:20250623T133828Z
UID:10001137-1750701600-1750708800@centoincroci.regione.lazio.it
SUMMARY:Laboratorio di lettura\, ascolto e scrittura poetica
DESCRIPTION:Ogni lunedì dalle ore 18 alle ore 20 Cento Incroci ospita un Laboratorio di lettura poetica.\nLaboratorio gratuito\, previa prenotazione. \nPrenotazioni tramite telefono o whatsapp al numero 3665616955
URL:https://centoincroci.regione.lazio.it/evento/laboratorio-di-lettura-ascolto-e-scrittura-poetica-10/
CATEGORIES:Leggiamo insieme
ATTACH;FMTTYPE=image/jpeg:https://centoincroci.regione.lazio.it/app/uploads/2024/07/5ba7b5ed7357e236133832524f8fc5.jpg
END:VEVENT
BEGIN:VEVENT
DTSTART;TZID=Europe/Rome:20250630T180000
DTEND;TZID=Europe/Rome:20250630T200000
DTSTAMP:20260419T212844
CREATED:20250623T133202Z
LAST-MODIFIED:20250623T133203Z
UID:10000923-1751306400-1751313600@centoincroci.regione.lazio.it
SUMMARY:Laboratorio di lettura\, ascolto e scrittura poetica
DESCRIPTION:Ogni lunedì dalle ore 18 alle ore 20 Cento Incroci ospita un Laboratorio di lettura poetica.\nLaboratorio gratuito\, previa prenotazione. \nPrenotazioni tramite telefono o whatsapp al numero 3665616955
URL:https://centoincroci.regione.lazio.it/evento/laboratorio-di-lettura-ascolto-e-scrittura-poetica-9/
CATEGORIES:Leggiamo insieme
ATTACH;FMTTYPE=image/jpeg:https://centoincroci.regione.lazio.it/app/uploads/2024/07/5ba7b5ed7357e236133832524f8fc5.jpg
END:VEVENT
BEGIN:VEVENT
DTSTART;TZID=Europe/Rome:20251019T100000
DTEND;TZID=Europe/Rome:20251019T110000
DTSTAMP:20260419T212844
CREATED:20250929T091836Z
LAST-MODIFIED:20250929T091837Z
UID:10002331-1760868000-1760871600@centoincroci.regione.lazio.it
SUMMARY:Presentazione libro "Lettera inattesa" di Ermelinda Di Ianni e Massimo Memè
DESCRIPTION:Domenica 19 ottobre dalle 10 a Cento Incroci ci sarà la presentazione del libro “Lettera inattesa” di Ermelinda Di Ianni e Massimo Memè.\nSabina è una donna insoddisfatta e vorrebbe cambiare la sua vita a cominciare dal lavoro. Riccardo\, un dirigente realizzato professionalmente\, ha una vita sentimentale deludente. La storia prende avvio da un fatto realmente accaduto durante il secondo conflitto mondiale e narrato nel prologo. I destini dei due protagonisti iniziano a convergere un giorno di maggio 2019\, quando Sabina riceve una lettera dalla Mongolia e Riccardo decide di chiudere la sua relazione sentimentale. \nA scrivere la missiva è un uomo inglese che invita Sabina ad andare da lui per restituire alla donna un oggetto appartenuto a sua madre. Riccardo in quel periodo è animato dal desiderio di vendetta verso un collega\, Gianluca\, abituato a ricattare le persone in ambito lavorativo.
URL:https://centoincroci.regione.lazio.it/evento/presentazione-libro-lettera-inattesa-di-ermelinda-di-ianni-e-massimo-meme/
CATEGORIES:Leggiamo insieme
ATTACH;FMTTYPE=image/jpeg:https://centoincroci.regione.lazio.it/app/uploads/2025/09/Copertina-002.jpg
END:VEVENT
BEGIN:VEVENT
DTSTART;TZID=Europe/Rome:20251108T170000
DTEND;TZID=Europe/Rome:20251108T200000
DTSTAMP:20260419T212844
CREATED:20250916T074407Z
LAST-MODIFIED:20250916T124728Z
UID:10002329-1762621200-1762632000@centoincroci.regione.lazio.it
SUMMARY:Presentazione libro "Felice a tratti triste con convincimento" di Serena D’Avelli
DESCRIPTION:Sabato 8 novembre dalle 17 alle 20 presso Cento Incroci si terrà la presentazione libro “Felice a tratti triste con convincimento” di Serena D’Avelli\, edito dalla casa editrice PAV . \nLacrime d’infanzia\, insicurezze d’amore\, presagi di futuro\,\nriempiono le pagine di questa raccolta\nche rappresenta la maturità di una donna. \nNel cuore della notte il buio\nMi confonde\nAllungo la mano\nAnelo la tua schiena.
URL:https://centoincroci.regione.lazio.it/evento/presentazione-libro-felice-a-tratti-triste-con-convincimento-di-serena-davelli/
CATEGORIES:Leggiamo insieme
ATTACH;FMTTYPE=image/jpeg:https://centoincroci.regione.lazio.it/app/uploads/2025/09/image0.jpeg
END:VEVENT
BEGIN:VEVENT
DTSTART;TZID=Europe/Rome:20251129T180000
DTEND;TZID=Europe/Rome:20251129T200000
DTSTAMP:20260419T212844
CREATED:20251028T082846Z
LAST-MODIFIED:20251028T082847Z
UID:10002392-1764439200-1764446400@centoincroci.regione.lazio.it
SUMMARY:Presentazione libro "Marco\, Dora e l’amore pagato"
DESCRIPTION:Sabato 29 novembre dalle ore 18 alle ore 20 Cento Incroci ospita la presentazione del libro “Marco\, Dora e l’amore pagato” di Mario Di Marzio. \nSinossi libro\n \nA volte la vita ti pone dinnanzi a scelte difficili\, non sempre il proprio futuro è costruito da noi stessi. Per un fatto del tutto inaspettato Marco e Dora\, affronteranno esperienze che segneranno la loro vita. Ma il passato è ormai un ricordo lontano\, per quanto la loro esistenza sia stata contornata da esperienze negative\, che mai avrebbero pensato di fare. Ma ecco che proprio nel momento più inatteso\, nelle loro vite\, senza chiedere permesso a nessuno\, irrompe l’amore\, quello vero\, sincero e travolgente\, ripagandoli di tutto ciò che è stato il loro vissuto. \n\nIngresso libero fino ad esaurimento posti \nPrenotazioni tramite telefono o whatsapp al numero 3665616955
URL:https://centoincroci.regione.lazio.it/evento/presentazione-libro-marco-dora-e-lamore-pagato/
CATEGORIES:Leggiamo insieme
ATTACH;FMTTYPE=image/jpeg:https://centoincroci.regione.lazio.it/app/uploads/2025/10/494584773_692186753770432_5545717078807745139_n.jpg
END:VEVENT
BEGIN:VEVENT
DTSTART;TZID=Europe/Rome:20251214T110000
DTEND;TZID=Europe/Rome:20251214T123000
DTSTAMP:20260419T212844
CREATED:20251128T101353Z
LAST-MODIFIED:20251128T101353Z
UID:10002456-1765710000-1765715400@centoincroci.regione.lazio.it
SUMMARY:Letture a Cento Incroci "Lost in Canada - appunti di viaggio nella poesia canadese"
DESCRIPTION:Domenica 14 dicembre dalle ore 11 si terrà a Cento Incroci la lettura di “Lost in Canada – appunti di viaggio nella poesia canadese”\, un progetto di Luciana Del Prete. \n  \n 
URL:https://centoincroci.regione.lazio.it/evento/letture-a-cento-incroci-lost-in-canada-appunti-di-viaggio-nella-poesia-canadese/
CATEGORIES:Leggiamo insieme
ATTACH;FMTTYPE=image/jpeg:https://centoincroci.regione.lazio.it/app/uploads/2025/11/Lost-in-Canada-appunti-di-viaggio-nella-poesia-canadese.jpg
END:VEVENT
BEGIN:VEVENT
DTSTART;TZID=Europe/Rome:20260301T130000
DTEND;TZID=Europe/Rome:20260301T200000
DTSTAMP:20260419T212844
CREATED:20260227T112533Z
LAST-MODIFIED:20260227T112535Z
UID:10003440-1772370000-1772395200@centoincroci.regione.lazio.it
SUMMARY:Spazio coworking – orari
DESCRIPTION:Disponibilità dello spazio coworking\, fruibile gratuitamente.
URL:https://centoincroci.regione.lazio.it/evento/spazio-coworking-orari-6-2/
CATEGORIES:Leggiamo insieme
ATTACH;FMTTYPE=image/jpeg:https://centoincroci.regione.lazio.it/app/uploads/2026/01/cento.jpg
END:VEVENT
BEGIN:VEVENT
DTSTART;TZID=Europe/Rome:20260308T100000
DTEND;TZID=Europe/Rome:20260308T200000
DTSTAMP:20260419T212844
CREATED:20260223T121343Z
LAST-MODIFIED:20260227T112347Z
UID:10003441-1772964000-1773000000@centoincroci.regione.lazio.it
SUMMARY:Spazio coworking – orari
DESCRIPTION:Disponibilità dello spazio coworking\, fruibile gratuitamente.
URL:https://centoincroci.regione.lazio.it/evento/spazio-coworking-orari-6/2026-03-08/
CATEGORIES:Leggiamo insieme
ATTACH;FMTTYPE=image/jpeg:https://centoincroci.regione.lazio.it/app/uploads/2026/01/cento.jpg
END:VEVENT
END:VCALENDAR