BEGIN:VCALENDAR
VERSION:2.0
PRODID:-//Cento incroci - ECPv6.8.3//NONSGML v1.0//EN
CALSCALE:GREGORIAN
METHOD:PUBLISH
X-WR-CALNAME:Cento incroci
X-ORIGINAL-URL:https://centoincroci.regione.lazio.it
X-WR-CALDESC:Eventi per Cento incroci
REFRESH-INTERVAL;VALUE=DURATION:PT1H
X-Robots-Tag:noindex
X-PUBLISHED-TTL:PT1H
BEGIN:VTIMEZONE
TZID:Europe/Rome
BEGIN:DAYLIGHT
TZOFFSETFROM:+0100
TZOFFSETTO:+0200
TZNAME:CEST
DTSTART:20240331T010000
END:DAYLIGHT
BEGIN:STANDARD
TZOFFSETFROM:+0200
TZOFFSETTO:+0100
TZNAME:CET
DTSTART:20241027T010000
END:STANDARD
END:VTIMEZONE
BEGIN:VEVENT
DTSTART;TZID=Europe/Rome:20241114T170000
DTEND;TZID=Europe/Rome:20241114T180000
DTSTAMP:20260420T080422
CREATED:20241104T094300Z
LAST-MODIFIED:20241104T094301Z
UID:10001096-1731603600-1731607200@centoincroci.regione.lazio.it
SUMMARY:Sportello di Ascolto Psicologico
DESCRIPTION:Presso Cento Incroci è attivo uno Sportello di Ascolto psicologico gratuito. Lo sportello è curato dall’Associazione Ce.R.F. \nAperto tutti i giovedì dalle ore 17 alle ore 18. \nPer info e prenotazioni contattare: Dott.ssa Ilaria Avincola 3420432209\nAssociazione Ce.R.F. 0631054515\nemail: associazionecerf@gmail.com
URL:https://centoincroci.regione.lazio.it/evento/sportello-di-ascolto-psicologico-21/
CATEGORIES:Gli Sportelli
ATTACH;FMTTYPE=image/jpeg:https://centoincroci.regione.lazio.it/app/uploads/2022/09/sportellopsicologico-foto.jpg
END:VEVENT
END:VCALENDAR