BEGIN:VCALENDAR
VERSION:2.0
PRODID:-//Cento incroci - ECPv6.8.3//NONSGML v1.0//EN
CALSCALE:GREGORIAN
METHOD:PUBLISH
X-WR-CALNAME:Cento incroci
X-ORIGINAL-URL:https://centoincroci.regione.lazio.it
X-WR-CALDESC:Eventi per Cento incroci
REFRESH-INTERVAL;VALUE=DURATION:PT1H
X-Robots-Tag:noindex
X-PUBLISHED-TTL:PT1H
BEGIN:VTIMEZONE
TZID:Europe/Rome
BEGIN:DAYLIGHT
TZOFFSETFROM:+0100
TZOFFSETTO:+0200
TZNAME:CEST
DTSTART:20260329T010000
END:DAYLIGHT
BEGIN:STANDARD
TZOFFSETFROM:+0200
TZOFFSETTO:+0100
TZNAME:CET
DTSTART:20261025T010000
END:STANDARD
END:VTIMEZONE
BEGIN:VEVENT
DTSTART;TZID=Europe/Rome:20260421T090000
DTEND;TZID=Europe/Rome:20260421T100000
DTSTAMP:20260421T022958
CREATED:20260403T142058Z
LAST-MODIFIED:20260415T074543Z
UID:10003587-1776762000-1776765600@centoincroci.regione.lazio.it
SUMMARY:Sportello di ascolto psicologico
DESCRIPTION:Presso Cento Incroci è attivo uno Sportello di Ascolto psicologico gratuito. La psicologa offrirà ascolto\, supporto emotivo e strumenti per aiutare a gestire difficoltà e migliorare il benessere psicologico. \nAperto tutti i martedì\, dalle ore 9 alle ore 10.
URL:https://centoincroci.regione.lazio.it/evento/sportello-di-ascolto-psicologico-28/
CATEGORIES:Gli Sportelli
ATTACH;FMTTYPE=image/jpeg:https://centoincroci.regione.lazio.it/app/uploads/2022/09/sportellopsicologico-foto.jpg
END:VEVENT
BEGIN:VEVENT
DTSTART;TZID=Europe/Rome:20260421T100000
DTEND;TZID=Europe/Rome:20260421T163000
DTSTAMP:20260421T022958
CREATED:20260320T115044Z
LAST-MODIFIED:20260320T115145Z
UID:10003533-1776765600-1776789000@centoincroci.regione.lazio.it
SUMMARY:Spazio coworking - dalle ore 10 alle ore 16.30
DESCRIPTION:Disponibilità dello spazio coworking\, fruibile gratuitamente nelle orari indicati\nSi ricorda che gli orari dello spazio coworking sono suscettibili di variazioni\, in base al calendario degli eventi. \nPer maggiori info 3665616955
URL:https://centoincroci.regione.lazio.it/evento/spazio-coworking-3-febbraio-dalle-ore-9-alle-ore-16-30-2/2026-04-21/
ATTACH;FMTTYPE=image/jpeg:https://centoincroci.regione.lazio.it/app/uploads/2024/04/339737201_1384829545390398_5164164649820751090_n.jpg
END:VEVENT
BEGIN:VEVENT
DTSTART;TZID=Europe/Rome:20260421T163000
DTEND;TZID=Europe/Rome:20260421T183000
DTSTAMP:20260421T022958
CREATED:20260415T094240Z
LAST-MODIFIED:20260415T094242Z
UID:10003130-1776789000-1776796200@centoincroci.regione.lazio.it
SUMMARY:Corso di inglese base per adulti- Prenotazioni chiuse
DESCRIPTION:Dalle ore 16.30 alle ore 18.30 Cento Incroci ospita un corso di inglese base per adulti. Attraverso lezioni pratiche e conversazioni reali\, aiuta ad aumentare la confidenza con la lingua inglese\nCorso gratuito\, previa prenotazione. \nPrenotazioni tramite telefono al numero 3665616955
URL:https://centoincroci.regione.lazio.it/evento/corso-di-inglese-base-per-adulti-2-2-3/
CATEGORIES:I Laboratori
ATTACH;FMTTYPE=image/jpeg:https://centoincroci.regione.lazio.it/app/uploads/2025/09/disposizione-dei-libri-inglesi-vista-dall-alto-scaled-e1757319659105.jpg
END:VEVENT
BEGIN:VEVENT
DTSTART;TZID=Europe/Rome:20260421T183000
DTEND;TZID=Europe/Rome:20260421T200000
DTSTAMP:20260421T022958
CREATED:20260407T071835Z
LAST-MODIFIED:20260407T071836Z
UID:10003649-1776796200-1776801600@centoincroci.regione.lazio.it
SUMMARY:Corso di Vela in LIS per adulti
DESCRIPTION:Nelle giornate del 14\, 21\, 28 aprile e 5\, 12 maggio dalle ore 18:30 alle ore 20:00 Cento Incroci ospiterà il Corso di Vela in LIS per adulti organizzato da Edoardo Ricci\, autore del libro “SEGNI PER LA VELA”\, il primo manuale di vela in LIS a livello internazionale\, patrocinato dall’Ente Nazionale Sordi e dalla Federazione Italiana Vela. \nIl corso è completamente gratuito e rivolto a 7 partecipanti già iscritti tramite l’ENS (Ente Nazionale Sordi) in qualità di tesserati del Comitato Giovani Sordi Italiani. \nSi articolerà in cinque lezioni che si svolgeranno dalle 18:30 alle 20:00 di ogni martedì fino al 12 Maggio 2026 finalizzate a valutarne l’apprendimento e ovviamente a formare il primo equipaggio di marinai sordi.
URL:https://centoincroci.regione.lazio.it/evento/corso-di-vela-in-lis-per-adulti-2/2026-04-21/
CATEGORIES:I Laboratori
ATTACH;FMTTYPE=image/jpeg:https://centoincroci.regione.lazio.it/app/uploads/2026/04/copertina-libro-Segni-Vela-marzo-2026.jpg
END:VEVENT
END:VCALENDAR