BEGIN:VCALENDAR
VERSION:2.0
PRODID:-//Cento incroci - ECPv6.8.3//NONSGML v1.0//EN
CALSCALE:GREGORIAN
METHOD:PUBLISH
X-WR-CALNAME:Cento incroci
X-ORIGINAL-URL:https://centoincroci.regione.lazio.it
X-WR-CALDESC:Eventi per Cento incroci
REFRESH-INTERVAL;VALUE=DURATION:PT1H
X-Robots-Tag:noindex
X-PUBLISHED-TTL:PT1H
BEGIN:VTIMEZONE
TZID:Europe/Rome
BEGIN:DAYLIGHT
TZOFFSETFROM:+0100
TZOFFSETTO:+0200
TZNAME:CEST
DTSTART:20260329T010000
END:DAYLIGHT
BEGIN:STANDARD
TZOFFSETFROM:+0200
TZOFFSETTO:+0100
TZNAME:CET
DTSTART:20261025T010000
END:STANDARD
END:VTIMEZONE
BEGIN:VEVENT
DTSTART;TZID=Europe/Rome:20260413T090000
DTEND;TZID=Europe/Rome:20260413T180000
DTSTAMP:20260421T053844
CREATED:20260407T071024Z
LAST-MODIFIED:20260407T071024Z
UID:10003591-1776070800-1776103200@centoincroci.regione.lazio.it
SUMMARY:Spazio coworking - dalle ore 9.00 alle ore 18
DESCRIPTION:Disponibilità dello spazio coworking\, fruibile gratuitamente nelle orari indicati\nSi ricorda che gli orari dello spazio coworking sono suscettibili di variazioni\, in base al calendario degli eventi. \nPer maggiori info 3665616955
URL:https://centoincroci.regione.lazio.it/evento/spazio-coworking-dalle-ore-9-00-alle-ore-18/
CATEGORIES:I Laboratori
ATTACH;FMTTYPE=image/jpeg:https://centoincroci.regione.lazio.it/app/uploads/2024/04/339737201_1384829545390398_5164164649820751090_n.jpg
END:VEVENT
BEGIN:VEVENT
DTSTART;TZID=Europe/Rome:20260413T180000
DTEND;TZID=Europe/Rome:20260413T200000
DTSTAMP:20260421T053844
CREATED:20260130T124512Z
LAST-MODIFIED:20260130T124618Z
UID:10002568-1776103200-1776110400@centoincroci.regione.lazio.it
SUMMARY:Laboratorio di lettura poetica
DESCRIPTION:Ogni lunedì dalle ore 18.30 alle ore 20 Cento Incroci ospita un Laboratorio di lettura poetica. Uno spazio creativo\, dove i partecipanti possono esplorare la poesia\, condividendo la loro passione\nLaboratorio gratuito\, previa prenotazione. \nPrenotazioni tramite telefono al numero 3665616955
URL:https://centoincroci.regione.lazio.it/evento/laboratorio-di-lettura-poetica-51-2/2026-04-13/
CATEGORIES:I Laboratori
ATTACH;FMTTYPE=image/jpeg:https://centoincroci.regione.lazio.it/app/uploads/2024/07/5ba7b5ed7357e236133832524f8fc5.jpg
END:VEVENT
END:VCALENDAR