BEGIN:VCALENDAR
VERSION:2.0
PRODID:-//Cento incroci - ECPv6.8.3//NONSGML v1.0//EN
CALSCALE:GREGORIAN
METHOD:PUBLISH
X-WR-CALNAME:Cento incroci
X-ORIGINAL-URL:https://centoincroci.regione.lazio.it
X-WR-CALDESC:Eventi per Cento incroci
REFRESH-INTERVAL;VALUE=DURATION:PT1H
X-Robots-Tag:noindex
X-PUBLISHED-TTL:PT1H
BEGIN:VTIMEZONE
TZID:Europe/Rome
BEGIN:DAYLIGHT
TZOFFSETFROM:+0100
TZOFFSETTO:+0200
TZNAME:CEST
DTSTART:20260329T010000
END:DAYLIGHT
BEGIN:STANDARD
TZOFFSETFROM:+0200
TZOFFSETTO:+0100
TZNAME:CET
DTSTART:20261025T010000
END:STANDARD
END:VTIMEZONE
BEGIN:VEVENT
DTSTART;TZID=Europe/Rome:20260402T090000
DTEND;TZID=Europe/Rome:20260402T173000
DTSTAMP:20260421T023159
CREATED:20260227T111916Z
LAST-MODIFIED:20260227T111918Z
UID:10002960-1775120400-1775151000@centoincroci.regione.lazio.it
SUMMARY:Spazio coworking - dalle ore 9 alle ore 17.30
DESCRIPTION:Disponibilità dello spazio coworking\, fruibile gratuitamente nelle orari indicati\nSi ricorda che gli orari dello spazio coworking sono suscettibili di variazioni\, in base al calendario degli eventi. \nPer maggiori info 3665616955
URL:https://centoincroci.regione.lazio.it/evento/spazio-coworking-dalle-ore-9-alle-ore-17-30-2/2026-04-02/
ATTACH;FMTTYPE=image/jpeg:https://centoincroci.regione.lazio.it/app/uploads/2024/04/339737201_1384829545390398_5164164649820751090_n.jpg
END:VEVENT
BEGIN:VEVENT
DTSTART;TZID=Europe/Rome:20260402T173000
DTEND;TZID=Europe/Rome:20260402T200000
DTSTAMP:20260421T023159
CREATED:20260327T105158Z
LAST-MODIFIED:20260327T105251Z
UID:10003579-1775151000-1775160000@centoincroci.regione.lazio.it
SUMMARY:Corso informatica base- Uso dello Smartphone e le App
DESCRIPTION:Ogni giovedì dalle ore 17.30 alle ore 20.00 Cento Incroci ospita un corso informatica base\, destinato alle persone che desiderano acquisire conoscenze di base sullo Smartphone e sulle APP di maggior utilità \nCorso gratuito\, previa prenotazione. \nPrenotazioni tramite telefono al numero 3665616955 \n 
URL:https://centoincroci.regione.lazio.it/evento/corso-informatica-base-uso-dello-smartphone-e-le-app-3/
CATEGORIES:I Laboratori
ATTACH;FMTTYPE=image/jpeg:https://centoincroci.regione.lazio.it/app/uploads/2024/05/Casa-domotica-ecco-le-5-migliori-app-per-controllare-tutto-dallo-smartphone.jpg
END:VEVENT
END:VCALENDAR