BEGIN:VCALENDAR
VERSION:2.0
PRODID:-//Cento incroci - ECPv6.8.3//NONSGML v1.0//EN
CALSCALE:GREGORIAN
METHOD:PUBLISH
X-WR-CALNAME:Cento incroci
X-ORIGINAL-URL:https://centoincroci.regione.lazio.it
X-WR-CALDESC:Eventi per Cento incroci
REFRESH-INTERVAL;VALUE=DURATION:PT1H
X-Robots-Tag:noindex
X-PUBLISHED-TTL:PT1H
BEGIN:VTIMEZONE
TZID:Europe/Rome
BEGIN:DAYLIGHT
TZOFFSETFROM:+0100
TZOFFSETTO:+0200
TZNAME:CEST
DTSTART:20260329T010000
END:DAYLIGHT
BEGIN:STANDARD
TZOFFSETFROM:+0200
TZOFFSETTO:+0100
TZNAME:CET
DTSTART:20261025T010000
END:STANDARD
END:VTIMEZONE
BEGIN:VEVENT
DTSTART;TZID=Europe/Rome:20260322T100000
DTEND;TZID=Europe/Rome:20260322T130000
DTSTAMP:20260421T023201
CREATED:20260316T120529Z
LAST-MODIFIED:20260316T120530Z
UID:10003503-1774173600-1774184400@centoincroci.regione.lazio.it
SUMMARY:Corso gratuito sulla sicurezza stradale per bambini dai 5 anni in su
DESCRIPTION:Ivan Marcelli\, istruttore della Scuola Acrobatica di Mountain Bike e Frisbee\, insieme alla collaboratrice Francesca Stillitano\, opera da molti anni per sensibilizzare i bambini ai temi della Sicurezza Stradale attraverso l’Associazione ASD – Federitalia Scuola Acrobatica di Mountain Bike e Frisbee\, con l’obiettivo di aiutare i più piccoli ad affrontare fin dalla tenera età i pericoli della strada con maggiore consapevolezza e disinvoltura. \nDomenica 22 marzo e domenica 29 marzo dalle ore 10:00 alle ore 13:00 Cento Incroci ospita le due lezioni gratuite dell’ Associazione ASD – Federitalia Scuola Acrobatica di Mountain Bike e Frisbee\, rivolte ai bambini dai 5 anni in su\, durante le quali le tematiche della sicurezza stradale verranno affrontate in modo ludico e coinvolgente. \nIngresso libero fino a esaurimento posti.\nInfo e prenotazioni: Tel. 3665616955 \nAssociazione ASD – Federitalia\nScuola Acrobatica di Mountain Bike e Frisbee\nRiconosciuta dal CONI \n 
URL:https://centoincroci.regione.lazio.it/evento/corso-gratuito-sulla-sicurezza-stradale-per-bambini-dai-5-anni-in-su-2-2/
CATEGORIES:I Laboratori
ATTACH;FMTTYPE=image/jpeg:https://centoincroci.regione.lazio.it/app/uploads/2026/03/LOCANDINA-MODIFIC.jpg
END:VEVENT
BEGIN:VEVENT
DTSTART;TZID=Europe/Rome:20260322T100000
DTEND;TZID=Europe/Rome:20260322T200000
DTSTAMP:20260421T023201
CREATED:20260223T121343Z
LAST-MODIFIED:20260227T112347Z
UID:10003443-1774173600-1774209600@centoincroci.regione.lazio.it
SUMMARY:Spazio coworking – orari
DESCRIPTION:Disponibilità dello spazio coworking\, fruibile gratuitamente.
URL:https://centoincroci.regione.lazio.it/evento/spazio-coworking-orari-6/2026-03-22/
CATEGORIES:Leggiamo insieme
ATTACH;FMTTYPE=image/jpeg:https://centoincroci.regione.lazio.it/app/uploads/2026/01/cento.jpg
END:VEVENT
END:VCALENDAR