BEGIN:VCALENDAR
VERSION:2.0
PRODID:-//Cento incroci - ECPv6.8.3//NONSGML v1.0//EN
CALSCALE:GREGORIAN
METHOD:PUBLISH
X-WR-CALNAME:Cento incroci
X-ORIGINAL-URL:https://centoincroci.regione.lazio.it
X-WR-CALDESC:Eventi per Cento incroci
REFRESH-INTERVAL;VALUE=DURATION:PT1H
X-Robots-Tag:noindex
X-PUBLISHED-TTL:PT1H
BEGIN:VTIMEZONE
TZID:Europe/Rome
BEGIN:DAYLIGHT
TZOFFSETFROM:+0100
TZOFFSETTO:+0200
TZNAME:CEST
DTSTART:20260329T010000
END:DAYLIGHT
BEGIN:STANDARD
TZOFFSETFROM:+0200
TZOFFSETTO:+0100
TZNAME:CET
DTSTART:20261025T010000
END:STANDARD
END:VTIMEZONE
BEGIN:VEVENT
DTSTART;TZID=Europe/Rome:20260213T090000
DTEND;TZID=Europe/Rome:20260213T170000
DTSTAMP:20260421T004503
CREATED:20260206T125151Z
LAST-MODIFIED:20260206T130506Z
UID:10003176-1770973200-1771002000@centoincroci.regione.lazio.it
SUMMARY:Spazio coworking - dalle ore 9 alle ore 17.00
DESCRIPTION:Disponibilità dello spazio coworking\, fruibile gratuitamente nelle orari indicati\nSi ricorda che gli orari dello spazio coworking sono suscettibili di variazioni\, in base al calendario degli eventi. \nPer maggiori info 3665616955
URL:https://centoincroci.regione.lazio.it/evento/spazio-coworking-dalle-ore-9-alle-ore-16-30-2/2026-02-13/
CATEGORIES:Incontri
ATTACH;FMTTYPE=image/jpeg:https://centoincroci.regione.lazio.it/app/uploads/2024/04/339737201_1384829545390398_5164164649820751090_n.jpg
END:VEVENT
BEGIN:VEVENT
DTSTART;TZID=Europe/Rome:20260213T170000
DTEND;TZID=Europe/Rome:20260213T200000
DTSTAMP:20260421T004503
CREATED:20251128T100628Z
LAST-MODIFIED:20260130T140200Z
UID:10003235-1771002000-1771012800@centoincroci.regione.lazio.it
SUMMARY:Corso di Italiano per stranieri livello base e avanzato
DESCRIPTION:Ogni venerdì dalle ore 17 alle ore 20 Cento Incroci ospita un corso di Italiano per stranieri livello base e avanzato.\nCorso gratuito\, previa prenotazione. \nPrenotazioni tramite telefono o whatsapp al numero 3665616955
URL:https://centoincroci.regione.lazio.it/evento/corso-di-italiano-per-stranieri-livello-base-e-avanzato/2026-02-13/
ATTACH;FMTTYPE=image/jpeg:https://centoincroci.regione.lazio.it/app/uploads/2024/06/Corso-italiano-per-stranieri.jpg
END:VEVENT
END:VCALENDAR