BEGIN:VCALENDAR
VERSION:2.0
PRODID:-//Cento incroci - ECPv6.8.3//NONSGML v1.0//EN
CALSCALE:GREGORIAN
METHOD:PUBLISH
X-WR-CALNAME:Cento incroci
X-ORIGINAL-URL:https://centoincroci.regione.lazio.it
X-WR-CALDESC:Eventi per Cento incroci
REFRESH-INTERVAL;VALUE=DURATION:PT1H
X-Robots-Tag:noindex
X-PUBLISHED-TTL:PT1H
BEGIN:VTIMEZONE
TZID:Europe/Rome
BEGIN:DAYLIGHT
TZOFFSETFROM:+0100
TZOFFSETTO:+0200
TZNAME:CEST
DTSTART:20260329T010000
END:DAYLIGHT
BEGIN:STANDARD
TZOFFSETFROM:+0200
TZOFFSETTO:+0100
TZNAME:CET
DTSTART:20261025T010000
END:STANDARD
END:VTIMEZONE
BEGIN:VEVENT
DTSTART;TZID=Europe/Rome:20260126T090000
DTEND;TZID=Europe/Rome:20260126T170000
DTSTAMP:20260420T225159
CREATED:20260121T122559Z
LAST-MODIFIED:20260121T122559Z
UID:10002545-1769418000-1769446800@centoincroci.regione.lazio.it
SUMMARY:Spazio coworking - 26 gennaio dalle ore 9 alle ore 17
DESCRIPTION:Disponibilità dello spazio coworking\, fruibile gratuitamente nelle orari indicati\nSi ricorda che gli orari dello spazio coworking sono suscettibili di variazioni\, in base al calendario degli eventi. \nPer maggiori info 3665616955
URL:https://centoincroci.regione.lazio.it/evento/spazio-coworking-26-gennaio-dalle-ore-9-alle-ore-17/
CATEGORIES:Incontri
ATTACH;FMTTYPE=image/jpeg:https://centoincroci.regione.lazio.it/app/uploads/2024/04/339737201_1384829545390398_5164164649820751090_n.jpg
END:VEVENT
BEGIN:VEVENT
DTSTART;TZID=Europe/Rome:20260126T170000
DTEND;TZID=Europe/Rome:20260126T183000
DTSTAMP:20260420T225159
CREATED:20260121T121903Z
LAST-MODIFIED:20260121T121903Z
UID:10002537-1769446800-1769452200@centoincroci.regione.lazio.it
SUMMARY:Spazio mamme
DESCRIPTION:Dalle ore 17 alle 18.30 Cento Incontri ospita “Spazio mamme“\, un corso di supporto e condivisione dedicato alle mamme\, dando consigli pratici e supporti per scoprire come prendersi cura di stessa e del bambino. \nCorso gratuito\, previa prenotazione. \nPrenotazioni tramite telefono o whatsapp al numero 3665616955
URL:https://centoincroci.regione.lazio.it/evento/spazio-mamme-3/
CATEGORIES:Incontri
ATTACH;FMTTYPE=image/jpeg:https://centoincroci.regione.lazio.it/app/uploads/2025/09/vista-dall-alto-della-bambina-che-mette-le-mani-nelle-mani-del-padre-scaled.jpg
END:VEVENT
END:VCALENDAR