BEGIN:VCALENDAR
VERSION:2.0
PRODID:-//Cento incroci - ECPv6.8.3//NONSGML v1.0//EN
CALSCALE:GREGORIAN
METHOD:PUBLISH
X-WR-CALNAME:Cento incroci
X-ORIGINAL-URL:https://centoincroci.regione.lazio.it
X-WR-CALDESC:Eventi per Cento incroci
REFRESH-INTERVAL;VALUE=DURATION:PT1H
X-Robots-Tag:noindex
X-PUBLISHED-TTL:PT1H
BEGIN:VTIMEZONE
TZID:Europe/Rome
BEGIN:DAYLIGHT
TZOFFSETFROM:+0100
TZOFFSETTO:+0200
TZNAME:CEST
DTSTART:20260329T010000
END:DAYLIGHT
BEGIN:STANDARD
TZOFFSETFROM:+0200
TZOFFSETTO:+0100
TZNAME:CET
DTSTART:20261025T010000
END:STANDARD
END:VTIMEZONE
BEGIN:VEVENT
DTSTART;TZID=Europe/Rome:20260117T160000
DTEND;TZID=Europe/Rome:20260117T180000
DTSTAMP:20260420T225152
CREATED:20260113T093353Z
LAST-MODIFIED:20260113T093354Z
UID:10002535-1768665600-1768672800@centoincroci.regione.lazio.it
SUMMARY:Prove generali spettacolo con i bambini del corso di teatro
DESCRIPTION:Nella giornata di sabato 17 gennaio\, dalle ore 16 alle 18\, si terranno le prove generali per lo spettacolo di teatro con i bambini che hanno frequentato il laboratorio di teatro presso Cento Incroci. \nLo spettacolo finale si terrà il giorno 1 febbraio
URL:https://centoincroci.regione.lazio.it/evento/prove-generali-spettacolo-con-i-bambini-del-corso-di-teatro/
CATEGORIES:Incontri
ATTACH;FMTTYPE=image/jpeg:https://centoincroci.regione.lazio.it/app/uploads/2025/01/laboratorio-teatrale.jpg
END:VEVENT
END:VCALENDAR