BEGIN:VCALENDAR
VERSION:2.0
PRODID:-//Cento incroci - ECPv6.8.3//NONSGML v1.0//EN
CALSCALE:GREGORIAN
METHOD:PUBLISH
X-WR-CALNAME:Cento incroci
X-ORIGINAL-URL:https://centoincroci.regione.lazio.it
X-WR-CALDESC:Eventi per Cento incroci
REFRESH-INTERVAL;VALUE=DURATION:PT1H
X-Robots-Tag:noindex
X-PUBLISHED-TTL:PT1H
BEGIN:VTIMEZONE
TZID:Europe/Rome
BEGIN:DAYLIGHT
TZOFFSETFROM:+0100
TZOFFSETTO:+0200
TZNAME:CEST
DTSTART:20260329T010000
END:DAYLIGHT
BEGIN:STANDARD
TZOFFSETFROM:+0200
TZOFFSETTO:+0100
TZNAME:CET
DTSTART:20261025T010000
END:STANDARD
END:VTIMEZONE
BEGIN:VEVENT
DTSTART;TZID=Europe/Rome:20260104T160000
DTEND;TZID=Europe/Rome:20260104T200000
DTSTAMP:20260420T210932
CREATED:20251210T132607Z
LAST-MODIFIED:20251210T132917Z
UID:10002467-1767542400-1767556800@centoincroci.regione.lazio.it
SUMMARY:Tombolata del riciclo e del riuso
DESCRIPTION:Domenica 4 gennaio dalle 16 alle 20 si terrà presso Cento Incroci una Tombolata del riciclo e del riuso\, pensata per coinvolgere famiglie e ragazzi con fragilità. Il tabellone non seguirà la tradizionale Smorfia napoletana\, ma proporrà frasi ispirate a temi ambientali. Non è previsto l’uso di denaro: ogni partecipante porterà un piccolo regalo indesiderato\, da incartare e mettere in palio\, così da favorire il riuso e l’effetto sorpresa al momento della vincita. \nL’iniziativa è realizzata da Retake Roma Centocelle \nInformazioni tramite telefono o whatsapp al numero 3665616955
URL:https://centoincroci.regione.lazio.it/evento/tombolata-del-riciclo-e-del-riuso/
CATEGORIES:Incontri
ATTACH;FMTTYPE=image/jpeg:https://centoincroci.regione.lazio.it/app/uploads/2025/12/Rosso-Illustrato-Gatto-Natale-Festa-Evento-Volantino-1.jpg
END:VEVENT
END:VCALENDAR