BEGIN:VCALENDAR
VERSION:2.0
PRODID:-//Cento incroci - ECPv6.8.3//NONSGML v1.0//EN
CALSCALE:GREGORIAN
METHOD:PUBLISH
X-WR-CALNAME:Cento incroci
X-ORIGINAL-URL:https://centoincroci.regione.lazio.it
X-WR-CALDESC:Eventi per Cento incroci
REFRESH-INTERVAL;VALUE=DURATION:PT1H
X-Robots-Tag:noindex
X-PUBLISHED-TTL:PT1H
BEGIN:VTIMEZONE
TZID:Europe/Rome
BEGIN:DAYLIGHT
TZOFFSETFROM:+0100
TZOFFSETTO:+0200
TZNAME:CEST
DTSTART:20250330T010000
END:DAYLIGHT
BEGIN:STANDARD
TZOFFSETFROM:+0200
TZOFFSETTO:+0100
TZNAME:CET
DTSTART:20251026T010000
END:STANDARD
END:VTIMEZONE
BEGIN:VEVENT
DTSTART;VALUE=DATE:20251208
DTEND;VALUE=DATE:20251209
DTSTAMP:20260420T210946
CREATED:20251128T100312Z
LAST-MODIFIED:20251128T100313Z
UID:10002450-1765152000-1765238399@centoincroci.regione.lazio.it
SUMMARY:Chiusure Cento Incroci per festività
DESCRIPTION:Si comunica che nelle seguenti giornate Cento Incroci resterà chiuso per festività: \n8 Dicembre  \n25 e 26  Dicembre  \n1 e 6 Gennaio. \n 
URL:https://centoincroci.regione.lazio.it/evento/chiusure-cento-incroci-per-festivita/
CATEGORIES:Incontri
END:VEVENT
END:VCALENDAR