BEGIN:VCALENDAR
VERSION:2.0
PRODID:-//Cento incroci - ECPv6.8.3//NONSGML v1.0//EN
CALSCALE:GREGORIAN
METHOD:PUBLISH
X-WR-CALNAME:Cento incroci
X-ORIGINAL-URL:https://centoincroci.regione.lazio.it
X-WR-CALDESC:Eventi per Cento incroci
REFRESH-INTERVAL;VALUE=DURATION:PT1H
X-Robots-Tag:noindex
X-PUBLISHED-TTL:PT1H
BEGIN:VTIMEZONE
TZID:Europe/Rome
BEGIN:DAYLIGHT
TZOFFSETFROM:+0100
TZOFFSETTO:+0200
TZNAME:CEST
DTSTART:20250330T010000
END:DAYLIGHT
BEGIN:STANDARD
TZOFFSETFROM:+0200
TZOFFSETTO:+0100
TZNAME:CET
DTSTART:20251026T010000
END:STANDARD
END:VTIMEZONE
BEGIN:VEVENT
DTSTART;TZID=Europe/Rome:20251011T173000
DTEND;TZID=Europe/Rome:20251011T183000
DTSTAMP:20260420T211009
CREATED:20250918T142823Z
LAST-MODIFIED:20250918T142824Z
UID:10002330-1760203800-1760207400@centoincroci.regione.lazio.it
SUMMARY:Presentazione del libro "Mediterraneo e dintorni" di Claudio Lugi
DESCRIPTION:Sabato 11 ottobre 2025\, alle ore 17:30\, presso Cento Incroci (Via delle Palme\, 158)\, si terrà la presentazione del libro Mediterraneo e dintorni di Claudio Lugi. \nDialogheranno con l’autore Moreno Celletti e Marino Sassi\, con la collaborazione tecnica di Moreno Celletti e Chiara Marasà e le scenografie a cura di Marino Sassi. \nLa serata sarà arricchita dalla lettura di alcune composizioni\, un dibattito aperto con il pubblico e una sessione di firmacopie. \n📍 Cento Incroci – Via delle Palme\, 158\n📞 366 561 6955\n📧 centoincroci@laziocrea.it \nLocandina evento (cliccabile)
URL:https://centoincroci.regione.lazio.it/evento/presentazione-del-libro-mediterraneo-e-dintorni-di-claudio-lugi/
CATEGORIES:Incontri
ATTACH;FMTTYPE=image/jpeg:https://centoincroci.regione.lazio.it/app/uploads/2025/09/Locandina-libro-Cento-Incroci-scaled.jpg
END:VEVENT
END:VCALENDAR