BEGIN:VCALENDAR
VERSION:2.0
PRODID:-//Cento incroci - ECPv6.8.3//NONSGML v1.0//EN
CALSCALE:GREGORIAN
METHOD:PUBLISH
X-WR-CALNAME:Cento incroci
X-ORIGINAL-URL:https://centoincroci.regione.lazio.it
X-WR-CALDESC:Eventi per Cento incroci
REFRESH-INTERVAL;VALUE=DURATION:PT1H
X-Robots-Tag:noindex
X-PUBLISHED-TTL:PT1H
BEGIN:VTIMEZONE
TZID:Europe/Rome
BEGIN:DAYLIGHT
TZOFFSETFROM:+0100
TZOFFSETTO:+0200
TZNAME:CEST
DTSTART:20250330T010000
END:DAYLIGHT
BEGIN:STANDARD
TZOFFSETFROM:+0200
TZOFFSETTO:+0100
TZNAME:CET
DTSTART:20251026T010000
END:STANDARD
END:VTIMEZONE
BEGIN:VEVENT
DTSTART;TZID=Europe/Rome:20250922T090000
DTEND;TZID=Europe/Rome:20250922T180000
DTSTAMP:20260420T225157
CREATED:20250702T122145Z
LAST-MODIFIED:20250702T123345Z
UID:10001548-1758531600-1758564000@centoincroci.regione.lazio.it
SUMMARY:Spazio coworking - orari
DESCRIPTION:Disponibilità dello spazio coworking\, fruibile gratuitamente nei seguenti orari\nlunedì dalle 9 alle 18\ndal martedì al venerdì dalle 9 alle 20\n sabato e domenica dalle 10 alle 20 \nPer maggiori info 3665616955
URL:https://centoincroci.regione.lazio.it/evento/spazio-coworking-orari-2/2025-09-22/
CATEGORIES:Incontri
ATTACH;FMTTYPE=image/jpeg:https://centoincroci.regione.lazio.it/app/uploads/2024/04/339737201_1384829545390398_5164164649820751090_n.jpg
END:VEVENT
BEGIN:VEVENT
DTSTART;TZID=Europe/Rome:20250922T170000
DTEND;TZID=Europe/Rome:20250922T180000
DTSTAMP:20260420T225157
CREATED:20250908T083415Z
LAST-MODIFIED:20250908T083416Z
UID:10002268-1758560400-1758564000@centoincroci.regione.lazio.it
SUMMARY:Spazio mamme
DESCRIPTION:Lunedì 22 settembre dalle ore 17 alle 18 Cento Incontri ospita “Spazio mamme”\, un corso di supporto e condivisione dedicato alle mamme\, dando consigli pratici e supporti per scoprire come prendersi cura di stessa e del bambino. \nCorso gratuito\, previa prenotazione. \nPrenotazioni tramite telefono o whatsapp al numero 3665616955
URL:https://centoincroci.regione.lazio.it/evento/spazio-mamme-2/
CATEGORIES:Incontri
ATTACH;FMTTYPE=image/jpeg:https://centoincroci.regione.lazio.it/app/uploads/2025/09/vista-dall-alto-della-bambina-che-mette-le-mani-nelle-mani-del-padre-scaled.jpg
END:VEVENT
END:VCALENDAR