BEGIN:VCALENDAR
VERSION:2.0
PRODID:-//Cento incroci - ECPv6.8.3//NONSGML v1.0//EN
CALSCALE:GREGORIAN
METHOD:PUBLISH
X-WR-CALNAME:Cento incroci
X-ORIGINAL-URL:https://centoincroci.regione.lazio.it
X-WR-CALDESC:Eventi per Cento incroci
REFRESH-INTERVAL;VALUE=DURATION:PT1H
X-Robots-Tag:noindex
X-PUBLISHED-TTL:PT1H
BEGIN:VTIMEZONE
TZID:Europe/Rome
BEGIN:DAYLIGHT
TZOFFSETFROM:+0100
TZOFFSETTO:+0200
TZNAME:CEST
DTSTART:20250330T010000
END:DAYLIGHT
BEGIN:STANDARD
TZOFFSETFROM:+0200
TZOFFSETTO:+0100
TZNAME:CET
DTSTART:20251026T010000
END:STANDARD
END:VTIMEZONE
BEGIN:VEVENT
DTSTART;TZID=Europe/Rome:20250523T170000
DTEND;TZID=Europe/Rome:20250523T200000
DTSTAMP:20260421T053845
CREATED:20250507T072040Z
LAST-MODIFIED:20250507T072041Z
UID:10000914-1748019600-1748030400@centoincroci.regione.lazio.it
SUMMARY:Corso di italiano per stranieri
DESCRIPTION:Ogni venerdì dalle ore 17 alle ore 20 Cento Incroci ospita un corso di Italiano per stranieri livello base e avanzato svolto da Pina Frattale ente ANPI.\nCorso gratuito\, previa prenotazione. \nPrenotazioni tramite telefono o whatsapp al numero 3665616955
URL:https://centoincroci.regione.lazio.it/evento/corso-di-italiano-per-stranieri-35/
CATEGORIES:I Laboratori
ATTACH;FMTTYPE=image/jpeg:https://centoincroci.regione.lazio.it/app/uploads/2024/06/Corso-italiano-per-stranieri.jpg
END:VEVENT
END:VCALENDAR