BEGIN:VCALENDAR
VERSION:2.0
PRODID:-//Cento incroci - ECPv6.8.3//NONSGML v1.0//EN
CALSCALE:GREGORIAN
METHOD:PUBLISH
X-WR-CALNAME:Cento incroci
X-ORIGINAL-URL:https://centoincroci.regione.lazio.it
X-WR-CALDESC:Eventi per Cento incroci
REFRESH-INTERVAL;VALUE=DURATION:PT1H
X-Robots-Tag:noindex
X-PUBLISHED-TTL:PT1H
BEGIN:VTIMEZONE
TZID:Europe/Rome
BEGIN:DAYLIGHT
TZOFFSETFROM:+0100
TZOFFSETTO:+0200
TZNAME:CEST
DTSTART:20240331T010000
END:DAYLIGHT
BEGIN:STANDARD
TZOFFSETFROM:+0200
TZOFFSETTO:+0100
TZNAME:CET
DTSTART:20241027T010000
END:STANDARD
END:VTIMEZONE
BEGIN:VEVENT
DTSTART;VALUE=DATE:20241225
DTEND;VALUE=DATE:20241227
DTSTAMP:20260421T180746
CREATED:20241218T153925Z
LAST-MODIFIED:20241218T153941Z
UID:10001105-1735084800-1735257599@centoincroci.regione.lazio.it
SUMMARY:Chiusura Festività Cento Incroci
DESCRIPTION:Nelle giornate del 25\, 26 dicembre e 1 e 6 gennaio Cento Incroci resterà chiuso per le festività di Natale
URL:https://centoincroci.regione.lazio.it/evento/chiusura-festiva-cento-incroci/
CATEGORIES:Incontri
ATTACH;FMTTYPE=image/jpeg:https://centoincroci.regione.lazio.it/app/uploads/2021/01/image00001-scaled.jpeg
END:VEVENT
END:VCALENDAR