BEGIN:VCALENDAR
VERSION:2.0
PRODID:-//Cento incroci - ECPv6.8.3//NONSGML v1.0//EN
CALSCALE:GREGORIAN
METHOD:PUBLISH
X-WR-CALNAME:Cento incroci
X-ORIGINAL-URL:https://centoincroci.regione.lazio.it
X-WR-CALDESC:Eventi per Cento incroci
REFRESH-INTERVAL;VALUE=DURATION:PT1H
X-Robots-Tag:noindex
X-PUBLISHED-TTL:PT1H
BEGIN:VTIMEZONE
TZID:Europe/Rome
BEGIN:DAYLIGHT
TZOFFSETFROM:+0100
TZOFFSETTO:+0200
TZNAME:CEST
DTSTART:20240331T010000
END:DAYLIGHT
BEGIN:STANDARD
TZOFFSETFROM:+0200
TZOFFSETTO:+0100
TZNAME:CET
DTSTART:20241027T010000
END:STANDARD
END:VTIMEZONE
BEGIN:VEVENT
DTSTART;TZID=Europe/Rome:20241221T080000
DTEND;TZID=Europe/Rome:20241221T200000
DTSTAMP:20260421T162831
CREATED:20241218T154225Z
LAST-MODIFIED:20241218T155443Z
UID:10000880-1734768000-1734811200@centoincroci.regione.lazio.it
SUMMARY:Spazio coworking
DESCRIPTION:Disponibilità dello spazio coworking\, fruibile gratuitamente. \nPer maggiori info 3665616955
URL:https://centoincroci.regione.lazio.it/evento/spazio-coworking-5/
CATEGORIES:Incontri
ATTACH;FMTTYPE=image/jpeg:https://centoincroci.regione.lazio.it/app/uploads/2024/04/339737201_1384829545390398_5164164649820751090_n.jpg
END:VEVENT
END:VCALENDAR