BEGIN:VCALENDAR
VERSION:2.0
PRODID:-//Cento incroci - ECPv6.8.3//NONSGML v1.0//EN
CALSCALE:GREGORIAN
METHOD:PUBLISH
X-ORIGINAL-URL:https://centoincroci.regione.lazio.it
X-WR-CALDESC:Eventi per Cento incroci
REFRESH-INTERVAL;VALUE=DURATION:PT1H
X-Robots-Tag:noindex
X-PUBLISHED-TTL:PT1H
BEGIN:VTIMEZONE
TZID:Europe/Rome
BEGIN:DAYLIGHT
TZOFFSETFROM:+0100
TZOFFSETTO:+0200
TZNAME:CEST
DTSTART:20240331T010000
END:DAYLIGHT
BEGIN:STANDARD
TZOFFSETFROM:+0200
TZOFFSETTO:+0100
TZNAME:CET
DTSTART:20241027T010000
END:STANDARD
END:VTIMEZONE
BEGIN:VEVENT
DTSTART;TZID=Europe/Rome:20241120T170000
DTEND;TZID=Europe/Rome:20241120T180000
DTSTAMP:20260421T194207
CREATED:20241104T091554Z
LAST-MODIFIED:20241104T091555Z
UID:10001091-1732122000-1732125600@centoincroci.regione.lazio.it
SUMMARY:Sostegno ragazzi scuole medie
DESCRIPTION:Cento Incroci offre un servizio di sostegno e aiuto compiti rivolto ai ragazzi delle scuole medie. Il corso si terrà ogni mercoledì dalle 17:00 alle 18:00. \nIl corso è aperto a tutti gli studenti delle scuole medie che desiderano ricevere un sostegno extra nello studio\, e si svolgerà presso gli spazi di Cento Incroci. \nPrenotazioni tramite telefono o whatsapp al numero 3665616955
URL:https://centoincroci.regione.lazio.it/evento/sostegno-ragazzi-scuole-medie-6/
CATEGORIES:I Laboratori
ATTACH;FMTTYPE=image/jpeg:https://centoincroci.regione.lazio.it/app/uploads/2024/09/top-view-desk-with-child-being-tutored_23-2148524522.jpg
END:VEVENT
BEGIN:VEVENT
DTSTART;TZID=Europe/Rome:20241120T180000
DTEND;TZID=Europe/Rome:20241120T200000
DTSTAMP:20260421T194207
CREATED:20241104T085929Z
LAST-MODIFIED:20241104T094541Z
UID:10001087-1732125600-1732132800@centoincroci.regione.lazio.it
SUMMARY:Corso di uncinetto - creazioni natalizie
DESCRIPTION:Ogni mercoledì\, a partire dal 20 novembre\, Cento Incroci ospita un Corso di uncinetto dedicato alle creazioni natalizie alle ore 18 fino alle 20. \nIngresso libero\, su prenotazione\, fino ad esaurimento posti. \nPer prenotazioni scrivici su WhatsApp 3665616955
URL:https://centoincroci.regione.lazio.it/evento/corso-di-uncinetto-creazioni-natalizie/
CATEGORIES:I Laboratori
ATTACH;FMTTYPE=image/jpeg:https://centoincroci.regione.lazio.it/app/uploads/2024/11/IMG-20240826-WA0059-e1730713529165.jpg
END:VEVENT
END:VCALENDAR