BEGIN:VCALENDAR
VERSION:2.0
PRODID:-//Cento incroci - ECPv6.8.3//NONSGML v1.0//EN
CALSCALE:GREGORIAN
METHOD:PUBLISH
X-ORIGINAL-URL:https://centoincroci.regione.lazio.it
X-WR-CALDESC:Eventi per Cento incroci
REFRESH-INTERVAL;VALUE=DURATION:PT1H
X-Robots-Tag:noindex
X-PUBLISHED-TTL:PT1H
BEGIN:VTIMEZONE
TZID:Europe/Rome
BEGIN:DAYLIGHT
TZOFFSETFROM:+0100
TZOFFSETTO:+0200
TZNAME:CEST
DTSTART:20240331T010000
END:DAYLIGHT
BEGIN:STANDARD
TZOFFSETFROM:+0200
TZOFFSETTO:+0100
TZNAME:CET
DTSTART:20241027T010000
END:STANDARD
END:VTIMEZONE
BEGIN:VEVENT
DTSTART;TZID=Europe/Rome:20241030T170000
DTEND;TZID=Europe/Rome:20241030T180000
DTSTAMP:20260421T194208
CREATED:20240923T064354Z
LAST-MODIFIED:20240923T064355Z
UID:10001083-1730307600-1730311200@centoincroci.regione.lazio.it
SUMMARY:Sostegno ragazzi scuole medie
DESCRIPTION:A partire dal 9 ottobre\, Cento Incroci offre un servizio di sostegno e aiuto compiti rivolto ai ragazzi delle scuole medie. Il corso si terrà ogni mercoledì dalle 17:00 alle 18:00\, per un totale di quattro lezioni. \nIl corso è aperto a tutti gli studenti delle scuole medie che desiderano ricevere un sostegno extra nello studio\, e si svolgerà presso gli spazi di Cento Incroci. \n\nPrenotazioni tramite telefono o whatsapp al numero 3665616955
URL:https://centoincroci.regione.lazio.it/evento/sostegno-ragazzi-scuole-medie-3/
CATEGORIES:I Laboratori
ATTACH;FMTTYPE=image/jpeg:https://centoincroci.regione.lazio.it/app/uploads/2024/09/top-view-desk-with-child-being-tutored_23-2148524522.jpg
END:VEVENT
BEGIN:VEVENT
DTSTART;TZID=Europe/Rome:20241030T180000
DTEND;TZID=Europe/Rome:20241030T200000
DTSTAMP:20260421T194208
CREATED:20240924T104023Z
LAST-MODIFIED:20240924T104023Z
UID:10000865-1730311200-1730318400@centoincroci.regione.lazio.it
SUMMARY:Pittura con gessetti a olio
DESCRIPTION:Cento Incroci ospita il corso di pittura con gessetti a olio\, aperto a partecipanti di tutte le età e livelli di esperienza. Le lezioni si terranno ogni mercoledì dalle 18:00 alle 20:00\, in un ambiente accogliente e creativo. \nDurante il corso\, i partecipanti avranno l’opportunità di esplorare la tecnica dei gessetti a olio\, imparando a creare opere e lavori con le proprie mani. \n  \nPrenotazioni tramite telefono o whatsapp al numero 3665616955
URL:https://centoincroci.regione.lazio.it/evento/pittura-con-gessetti-a-olio-4/
CATEGORIES:I Laboratori
ATTACH;FMTTYPE=image/png:https://centoincroci.regione.lazio.it/app/uploads/2024/09/csm_Softpastell-Milieu_fbc0ae3af5.png
END:VEVENT
END:VCALENDAR