BEGIN:VCALENDAR
VERSION:2.0
PRODID:-//Cento incroci - ECPv6.8.3//NONSGML v1.0//EN
CALSCALE:GREGORIAN
METHOD:PUBLISH
X-WR-CALNAME:Cento incroci
X-ORIGINAL-URL:https://centoincroci.regione.lazio.it
X-WR-CALDESC:Eventi per Cento incroci
REFRESH-INTERVAL;VALUE=DURATION:PT1H
X-Robots-Tag:noindex
X-PUBLISHED-TTL:PT1H
BEGIN:VTIMEZONE
TZID:Europe/Rome
BEGIN:DAYLIGHT
TZOFFSETFROM:+0100
TZOFFSETTO:+0200
TZNAME:CEST
DTSTART:20240331T010000
END:DAYLIGHT
BEGIN:STANDARD
TZOFFSETFROM:+0200
TZOFFSETTO:+0100
TZNAME:CET
DTSTART:20241027T010000
END:STANDARD
END:VTIMEZONE
BEGIN:VEVENT
DTSTART;TZID=Europe/Rome:20241010T180000
DTEND;TZID=Europe/Rome:20241010T193000
DTSTAMP:20260421T211958
CREATED:20240917T075624Z
LAST-MODIFIED:20240917T075625Z
UID:10000855-1728583200-1728588600@centoincroci.regione.lazio.it
SUMMARY:Sessione di Mindfulness presso Cento Incroci
DESCRIPTION:Il 10 ottobre 2023\, dalle 18:00 alle 19:30\, Cento Incroci a Roma invita a partecipare a una sessione di Mindfulness\, un’occasione speciale per ritrovare il tuo equilibrio interiore e migliorare il tuo benessere psicofisico. \nLa pratica della Mindfulness\, che pone l’attenzione sul silenzio e sul respiro\, vi aiuterà a fermarvi\, ascoltare e osservare il tuo corpo e la tua mente\, permettendovi di riscoprire voi stessi nel presente. \nL’evento è organizzato da CTM Alternative di Alessandra Bianca e si terrà in un ambiente rilassato e accogliente presso Cento Incroci. \nPer maggiori informazioni e per prenotare il vostro posto\, contattare Alessandra al numero 334 283 7934. \nDove: Cento Incroci\, Roma\nQuando: Giovedì 10 ottobre 2023\, ore 18:00-19:30\nContatto: Alessandra – 334 283 7934
URL:https://centoincroci.regione.lazio.it/evento/sessione-di-mindfulness-presso-cento-incroci/
CATEGORIES:I Laboratori
ATTACH;FMTTYPE=image/jpeg:https://centoincroci.regione.lazio.it/app/uploads/2024/09/IMG-20240913-WA0052.jpg
END:VEVENT
END:VCALENDAR