BEGIN:VCALENDAR
VERSION:2.0
PRODID:-//Cento incroci - ECPv6.8.3//NONSGML v1.0//EN
CALSCALE:GREGORIAN
METHOD:PUBLISH
X-WR-CALNAME:Cento incroci
X-ORIGINAL-URL:https://centoincroci.regione.lazio.it
X-WR-CALDESC:Eventi per Cento incroci
REFRESH-INTERVAL;VALUE=DURATION:PT1H
X-Robots-Tag:noindex
X-PUBLISHED-TTL:PT1H
BEGIN:VTIMEZONE
TZID:Europe/Rome
BEGIN:DAYLIGHT
TZOFFSETFROM:+0100
TZOFFSETTO:+0200
TZNAME:CEST
DTSTART:20240331T010000
END:DAYLIGHT
BEGIN:STANDARD
TZOFFSETFROM:+0200
TZOFFSETTO:+0100
TZNAME:CET
DTSTART:20241027T010000
END:STANDARD
END:VTIMEZONE
BEGIN:VEVENT
DTSTART;TZID=Europe/Rome:20241005T170000
DTEND;TZID=Europe/Rome:20241005T180000
DTSTAMP:20260421T211958
CREATED:20240917T074001Z
LAST-MODIFIED:20240924T075418Z
UID:10000852-1728147600-1728151200@centoincroci.regione.lazio.it
SUMMARY:Presentazione del Romanzo "Intonaco - Ombre su Massimina" di Emanuele Parlati
DESCRIPTION:Il 5 ottobre 2024\, dalle 17:00 alle 18:00\, si terrà la presentazione ufficiale del romanzo “Intonaco – Ombre su Massimina”\, scritto da Emanuele Parlati e pubblicato dalla casa editrice Scatole Parlanti. L’evento avrà luogo presso la Cooperativa Sociale “Mio Fratello è figlio unico”\, situata in Via A. Santini 14 A/C\, nella borgata di Massimina\, una delle periferie occidentali di Roma. \nIl romanzo\, ambientato proprio nel cuore di questa borgata\, narra di una comunità periferica segnata da due tragici eventi accaduti a vent’anni di distanza l’uno dall’altro. La trama segue le vicende di personaggi comuni\, rappresentanti di un’umanità popolare e dimenticata\, il cui desiderio di emergere si intreccia con tensioni sotterranee che porteranno a un’esplosione inaspettata di dramma e conflitto. \nEmanuele Parlati\, nato a Bari il 4 febbraio 1976 e cresciuto a Roma\, ha trasposto nelle pagine del suo romanzo l’osservazione acuta di una realtà che ha vissuto in prima persona durante la sua infanzia. Avvocato civilista dal 2003\, Parlati ha anche un forte legame con il mondo della musica\, dove ha lavorato come strumentista\, autore e produttore. \nL’ingresso all’evento è gratuito e sarà possibile ascoltare l’autore parlare della sua opera\, accompagnato dalla relatrice Irene Maruccio. Per ulteriori informazioni\, è possibile contattare il numero 347 2406053. \nUn’occasione imperdibile per scoprire un nuovo talento della letteratura contemporanea italiana e immergersi nelle atmosfere uniche della borgata romana di Massimina.
URL:https://centoincroci.regione.lazio.it/evento/presentazione-del-romanzo-intonaco-ombre-su-massimina-di-emanuele-parlati/
CATEGORIES:Incontri
ATTACH;FMTTYPE=image/jpeg:https://centoincroci.regione.lazio.it/app/uploads/2024/09/Copertina-e1726558937191.jpg
END:VEVENT
END:VCALENDAR